Workbook

Sheet startovka
A1: Plamen
A2: startovní číslo | B2: Kategorie: mladší
B3: Družstvo
A4: =IF(B4="","",1) -> 1 | B4: Frenštát p. R.
A6: =IF(B6="","",MAX(A$4:A4)+1) -> 2 | B6: Tísek "A"
A8: =IF(B8="","",MAX(A$4:A6)+1) -> 3 | B8: Mniší
A10: =IF(B10="","",MAX(A$4:A8)+1) -> 4 | B10: Hájov
A12: =IF(B12="","",MAX(A$4:A10)+1) -> 5 | B12: Tísek "B"
A14: =IF(B14="","",MAX(A$4:A12)+1)
A16: =IF(B16="","",MAX(A$4:A14)+1)
A18: =IF(B18="","",MAX(A$4:A16)+1)
A20: =IF(B20="","",MAX(A$4:A18)+1)
A22: =IF(B22="","",MAX(A$4:A20)+1)
A24: =IF(B24="","",MAX(A$4:A22)+1)
A26: =IF(B26="","",MAX(A$4:A24)+1)
A28: =IF(B28="","",MAX(A$4:A26)+1)
A30: =IF(B30="","",MAX(A$4:A28)+1)
A32: =IF(B32="","",MAX(A$4:A30)+1)
A34: =IF(B34="","",MAX(A$4:A32)+1)
A36: =IF(B36="","",MAX(A$4:A34)+1)
... A82: =IF(B82="","",MAX(A$4:A80)+1)

Sheet PÚ
A1: Požární útok | D1: Dosažené časy | G1: Příčina neplatnosti pokusu (pokud není uveden je pokus platný nebo se předpokládá že družstvo k pokusu nenastoupilo) | H1: Výsledek
A2: =startovka!B2 -> Kategorie: mladší | D2: 1. časoměřič nebo levý terč | E2: 2. časoměřič nebo pravý terč | F2: 3. časoměřič | H2: =IF(SUM(D4:F83)=0,"čas ukončení pokusu", "Výsledný čas pokusu") -> Výsledný čas pokusu | I2: pořadí
A3: start. číslo | B3: Soutěžní družstvo
A4: =IF(startovka!A4="","",startovka!A4) -> 1 | B4: =IF(startovka!B4="","",startovka!B4) -> Frenštát p. R. | C4: 1pokus | D4: 20.77 | E4: 19.84 | H4: =IF(B4="","",IF(G4="",IF(SUM(D$4:F$583)=0,"",IF(SUM(D4:F4)=0,999,IF(F4="",MAX(D4:E4),LARGE(D4:F4,2)))),998)) -> 20.77 | I4: =IF(B4="","",výpočty!D4) -> 3
C5: 2pokus | D5: 21.13 | E5: 21.27 | H5: =IF(B4="","",IF(G5="",IF(SUM(D$4:F$83)=0,"",IF(SUM(D5:F5)=0,999,IF(F5="",MAX(D5:E5),LARGE(D5:F5,2)))),998)) -> 21.27
A6: =IF(startovka!A6="","",startovka!A6) -> 2 | B6: =IF(startovka!B6="","",startovka!B6) -> Tísek "A" | C6: 1pokus | D6: 33.11 | E6: 33.32 | H6: =IF(B6="","",IF(G6="",IF(SUM(D$4:F$583)=0,"",IF(SUM(D6:F6)=0,999,IF(F6="",MAX(D6:E6),LARGE(D6:F6,2)))),998)) -> 33.32 | I6: =IF(B6="","",výpočty!D6) -> 4
C7: 2pokus | G7: přešlap | H7: =IF(B6="","",IF(G7="",IF(SUM(D$4:F$83)=0,"",IF(SUM(D7:F7)=0,999,IF(F7="",MAX(D7:E7),LARGE(D7:F7,2)))),998)) -> 998
A8: =IF(startovka!A8="","",startovka!A8) -> 3 | B8: =IF(startovka!B8="","",startovka!B8) -> Mniší | C8: 1pokus | D8: 18.06 | E8: 17.26 | H8: =IF(B8="","",IF(G8="",IF(SUM(D$4:F$583)=0,"",IF(SUM(D8:F8)=0,999,IF(F8="",MAX(D8:E8),LARGE(D8:F8,2)))),998)) -> 18.06 | I8: =IF(B8="","",výpočty!D8) -> 1
C9: 2pokus | D9: 16.94 | E9: 16.8 | H9: =IF(B8="","",IF(G9="",IF(SUM(D$4:F$83)=0,"",IF(SUM(D9:F9)=0,999,IF(F9="",MAX(D9:E9),LARGE(D9:F9,2)))),998)) -> 16.94
A10: =IF(startovka!A10="","",startovka!A10) -> 4 | B10: =IF(startovka!B10="","",startovka!B10) -> Hájov | C10: 1pokus | D10: 16.26 | E10: 20.75 | H10: =IF(B10="","",IF(G10="",IF(SUM(D$4:F$583)=0,"",IF(SUM(D10:F10)=0,999,IF(F10="",MAX(D10:E10),LARGE(D10:F10,2)))),998)) -> 20.75 | I10: =IF(B10="","",výpočty!D10) -> 2
C11: 2pokus | D11: 17.63 | E11: 16.73 | H11: =IF(B10="","",IF(G11="",IF(SUM(D$4:F$83)=0,"",IF(SUM(D11:F11)=0,999,IF(F11="",MAX(D11:E11),LARGE(D11:F11,2)))),998)) -> 17.63
A12: =IF(startovka!A12="","",startovka!A12) -> 5 | B12: =IF(startovka!B12="","",startovka!B12) -> Tísek "B" | C12: 1pokus | D12: 110.33 | E12: 55.72 | H12: =IF(B12="","",IF(G12="",IF(SUM(D$4:F$583)=0,"",IF(SUM(D12:F12)=0,999,IF(F12="",MAX(D12:E12),LARGE(D12:F12,2)))),998)) -> 110.33 | I12: =IF(B12="","",výpočty!D12) -> 5
C13: 2pokus | D13: 60.36 | E13: 39.65 | H13: =IF(B12="","",IF(G13="",IF(SUM(D$4:F$83)=0,"",IF(SUM(D13:F13)=0,999,IF(F13="",MAX(D13:E13),LARGE(D13:F13,2)))),998)) -> 60.36
A14: =IF(startovka!A14="","",startovka!A14) | B14: =IF(startovka!B14="","",startovka!B14) | C14: 1pokus | H14: =IF(B14="","",IF(G14="",IF(SUM(D$4:F$583)=0,"",IF(SUM(D14:F14)=0,999,IF(F14="",MAX(D14:E14),LARGE(D14:F14,2)))),998)) | I14: =IF(B14="","",výpočty!D14)
C15: 2pokus | H15: =IF(B14="","",IF(G15="",IF(SUM(D$4:F$83)=0,"",IF(SUM(D15:F15)=0,999,IF(F15="",MAX(D15:E15),LARGE(D15:F15,2)))),998))
A16: =IF(startovka!A16="","",startovka!A16) | B16: =IF(startovka!B16="","",startovka!B16) | C16: 1pokus | H16: =IF(B16="","",IF(G16="",IF(SUM(D$4:F$583)=0,"",IF(SUM(D16:F16)=0,999,IF(F16="",MAX(D16:E16),LARGE(D16:F16,2)))),998)) | I16: =IF(B16="","",výpočty!D16)
C17: 2pokus | H17: =IF(B16="","",IF(G17="",IF(SUM(D$4:F$83)=0,"",IF(SUM(D17:F17)=0,999,IF(F17="",MAX(D17:E17),LARGE(D17:F17,2)))),998))
A18: =IF(startovka!A18="","",startovka!A18) | B18: =IF(startovka!B18="","",startovka!B18) | C18: 1pokus | H18: =IF(B18="","",IF(G18="",IF(SUM(D$4:F$583)=0,"",IF(SUM(D18:F18)=0,999,IF(F18="",MAX(D18:E18),LARGE(D18:F18,2)))),998)) | I18: =IF(B18="","",výpočty!D18)
C19: 2pokus | H19: =IF(B18="","",IF(G19="",IF(SUM(D$4:F$83)=0,"",IF(SUM(D19:F19)=0,999,IF(F19="",MAX(D19:E19),LARGE(D19:F19,2)))),998))
A20: =IF(startovka!A20="","",startovka!A20) | B20: =IF(startovka!B20="","",startovka!B20) | C20: 1pokus | H20: =IF(B20="","",IF(G20="",IF(SUM(D$4:F$583)=0,"",IF(SUM(D20:F20)=0,999,IF(F20="",MAX(D20:E20),LARGE(D20:F20,2)))),998)) | I20: =IF(B20="","",výpočty!D20)
C21: 2pokus | H21: =IF(B20="","",IF(G21="",IF(SUM(D$4:F$83)=0,"",IF(SUM(D21:F21)=0,999,IF(F21="",MAX(D21:E21),LARGE(D21:F21,2)))),998))
A22: =IF(startovka!A22="","",startovka!A22) | B22: =IF(startovka!B22="","",startovka!B22) | C22: 1pokus | H22: =IF(B22="","",IF(G22="",IF(SUM(D$4:F$583)=0,"",IF(SUM(D22:F22)=0,999,IF(F22="",MAX(D22:E22),LARGE(D22:F22,2)))),998)) | I22: =IF(B22="","",výpočty!D22)
C23: 2pokus | H23: =IF(B22="","",IF(G23="",IF(SUM(D$4:F$83)=0,"",IF(SUM(D23:F23)=0,999,IF(F23="",MAX(D23:E23),LARGE(D23:F23,2)))),998))
A24: =IF(startovka!A24="","",startovka!A24) | B24: =IF(startovka!B24="","",startovka!B24) | C24: 1pokus | H24: =IF(B24="","",IF(G24="",IF(SUM(D$4:F$583)=0,"",IF(SUM(D24:F24)=0,999,IF(F24="",MAX(D24:E24),LARGE(D24:F24,2)))),998)) | I24: =IF(B24="","",výpočty!D24)
C25: 2pokus | H25: =IF(B24="","",IF(G25="",IF(SUM(D$4:F$83)=0,"",IF(SUM(D25:F25)=0,999,IF(F25="",MAX(D25:E25),LARGE(D25:F25,2)))),998))
A26: =IF(startovka!A26="","",startovka!A26) | B26: =IF(startovka!B26="","",startovka!B26) | C26: 1pokus | H26: =IF(B26="","",IF(G26="",IF(SUM(D$4:F$583)=0,"",IF(SUM(D26:F26)=0,999,IF(F26="",MAX(D26:E26),LARGE(D26:F26,2)))),998)) | I26: =IF(B26="","",výpočty!D26)
C27: 2pokus | H27: =IF(B26="","",IF(G27="",IF(SUM(D$4:F$83)=0,"",IF(SUM(D27:F27)=0,999,IF(F27="",MAX(D27:E27),LARGE(D27:F27,2)))),998))
A28: =IF(startovka!A28="","",startovka!A28) | B28: =IF(startovka!B28="","",startovka!B28) | C28: 1pokus | H28: =IF(B28="","",IF(G28="",IF(SUM(D$4:F$583)=0,"",IF(SUM(D28:F28)=0,999,IF(F28="",MAX(D28:E28),LARGE(D28:F28,2)))),998)) | I28: =IF(B28="","",výpočty!D28)
C29: 2pokus | H29: =IF(B28="","",IF(G29="",IF(SUM(D$4:F$83)=0,"",IF(SUM(D29:F29)=0,999,IF(F29="",MAX(D29:E29),LARGE(D29:F29,2)))),998))
A30: =IF(startovka!A30="","",startovka!A30) | B30: =IF(startovka!B30="","",startovka!B30) | C30: 1pokus | H30: =IF(B30="","",IF(G30="",IF(SUM(D$4:F$583)=0,"",IF(SUM(D30:F30)=0,999,IF(F30="",MAX(D30:E30),LARGE(D30:F30,2)))),998)) | I30: =IF(B30="","",výpočty!D30)
C31: 2pokus | H31: =IF(B30="","",IF(G31="",IF(SUM(D$4:F$83)=0,"",IF(SUM(D31:F31)=0,999,IF(F31="",MAX(D31:E31),LARGE(D31:F31,2)))),998))
A32: =IF(startovka!A32="","",startovka!A32) | B32: =IF(startovka!B32="","",startovka!B32) | C32: 1pokus | H32: =IF(B32="","",IF(G32="",IF(SUM(D$4:F$583)=0,"",IF(SUM(D32:F32)=0,999,IF(F32="",MAX(D32:E32),LARGE(D32:F32,2)))),998)) | I32: =IF(B32="","",výpočty!D32)
C33: 2pokus | H33: =IF(B32="","",IF(G33="",IF(SUM(D$4:F$83)=0,"",IF(SUM(D33:F33)=0,999,IF(F33="",MAX(D33:E33),LARGE(D33:F33,2)))),998))
A34: =IF(startovka!A34="","",startovka!A34) | B34: =IF(startovka!B34="","",startovka!B34) | C34: 1pokus | H34: =IF(B34="","",IF(G34="",IF(SUM(D$4:F$583)=0,"",IF(SUM(D34:F34)=0,999,IF(F34="",MAX(D34:E34),LARGE(D34:F34,2)))),998)) | I34: =IF(B34="","",výpočty!D34)
C35: 2pokus | H35: =IF(B34="","",IF(G35="",IF(SUM(D$4:F$83)=0,"",IF(SUM(D35:F35)=0,999,IF(F35="",MAX(D35:E35),LARGE(D35:F35,2)))),998))
A36: =IF(startovka!A36="","",startovka!A36) | B36: =IF(startovka!B36="","",startovka!B36) | C36: 1pokus | H36: =IF(B36="","",IF(G36="",IF(SUM(D$4:F$583)=0,"",IF(SUM(D36:F36)=0,999,IF(F36="",MAX(D36:E36),LARGE(D36:F36,2)))),998)) | I36: =IF(B36="","",výpočty!D36)
C37: 2pokus | H37: =IF(B36="","",IF(G37="",IF(SUM(D$4:F$83)=0,"",IF(SUM(D37:F37)=0,999,IF(F37="",MAX(D37:E37),LARGE(D37:F37,2)))),998))
A38: =IF(startovka!A38="","",startovka!A38) | B38: =IF(startovka!B38="","",startovka!B38) | C38: 1pokus | H38: =IF(B38="","",IF(G38="",IF(SUM(D$4:F$583)=0,"",IF(SUM(D38:F38)=0,999,IF(F38="",MAX(D38:E38),LARGE(D38:F38,2)))),998)) | I38: =IF(B38="","",výpočty!D38)
C39: 2pokus | H39: =IF(B38="","",IF(G39="",IF(SUM(D$4:F$83)=0,"",IF(SUM(D39:F39)=0,999,IF(F39="",MAX(D39:E39),LARGE(D39:F39,2)))),998))
A40: =IF(startovka!A40="","",startovka!A40) | B40: =IF(startovka!B40="","",startovka!B40) | C40: 1pokus | H40: =IF(B40="","",IF(G40="",IF(SUM(D$4:F$583)=0,"",IF(SUM(D40:F40)=0,999,IF(F40="",MAX(D40:E40),LARGE(D40:F40,2)))),998)) | I40: =IF(B40="","",výpočty!D40)
C41: 2pokus | H41: =IF(B40="","",IF(G41="",IF(SUM(D$4:F$83)=0,"",IF(SUM(D41:F41)=0,999,IF(F41="",MAX(D41:E41),LARGE(D41:F41,2)))),998))
A42: =IF(startovka!A42="","",startovka!A42) | B42: =IF(startovka!B42="","",startovka!B42) | C42: 1pokus | H42: =IF(B42="","",IF(G42="",IF(SUM(D$4:F$583)=0,"",IF(SUM(D42:F42)=0,999,IF(F42="",MAX(D42:E42),LARGE(D42:F42,2)))),998)) | I42: =IF(B42="","",výpočty!D42)
C43: 2pokus | H43: =IF(B42="","",IF(G43="",IF(SUM(D$4:F$83)=0,"",IF(SUM(D43:F43)=0,999,IF(F43="",MAX(D43:E43),LARGE(D43:F43,2)))),998))
A44: =IF(startovka!A44="","",startovka!A44) | B44: =IF(startovka!B44="","",startovka!B44) | C44: 1pokus | H44: =IF(B44="","",IF(G44="",IF(SUM(D$4:F$583)=0,"",IF(SUM(D44:F44)=0,999,IF(F44="",MAX(D44:E44),LARGE(D44:F44,2)))),998)) | I44: =IF(B44="","",výpočty!D44)
C45: 2pokus | H45: =IF(B44="","",IF(G45="",IF(SUM(D$4:F$83)=0,"",IF(SUM(D45:F45)=0,999,IF(F45="",MAX(D45:E45),LARGE(D45:F45,2)))),998))
A46: =IF(startovka!A46="","",startovka!A46) | B46: =IF(startovka!B46="","",startovka!B46) | C46: 1pokus | H46: =IF(B46="","",IF(G46="",IF(SUM(D$4:F$583)=0,"",IF(SUM(D46:F46)=0,999,IF(F46="",MAX(D46:E46),LARGE(D46:F46,2)))),998)) | I46: =IF(B46="","",výpočty!D46)
C47: 2pokus | H47: =IF(B46="","",IF(G47="",IF(SUM(D$4:F$83)=0,"",IF(SUM(D47:F47)=0,999,IF(F47="",MAX(D47:E47),LARGE(D47:F47,2)))),998))
A48: =IF(startovka!A48="","",startovka!A48) | B48: =IF(startovka!B48="","",startovka!B48) | C48: 1pokus | H48: =IF(B48="","",IF(G48="",IF(SUM(D$4:F$583)=0,"",IF(SUM(D48:F48)=0,999,IF(F48="",MAX(D48:E48),LARGE(D48:F48,2)))),998)) | I48: =IF(B48="","",výpočty!D48)
C49: 2pokus | H49: =IF(B48="","",IF(G49="",IF(SUM(D$4:F$83)=0,"",IF(SUM(D49:F49)=0,999,IF(F49="",MAX(D49:E49),LARGE(D49:F49,2)))),998))
A50: =IF(startovka!A50="","",startovka!A50) | B50: =IF(startovka!B50="","",startovka!B50) | C50: 1pokus | H50: =IF(B50="","",IF(G50="",IF(SUM(D$4:F$583)=0,"",IF(SUM(D50:F50)=0,999,IF(F50="",MAX(D50:E50),LARGE(D50:F50,2)))),998)) | I50: =IF(B50="","",výpočty!D50)
C51: 2pokus | H51: =IF(B50="","",IF(G51="",IF(SUM(D$4:F$83)=0,"",IF(SUM(D51:F51)=0,999,IF(F51="",MAX(D51:E51),LARGE(D51:F51,2)))),998))
A52: =IF(startovka!A52="","",startovka!A52) | B52: =IF(startovka!B52="","",startovka!B52) | C52: 1pokus | H52: =IF(B52="","",IF(G52="",IF(SUM(D$4:F$583)=0,"",IF(SUM(D52:F52)=0,999,IF(F52="",MAX(D52:E52),LARGE(D52:F52,2)))),998)) | I52: =IF(B52="","",výpočty!D52)
C53: 2pokus | H53: =IF(B52="","",IF(G53="",IF(SUM(D$4:F$83)=0,"",IF(SUM(D53:F53)=0,999,IF(F53="",MAX(D53:E53),LARGE(D53:F53,2)))),998))
A54: =IF(startovka!A54="","",startovka!A54) | B54: =IF(startovka!B54="","",startovka!B54) | C54: 1pokus | H54: =IF(B54="","",IF(G54="",IF(SUM(D$4:F$583)=0,"",IF(SUM(D54:F54)=0,999,IF(F54="",MAX(D54:E54),LARGE(D54:F54,2)))),998)) | I54: =IF(B54="","",výpočty!D54)
C55: 2pokus | H55: =IF(B54="","",IF(G55="",IF(SUM(D$4:F$83)=0,"",IF(SUM(D55:F55)=0,999,IF(F55="",MAX(D55:E55),LARGE(D55:F55,2)))),998))
A56: =IF(startovka!A56="","",startovka!A56) | B56: =IF(startovka!B56="","",startovka!B56) | C56: 1pokus | H56: =IF(B56="","",IF(G56="",IF(SUM(D$4:F$583)=0,"",IF(SUM(D56:F56)=0,999,IF(F56="",MAX(D56:E56),LARGE(D56:F56,2)))),998)) | I56: =IF(B56="","",výpočty!D56)
C57: 2pokus | H57: =IF(B56="","",IF(G57="",IF(SUM(D$4:F$83)=0,"",IF(SUM(D57:F57)=0,999,IF(F57="",MAX(D57:E57),LARGE(D57:F57,2)))),998))
A58: =IF(startovka!A58="","",startovka!A58) | B58: =IF(startovka!B58="","",startovka!B58) | C58: 1pokus | H58: =IF(B58="","",IF(G58="",IF(SUM(D$4:F$583)=0,"",IF(SUM(D58:F58)=0,999,IF(F58="",MAX(D58:E58),LARGE(D58:F58,2)))),998)) | I58: =IF(B58="","",výpočty!D58)
C59: 2pokus | H59: =IF(B58="","",IF(G59="",IF(SUM(D$4:F$83)=0,"",IF(SUM(D59:F59)=0,999,IF(F59="",MAX(D59:E59),LARGE(D59:F59,2)))),998))
A60: =IF(startovka!A60="","",startovka!A60) | B60: =IF(startovka!B60="","",startovka!B60) | C60: 1pokus | H60: =IF(B60="","",IF(G60="",IF(SUM(D$4:F$583)=0,"",IF(SUM(D60:F60)=0,999,IF(F60="",MAX(D60:E60),LARGE(D60:F60,2)))),998)) | I60: =IF(B60="","",výpočty!D60)
C61: 2pokus | H61: =IF(B60="","",IF(G61="",IF(SUM(D$4:F$83)=0,"",IF(SUM(D61:F61)=0,999,IF(F61="",MAX(D61:E61),LARGE(D61:F61,2)))),998))
A62: =IF(startovka!A62="","",startovka!A62) | B62: =IF(startovka!B62="","",startovka!B62) | C62: 1pokus | H62: =IF(B62="","",IF(G62="",IF(SUM(D$4:F$583)=0,"",IF(SUM(D62:F62)=0,999,IF(F62="",MAX(D62:E62),LARGE(D62:F62,2)))),998)) | I62: =IF(B62="","",výpočty!D62)
C63: 2pokus | H63: =IF(B62="","",IF(G63="",IF(SUM(D$4:F$83)=0,"",IF(SUM(D63:F63)=0,999,IF(F63="",MAX(D63:E63),LARGE(D63:F63,2)))),998))
A64: =IF(startovka!A64="","",startovka!A64) | B64: =IF(startovka!B64="","",startovka!B64) | C64: 1pokus | H64: =IF(B64="","",IF(G64="",IF(SUM(D$4:F$583)=0,"",IF(SUM(D64:F64)=0,999,IF(F64="",MAX(D64:E64),LARGE(D64:F64,2)))),998)) | I64: =IF(B64="","",výpočty!D64)
C65: 2pokus | H65: =IF(B64="","",IF(G65="",IF(SUM(D$4:F$83)=0,"",IF(SUM(D65:F65)=0,999,IF(F65="",MAX(D65:E65),LARGE(D65:F65,2)))),998))
A66: =IF(startovka!A66="","",startovka!A66) | B66: =IF(startovka!B66="","",startovka!B66) | C66: 1pokus | H66: =IF(B66="","",IF(G66="",IF(SUM(D$4:F$583)=0,"",IF(SUM(D66:F66)=0,999,IF(F66="",MAX(D66:E66),LARGE(D66:F66,2)))),998)) | I66: =IF(B66="","",výpočty!D66)
C67: 2pokus | H67: =IF(B66="","",IF(G67="",IF(SUM(D$4:F$83)=0,"",IF(SUM(D67:F67)=0,999,IF(F67="",MAX(D67:E67),LARGE(D67:F67,2)))),998))
A68: =IF(startovka!A68="","",startovka!A68) | B68: =IF(startovka!B68="","",startovka!B68) | C68: 1pokus | H68: =IF(B68="","",IF(G68="",IF(SUM(D$4:F$583)=0,"",IF(SUM(D68:F68)=0,999,IF(F68="",MAX(D68:E68),LARGE(D68:F68,2)))),998)) | I68: =IF(B68="","",výpočty!D68)
C69: 2pokus | H69: =IF(B68="","",IF(G69="",IF(SUM(D$4:F$83)=0,"",IF(SUM(D69:F69)=0,999,IF(F69="",MAX(D69:E69),LARGE(D69:F69,2)))),998))
A70: =IF(startovka!A70="","",startovka!A70) | B70: =IF(startovka!B70="","",startovka!B70) | C70: 1pokus | H70: =IF(B70="","",IF(G70="",IF(SUM(D$4:F$583)=0,"",IF(SUM(D70:F70)=0,999,IF(F70="",MAX(D70:E70),LARGE(D70:F70,2)))),998)) | I70: =IF(B70="","",výpočty!D70)
C71: 2pokus | H71: =IF(B70="","",IF(G71="",IF(SUM(D$4:F$83)=0,"",IF(SUM(D71:F71)=0,999,IF(F71="",MAX(D71:E71),LARGE(D71:F71,2)))),998))
A72: =IF(startovka!A72="","",startovka!A72) | B72: =IF(startovka!B72="","",startovka!B72) | C72: 1pokus | H72: =IF(B72="","",IF(G72="",IF(SUM(D$4:F$583)=0,"",IF(SUM(D72:F72)=0,999,IF(F72="",MAX(D72:E72),LARGE(D72:F72,2)))),998)) | I72: =IF(B72="","",výpočty!D72)
C73: 2pokus | H73: =IF(B72="","",IF(G73="",IF(SUM(D$4:F$83)=0,"",IF(SUM(D73:F73)=0,999,IF(F73="",MAX(D73:E73),LARGE(D73:F73,2)))),998))
A74: =IF(startovka!A74="","",startovka!A74) | B74: =IF(startovka!B74="","",startovka!B74) | C74: 1pokus | H74: =IF(B74="","",IF(G74="",IF(SUM(D$4:F$583)=0,"",IF(SUM(D74:F74)=0,999,IF(F74="",MAX(D74:E74),LARGE(D74:F74,2)))),998)) | I74: =IF(B74="","",výpočty!D74)
C75: 2pokus | H75: =IF(B74="","",IF(G75="",IF(SUM(D$4:F$83)=0,"",IF(SUM(D75:F75)=0,999,IF(F75="",MAX(D75:E75),LARGE(D75:F75,2)))),998))
A76: =IF(startovka!A76="","",startovka!A76) | B76: =IF(startovka!B76="","",startovka!B76) | C76: 1pokus | H76: =IF(B76="","",IF(G76="",IF(SUM(D$4:F$583)=0,"",IF(SUM(D76:F76)=0,999,IF(F76="",MAX(D76:E76),LARGE(D76:F76,2)))),998)) | I76: =IF(B76="","",výpočty!D76)
C77: 2pokus | H77: =IF(B76="","",IF(G77="",IF(SUM(D$4:F$83)=0,"",IF(SUM(D77:F77)=0,999,IF(F77="",MAX(D77:E77),LARGE(D77:F77,2)))),998))
A78: =IF(startovka!A78="","",startovka!A78) | B78: =IF(startovka!B78="","",startovka!B78) | C78: 1pokus | H78: =IF(B78="","",IF(G78="",IF(SUM(D$4:F$583)=0,"",IF(SUM(D78:F78)=0,999,IF(F78="",MAX(D78:E78),LARGE(D78:F78,2)))),998)) | I78: =IF(B78="","",výpočty!D78)
C79: 2pokus | H79: =IF(B78="","",IF(G79="",IF(SUM(D$4:F$83)=0,"",IF(SUM(D79:F79)=0,999,IF(F79="",MAX(D79:E79),LARGE(D79:F79,2)))),998))
A80: =IF(startovka!A80="","",startovka!A80) | B80: =IF(startovka!B80="","",startovka!B80) | C80: 1pokus | H80: =IF(B80="","",IF(G80="",IF(SUM(D$4:F$583)=0,"",IF(SUM(D80:F80)=0,999,IF(F80="",MAX(D80:E80),LARGE(D80:F80,2)))),998)) | I80: =IF(B80="","",výpočty!D80)
C81: 2pokus | H81: =IF(B80="","",IF(G81="",IF(SUM(D$4:F$83)=0,"",IF(SUM(D81:F81)=0,999,IF(F81="",MAX(D81:E81),LARGE(D81:F81,2)))),998))
A82: =IF(startovka!A82="","",startovka!A82) | B82: =IF(startovka!B82="","",startovka!B82) | C82: 1pokus | H82: =IF(B82="","",IF(G82="",IF(SUM(D$4:F$583)=0,"",IF(SUM(D82:F82)=0,999,IF(F82="",MAX(D82:E82),LARGE(D82:F82,2)))),998)) | I82: =IF(B82="","",výpočty!D82)
C83: 2pokus | H83: =IF(B82="","",IF(G83="",IF(SUM(D$4:F$83)=0,"",IF(SUM(D83:F83)=0,999,IF(F83="",MAX(D83:E83),LARGE(D83:F83,2)))),998))

Sheet PÚ CTIF
A1: útok CTIF | D1: Základem je čas naměřeny od startu po signál velitele | H1: K úřednímu času se připočítavají trest. sekundy | P1: Výsledek soutěže
A2: =startovka!B2 -> Kategorie: mladší | D2: I. časoměřič | E2: II. časoměřič | F2: III. časoměřič | G2: úřední čas | H2: Nespravné překonání překážky 10TB | I2: Celé přetočení hadice 5TB | J2: Nespojené spojky 20TB | K2: Nesprávné rozložení hadic 10TB | L2: Ztracené nebo špatně odložené náčiní 5TB | M2: Nesprávné zařazení TP 10TB | N2: Nesprávné uvázaný uzel 10TB | O2: Nesprávná práce 10TB každý případ | P2: Důvod neplatnosti pokusu | Q2: =IF(SUM(D4:F83)=0,"čas ukončení pokusu", "Výsledný čas pokusu") -> Výsledný čas pokusu | R2: počet bodů za umístění
A3: Start. číslo | B3: Soutěžní družstvo | C3: pokus
A4: =IF(startovka!A4="","",startovka!A4) -> 1 | B4: =IF(startovka!B4="","",startovka!B4) -> Frenštát p. R. | C4: 1pokus | D4: 86.24 | E4: 86.63 | F4: 89.19 | G4: =IF(B4="","",IF(SUM(D$4:F$583)=0,"",IF(D4="",999,IF(F4="",MAX(D4:E4),LARGE(D4:F4,2))))) -> 86.63 | Q4: =IF(G4="","",IF(P4="",IF(G4=999,999,SUM(G4:O4)),998)) -> 86.63 | R4: =IF(B4="","",výpočty!G4) -> 4
C5: 2pokus | D5: 76.51 | E5: 76.77 | F5: 76.22 | G5: =IF(B4="","",IF(SUM(D$4:F$583)=0,"",IF(D5="",999,IF(F5="",MAX(D5:E5),LARGE(D5:F5,2))))) -> 76.51 | Q5: =IF(G5="","",IF(P5="",IF(G5=999,999,SUM(G5:O5)),998)) -> 76.51
A6: =IF(startovka!A6="","",startovka!A6) -> 2 | B6: =IF(startovka!B6="","",startovka!B6) -> Tísek "A" | C6: 1pokus | D6: 57.98 | E6: 58.41 | F6: 58.16 | G6: =IF(B6="","",IF(SUM(D$4:F$583)=0,"",IF(D6="",999,IF(F6="",MAX(D6:E6),LARGE(D6:F6,2))))) -> 58.16 | H6: 10 | O6: 10 | Q6: =IF(G6="","",IF(P6="",IF(G6=999,999,SUM(G6:O6)),998)) -> 78.16 | R6: =IF(B6="","",výpočty!G6) -> 3
C7: 2pokus | D7: 61.77 | E7: 61.51 | F7: 61.92 | G7: =IF(B6="","",IF(SUM(D$4:F$583)=0,"",IF(D7="",999,IF(F7="",MAX(D7:E7),LARGE(D7:F7,2))))) -> 61.77 | O7: 10 | Q7: =IF(G7="","",IF(P7="",IF(G7=999,999,SUM(G7:O7)),998)) -> 71.77
A8: =IF(startovka!A8="","",startovka!A8) -> 3 | B8: =IF(startovka!B8="","",startovka!B8) -> Mniší | C8: 1pokus | D8: 62.11 | E8: 62.06 | F8: 61.33 | G8: =IF(B8="","",IF(SUM(D$4:F$583)=0,"",IF(D8="",999,IF(F8="",MAX(D8:E8),LARGE(D8:F8,2))))) -> 62.06 | I8: 5 | Q8: =IF(G8="","",IF(P8="",IF(G8=999,999,SUM(G8:O8)),998)) -> 67.06 | R8: =IF(B8="","",výpočty!G8) -> 2
C9: 2pokus | D9: 55.05 | E9: 55.07 | F9: 55.13 | G9: =IF(B8="","",IF(SUM(D$4:F$583)=0,"",IF(D9="",999,IF(F9="",MAX(D9:E9),LARGE(D9:F9,2))))) -> 55.07 | Q9: =IF(G9="","",IF(P9="",IF(G9=999,999,SUM(G9:O9)),998)) -> 55.07
A10: =IF(startovka!A10="","",startovka!A10) -> 4 | B10: =IF(startovka!B10="","",startovka!B10) -> Hájov | C10: 1pokus | D10: 52.54 | E10: 52.43 | F10: 51.85 | G10: =IF(B10="","",IF(SUM(D$4:F$583)=0,"",IF(D10="",999,IF(F10="",MAX(D10:E10),LARGE(D10:F10,2))))) -> 52.43 | Q10: =IF(G10="","",IF(P10="",IF(G10=999,999,SUM(G10:O10)),998)) -> 52.43 | R10: =IF(B10="","",výpočty!G10) -> 1
C11: 2pokus | D11: 56.35 | E11: 56.14 | F11: 56.4 | G11: =IF(B10="","",IF(SUM(D$4:F$583)=0,"",IF(D11="",999,IF(F11="",MAX(D11:E11),LARGE(D11:F11,2))))) -> 56.35 | Q11: =IF(G11="","",IF(P11="",IF(G11=999,999,SUM(G11:O11)),998)) -> 56.35
A12: =IF(startovka!A12="","",startovka!A12) -> 5 | B12: =IF(startovka!B12="","",startovka!B12) -> Tísek "B" | C12: 1pokus | D12: 86.18 | E12: 86.74 | F12: 85.47 | G12: =IF(B12="","",IF(SUM(D$4:F$583)=0,"",IF(D12="",999,IF(F12="",MAX(D12:E12),LARGE(D12:F12,2))))) -> 86.18 | H12: 10 | O12: 10 | Q12: =IF(G12="","",IF(P12="",IF(G12=999,999,SUM(G12:O12)),998)) -> 106.18 | R12: =IF(B12="","",výpočty!G12) -> 5
C13: 2pokus | D13: 79.87 | E13: 79.1 | F13: 79.02 | G13: =IF(B12="","",IF(SUM(D$4:F$583)=0,"",IF(D13="",999,IF(F13="",MAX(D13:E13),LARGE(D13:F13,2))))) -> 79.1 | Q13: =IF(G13="","",IF(P13="",IF(G13=999,999,SUM(G13:O13)),998)) -> 79.1
A14: =IF(startovka!A14="","",startovka!A14) | B14: =IF(startovka!B14="","",startovka!B14) | C14: 1pokus | G14: =IF(B14="","",IF(SUM(D$4:F$583)=0,"",IF(D14="",999,IF(F14="",MAX(D14:E14),LARGE(D14:F14,2))))) | Q14: =IF(G14="","",IF(P14="",IF(G14=999,999,SUM(G14:O14)),998)) | R14: =IF(B14="","",výpočty!G14)
C15: 2pokus | G15: =IF(B14="","",IF(SUM(D$4:F$583)=0,"",IF(D15="",999,IF(F15="",MAX(D15:E15),LARGE(D15:F15,2))))) | Q15: =IF(G15="","",IF(P15="",IF(G15=999,999,SUM(G15:O15)),998))
A16: =IF(startovka!A16="","",startovka!A16) | B16: =IF(startovka!B16="","",startovka!B16) | C16: 1pokus | G16: =IF(B16="","",IF(SUM(D$4:F$583)=0,"",IF(D16="",999,IF(F16="",MAX(D16:E16),LARGE(D16:F16,2))))) | Q16: =IF(G16="","",IF(P16="",IF(G16=999,999,SUM(G16:O16)),998)) | R16: =IF(B16="","",výpočty!G16)
C17: 2pokus | G17: =IF(B16="","",IF(SUM(D$4:F$583)=0,"",IF(D17="",999,IF(F17="",MAX(D17:E17),LARGE(D17:F17,2))))) | Q17: =IF(G17="","",IF(P17="",IF(G17=999,999,SUM(G17:O17)),998))
A18: =IF(startovka!A18="","",startovka!A18) | B18: =IF(startovka!B18="","",startovka!B18) | C18: 1pokus | G18: =IF(B18="","",IF(SUM(D$4:F$583)=0,"",IF(D18="",999,IF(F18="",MAX(D18:E18),LARGE(D18:F18,2))))) | Q18: =IF(G18="","",IF(P18="",IF(G18=999,999,SUM(G18:O18)),998)) | R18: =IF(B18="","",výpočty!G18)
C19: 2pokus | G19: =IF(B18="","",IF(SUM(D$4:F$583)=0,"",IF(D19="",999,IF(F19="",MAX(D19:E19),LARGE(D19:F19,2))))) | Q19: =IF(G19="","",IF(P19="",IF(G19=999,999,SUM(G19:O19)),998))
A20: =IF(startovka!A20="","",startovka!A20) | B20: =IF(startovka!B20="","",startovka!B20) | C20: 1pokus | G20: =IF(B20="","",IF(SUM(D$4:F$583)=0,"",IF(D20="",999,IF(F20="",MAX(D20:E20),LARGE(D20:F20,2))))) | Q20: =IF(G20="","",IF(P20="",IF(G20=999,999,SUM(G20:O20)),998)) | R20: =IF(B20="","",výpočty!G20)
C21: 2pokus | G21: =IF(B20="","",IF(SUM(D$4:F$583)=0,"",IF(D21="",999,IF(F21="",MAX(D21:E21),LARGE(D21:F21,2))))) | Q21: =IF(G21="","",IF(P21="",IF(G21=999,999,SUM(G21:O21)),998))
A22: =IF(startovka!A22="","",startovka!A22) | B22: =IF(startovka!B22="","",startovka!B22) | C22: 1pokus | G22: =IF(B22="","",IF(SUM(D$4:F$583)=0,"",IF(D22="",999,IF(F22="",MAX(D22:E22),LARGE(D22:F22,2))))) | Q22: =IF(G22="","",IF(P22="",IF(G22=999,999,SUM(G22:O22)),998)) | R22: =IF(B22="","",výpočty!G22)
C23: 2pokus | G23: =IF(B22="","",IF(SUM(D$4:F$583)=0,"",IF(D23="",999,IF(F23="",MAX(D23:E23),LARGE(D23:F23,2))))) | Q23: =IF(G23="","",IF(P23="",IF(G23=999,999,SUM(G23:O23)),998))
A24: =IF(startovka!A24="","",startovka!A24) | B24: =IF(startovka!B24="","",startovka!B24) | C24: 1pokus | G24: =IF(B24="","",IF(SUM(D$4:F$583)=0,"",IF(D24="",999,IF(F24="",MAX(D24:E24),LARGE(D24:F24,2))))) | Q24: =IF(G24="","",IF(P24="",IF(G24=999,999,SUM(G24:O24)),998)) | R24: =IF(B24="","",výpočty!G24)
C25: 2pokus | G25: =IF(B24="","",IF(SUM(D$4:F$583)=0,"",IF(D25="",999,IF(F25="",MAX(D25:E25),LARGE(D25:F25,2))))) | Q25: =IF(G25="","",IF(P25="",IF(G25=999,999,SUM(G25:O25)),998))
A26: =IF(startovka!A26="","",startovka!A26) | B26: =IF(startovka!B26="","",startovka!B26) | C26: 1pokus | G26: =IF(B26="","",IF(SUM(D$4:F$583)=0,"",IF(D26="",999,IF(F26="",MAX(D26:E26),LARGE(D26:F26,2))))) | Q26: =IF(G26="","",IF(P26="",IF(G26=999,999,SUM(G26:O26)),998)) | R26: =IF(B26="","",výpočty!G26)
C27: 2pokus | G27: =IF(B26="","",IF(SUM(D$4:F$583)=0,"",IF(D27="",999,IF(F27="",MAX(D27:E27),LARGE(D27:F27,2))))) | Q27: =IF(G27="","",IF(P27="",IF(G27=999,999,SUM(G27:O27)),998))
A28: =IF(startovka!A28="","",startovka!A28) | B28: =IF(startovka!B28="","",startovka!B28) | C28: 1pokus | G28: =IF(B28="","",IF(SUM(D$4:F$583)=0,"",IF(D28="",999,IF(F28="",MAX(D28:E28),LARGE(D28:F28,2))))) | Q28: =IF(G28="","",IF(P28="",IF(G28=999,999,SUM(G28:O28)),998)) | R28: =IF(B28="","",výpočty!G28)
C29: 2pokus | G29: =IF(B28="","",IF(SUM(D$4:F$583)=0,"",IF(D29="",999,IF(F29="",MAX(D29:E29),LARGE(D29:F29,2))))) | Q29: =IF(G29="","",IF(P29="",IF(G29=999,999,SUM(G29:O29)),998))
A30: =IF(startovka!A30="","",startovka!A30) | B30: =IF(startovka!B30="","",startovka!B30) | C30: 1pokus | G30: =IF(B30="","",IF(SUM(D$4:F$583)=0,"",IF(D30="",999,IF(F30="",MAX(D30:E30),LARGE(D30:F30,2))))) | Q30: =IF(G30="","",IF(P30="",IF(G30=999,999,SUM(G30:O30)),998)) | R30: =IF(B30="","",výpočty!G30)
C31: 2pokus | G31: =IF(B30="","",IF(SUM(D$4:F$583)=0,"",IF(D31="",999,IF(F31="",MAX(D31:E31),LARGE(D31:F31,2))))) | Q31: =IF(G31="","",IF(P31="",IF(G31=999,999,SUM(G31:O31)),998))
A32: =IF(startovka!A32="","",startovka!A32) | B32: =IF(startovka!B32="","",startovka!B32) | C32: 1pokus | G32: =IF(B32="","",IF(SUM(D$4:F$583)=0,"",IF(D32="",999,IF(F32="",MAX(D32:E32),LARGE(D32:F32,2))))) | Q32: =IF(G32="","",IF(P32="",IF(G32=999,999,SUM(G32:O32)),998)) | R32: =IF(B32="","",výpočty!G32)
C33: 2pokus | G33: =IF(B32="","",IF(SUM(D$4:F$583)=0,"",IF(D33="",999,IF(F33="",MAX(D33:E33),LARGE(D33:F33,2))))) | Q33: =IF(G33="","",IF(P33="",IF(G33=999,999,SUM(G33:O33)),998))
A34: =IF(startovka!A34="","",startovka!A34) | B34: =IF(startovka!B34="","",startovka!B34) | C34: 1pokus | G34: =IF(B34="","",IF(SUM(D$4:F$583)=0,"",IF(D34="",999,IF(F34="",MAX(D34:E34),LARGE(D34:F34,2))))) | Q34: =IF(G34="","",IF(P34="",IF(G34=999,999,SUM(G34:O34)),998)) | R34: =IF(B34="","",výpočty!G34)
C35: 2pokus | G35: =IF(B34="","",IF(SUM(D$4:F$583)=0,"",IF(D35="",999,IF(F35="",MAX(D35:E35),LARGE(D35:F35,2))))) | Q35: =IF(G35="","",IF(P35="",IF(G35=999,999,SUM(G35:O35)),998))
A36: =IF(startovka!A36="","",startovka!A36) | B36: =IF(startovka!B36="","",startovka!B36) | C36: 1pokus | G36: =IF(B36="","",IF(SUM(D$4:F$583)=0,"",IF(D36="",999,IF(F36="",MAX(D36:E36),LARGE(D36:F36,2))))) | Q36: =IF(G36="","",IF(P36="",IF(G36=999,999,SUM(G36:O36)),998)) | R36: =IF(B36="","",výpočty!G36)
C37: 2pokus | G37: =IF(B36="","",IF(SUM(D$4:F$583)=0,"",IF(D37="",999,IF(F37="",MAX(D37:E37),LARGE(D37:F37,2))))) | Q37: =IF(G37="","",IF(P37="",IF(G37=999,999,SUM(G37:O37)),998))
A38: =IF(startovka!A38="","",startovka!A38) | B38: =IF(startovka!B38="","",startovka!B38) | C38: 1pokus | G38: =IF(B38="","",IF(SUM(D$4:F$583)=0,"",IF(D38="",999,IF(F38="",MAX(D38:E38),LARGE(D38:F38,2))))) | Q38: =IF(G38="","",IF(P38="",IF(G38=999,999,SUM(G38:O38)),998)) | R38: =IF(B38="","",výpočty!G38)
C39: 2pokus | G39: =IF(B38="","",IF(SUM(D$4:F$583)=0,"",IF(D39="",999,IF(F39="",MAX(D39:E39),LARGE(D39:F39,2))))) | Q39: =IF(G39="","",IF(P39="",IF(G39=999,999,SUM(G39:O39)),998))
A40: =IF(startovka!A40="","",startovka!A40) | B40: =IF(startovka!B40="","",startovka!B40) | C40: 1pokus | G40: =IF(B40="","",IF(SUM(D$4:F$583)=0,"",IF(D40="",999,IF(F40="",MAX(D40:E40),LARGE(D40:F40,2))))) | Q40: =IF(G40="","",IF(P40="",IF(G40=999,999,SUM(G40:O40)),998)) | R40: =IF(B40="","",výpočty!G40)
C41: 2pokus | G41: =IF(B40="","",IF(SUM(D$4:F$583)=0,"",IF(D41="",999,IF(F41="",MAX(D41:E41),LARGE(D41:F41,2))))) | Q41: =IF(G41="","",IF(P41="",IF(G41=999,999,SUM(G41:O41)),998))
A42: =IF(startovka!A42="","",startovka!A42) | B42: =IF(startovka!B42="","",startovka!B42) | C42: 1pokus | G42: =IF(B42="","",IF(SUM(D$4:F$583)=0,"",IF(D42="",999,IF(F42="",MAX(D42:E42),LARGE(D42:F42,2))))) | Q42: =IF(G42="","",IF(P42="",IF(G42=999,999,SUM(G42:O42)),998)) | R42: =IF(B42="","",výpočty!G42)
C43: 2pokus | G43: =IF(B42="","",IF(SUM(D$4:F$583)=0,"",IF(D43="",999,IF(F43="",MAX(D43:E43),LARGE(D43:F43,2))))) | Q43: =IF(G43="","",IF(P43="",IF(G43=999,999,SUM(G43:O43)),998))
A44: =IF(startovka!A44="","",startovka!A44) | B44: =IF(startovka!B44="","",startovka!B44) | C44: 1pokus | G44: =IF(B44="","",IF(SUM(D$4:F$583)=0,"",IF(D44="",999,IF(F44="",MAX(D44:E44),LARGE(D44:F44,2))))) | Q44: =IF(G44="","",IF(P44="",IF(G44=999,999,SUM(G44:O44)),998)) | R44: =IF(B44="","",výpočty!G44)
C45: 2pokus | G45: =IF(B44="","",IF(SUM(D$4:F$583)=0,"",IF(D45="",999,IF(F45="",MAX(D45:E45),LARGE(D45:F45,2))))) | Q45: =IF(G45="","",IF(P45="",IF(G45=999,999,SUM(G45:O45)),998))
A46: =IF(startovka!A46="","",startovka!A46) | B46: =IF(startovka!B46="","",startovka!B46) | C46: 1pokus | G46: =IF(B46="","",IF(SUM(D$4:F$583)=0,"",IF(D46="",999,IF(F46="",MAX(D46:E46),LARGE(D46:F46,2))))) | Q46: =IF(G46="","",IF(P46="",IF(G46=999,999,SUM(G46:O46)),998)) | R46: =IF(B46="","",výpočty!G46)
C47: 2pokus | G47: =IF(B46="","",IF(SUM(D$4:F$583)=0,"",IF(D47="",999,IF(F47="",MAX(D47:E47),LARGE(D47:F47,2))))) | Q47: =IF(G47="","",IF(P47="",IF(G47=999,999,SUM(G47:O47)),998))
A48: =IF(startovka!A48="","",startovka!A48) | B48: =IF(startovka!B48="","",startovka!B48) | C48: 1pokus | G48: =IF(B48="","",IF(SUM(D$4:F$583)=0,"",IF(D48="",999,IF(F48="",MAX(D48:E48),LARGE(D48:F48,2))))) | Q48: =IF(G48="","",IF(P48="",IF(G48=999,999,SUM(G48:O48)),998)) | R48: =IF(B48="","",výpočty!G48)
C49: 2pokus | G49: =IF(B48="","",IF(SUM(D$4:F$583)=0,"",IF(D49="",999,IF(F49="",MAX(D49:E49),LARGE(D49:F49,2))))) | Q49: =IF(G49="","",IF(P49="",IF(G49=999,999,SUM(G49:O49)),998))
A50: =IF(startovka!A50="","",startovka!A50) | B50: =IF(startovka!B50="","",startovka!B50) | C50: 1pokus | G50: =IF(B50="","",IF(SUM(D$4:F$583)=0,"",IF(D50="",999,IF(F50="",MAX(D50:E50),LARGE(D50:F50,2))))) | Q50: =IF(G50="","",IF(P50="",IF(G50=999,999,SUM(G50:O50)),998)) | R50: =IF(B50="","",výpočty!G50)
C51: 2pokus | G51: =IF(B50="","",IF(SUM(D$4:F$583)=0,"",IF(D51="",999,IF(F51="",MAX(D51:E51),LARGE(D51:F51,2))))) | Q51: =IF(G51="","",IF(P51="",IF(G51=999,999,SUM(G51:O51)),998))
A52: =IF(startovka!A52="","",startovka!A52) | B52: =IF(startovka!B52="","",startovka!B52) | C52: 1pokus | G52: =IF(B52="","",IF(SUM(D$4:F$583)=0,"",IF(D52="",999,IF(F52="",MAX(D52:E52),LARGE(D52:F52,2))))) | Q52: =IF(G52="","",IF(P52="",IF(G52=999,999,SUM(G52:O52)),998)) | R52: =IF(B52="","",výpočty!G52)
C53: 2pokus | G53: =IF(B52="","",IF(SUM(D$4:F$583)=0,"",IF(D53="",999,IF(F53="",MAX(D53:E53),LARGE(D53:F53,2))))) | Q53: =IF(G53="","",IF(P53="",IF(G53=999,999,SUM(G53:O53)),998))
A54: =IF(startovka!A54="","",startovka!A54) | B54: =IF(startovka!B54="","",startovka!B54) | C54: 1pokus | G54: =IF(B54="","",IF(SUM(D$4:F$583)=0,"",IF(D54="",999,IF(F54="",MAX(D54:E54),LARGE(D54:F54,2))))) | Q54: =IF(G54="","",IF(P54="",IF(G54=999,999,SUM(G54:O54)),998)) | R54: =IF(B54="","",výpočty!G54)
C55: 2pokus | G55: =IF(B54="","",IF(SUM(D$4:F$583)=0,"",IF(D55="",999,IF(F55="",MAX(D55:E55),LARGE(D55:F55,2))))) | Q55: =IF(G55="","",IF(P55="",IF(G55=999,999,SUM(G55:O55)),998))
A56: =IF(startovka!A56="","",startovka!A56) | B56: =IF(startovka!B56="","",startovka!B56) | C56: 1pokus | G56: =IF(B56="","",IF(SUM(D$4:F$583)=0,"",IF(D56="",999,IF(F56="",MAX(D56:E56),LARGE(D56:F56,2))))) | Q56: =IF(G56="","",IF(P56="",IF(G56=999,999,SUM(G56:O56)),998)) | R56: =IF(B56="","",výpočty!G56)
C57: 2pokus | G57: =IF(B56="","",IF(SUM(D$4:F$583)=0,"",IF(D57="",999,IF(F57="",MAX(D57:E57),LARGE(D57:F57,2))))) | Q57: =IF(G57="","",IF(P57="",IF(G57=999,999,SUM(G57:O57)),998))
A58: =IF(startovka!A58="","",startovka!A58) | B58: =IF(startovka!B58="","",startovka!B58) | C58: 1pokus | G58: =IF(B58="","",IF(SUM(D$4:F$583)=0,"",IF(D58="",999,IF(F58="",MAX(D58:E58),LARGE(D58:F58,2))))) | Q58: =IF(G58="","",IF(P58="",IF(G58=999,999,SUM(G58:O58)),998)) | R58: =IF(B58="","",výpočty!G58)
C59: 2pokus | G59: =IF(B58="","",IF(SUM(D$4:F$583)=0,"",IF(D59="",999,IF(F59="",MAX(D59:E59),LARGE(D59:F59,2))))) | Q59: =IF(G59="","",IF(P59="",IF(G59=999,999,SUM(G59:O59)),998))
A60: =IF(startovka!A60="","",startovka!A60) | B60: =IF(startovka!B60="","",startovka!B60) | C60: 1pokus | G60: =IF(B60="","",IF(SUM(D$4:F$583)=0,"",IF(D60="",999,IF(F60="",MAX(D60:E60),LARGE(D60:F60,2))))) | Q60: =IF(G60="","",IF(P60="",IF(G60=999,999,SUM(G60:O60)),998)) | R60: =IF(B60="","",výpočty!G60)
C61: 2pokus | G61: =IF(B60="","",IF(SUM(D$4:F$583)=0,"",IF(D61="",999,IF(F61="",MAX(D61:E61),LARGE(D61:F61,2))))) | Q61: =IF(G61="","",IF(P61="",IF(G61=999,999,SUM(G61:O61)),998))
A62: =IF(startovka!A62="","",startovka!A62) | B62: =IF(startovka!B62="","",startovka!B62) | C62: 1pokus | G62: =IF(B62="","",IF(SUM(D$4:F$583)=0,"",IF(D62="",999,IF(F62="",MAX(D62:E62),LARGE(D62:F62,2))))) | Q62: =IF(G62="","",IF(P62="",IF(G62=999,999,SUM(G62:O62)),998)) | R62: =IF(B62="","",výpočty!G62)
C63: 2pokus | G63: =IF(B62="","",IF(SUM(D$4:F$583)=0,"",IF(D63="",999,IF(F63="",MAX(D63:E63),LARGE(D63:F63,2))))) | Q63: =IF(G63="","",IF(P63="",IF(G63=999,999,SUM(G63:O63)),998))
A64: =IF(startovka!A64="","",startovka!A64) | B64: =IF(startovka!B64="","",startovka!B64) | C64: 1pokus | G64: =IF(B64="","",IF(SUM(D$4:F$583)=0,"",IF(D64="",999,IF(F64="",MAX(D64:E64),LARGE(D64:F64,2))))) | Q64: =IF(G64="","",IF(P64="",IF(G64=999,999,SUM(G64:O64)),998)) | R64: =IF(B64="","",výpočty!G64)
C65: 2pokus | G65: =IF(B64="","",IF(SUM(D$4:F$583)=0,"",IF(D65="",999,IF(F65="",MAX(D65:E65),LARGE(D65:F65,2))))) | Q65: =IF(G65="","",IF(P65="",IF(G65=999,999,SUM(G65:O65)),998))
A66: =IF(startovka!A66="","",startovka!A66) | B66: =IF(startovka!B66="","",startovka!B66) | C66: 1pokus | G66: =IF(B66="","",IF(SUM(D$4:F$583)=0,"",IF(D66="",999,IF(F66="",MAX(D66:E66),LARGE(D66:F66,2))))) | Q66: =IF(G66="","",IF(P66="",IF(G66=999,999,SUM(G66:O66)),998)) | R66: =IF(B66="","",výpočty!G66)
C67: 2pokus | G67: =IF(B66="","",IF(SUM(D$4:F$583)=0,"",IF(D67="",999,IF(F67="",MAX(D67:E67),LARGE(D67:F67,2))))) | Q67: =IF(G67="","",IF(P67="",IF(G67=999,999,SUM(G67:O67)),998))
A68: =IF(startovka!A68="","",startovka!A68) | B68: =IF(startovka!B68="","",startovka!B68) | C68: 1pokus | G68: =IF(B68="","",IF(SUM(D$4:F$583)=0,"",IF(D68="",999,IF(F68="",MAX(D68:E68),LARGE(D68:F68,2))))) | Q68: =IF(G68="","",IF(P68="",IF(G68=999,999,SUM(G68:O68)),998)) | R68: =IF(B68="","",výpočty!G68)
C69: 2pokus | G69: =IF(B68="","",IF(SUM(D$4:F$583)=0,"",IF(D69="",999,IF(F69="",MAX(D69:E69),LARGE(D69:F69,2))))) | Q69: =IF(G69="","",IF(P69="",IF(G69=999,999,SUM(G69:O69)),998))
A70: =IF(startovka!A70="","",startovka!A70) | B70: =IF(startovka!B70="","",startovka!B70) | C70: 1pokus | G70: =IF(B70="","",IF(SUM(D$4:F$583)=0,"",IF(D70="",999,IF(F70="",MAX(D70:E70),LARGE(D70:F70,2))))) | Q70: =IF(G70="","",IF(P70="",IF(G70=999,999,SUM(G70:O70)),998)) | R70: =IF(B70="","",výpočty!G70)
C71: 2pokus | G71: =IF(B70="","",IF(SUM(D$4:F$583)=0,"",IF(D71="",999,IF(F71="",MAX(D71:E71),LARGE(D71:F71,2))))) | Q71: =IF(G71="","",IF(P71="",IF(G71=999,999,SUM(G71:O71)),998))
A72: =IF(startovka!A72="","",startovka!A72) | B72: =IF(startovka!B72="","",startovka!B72) | C72: 1pokus | G72: =IF(B72="","",IF(SUM(D$4:F$583)=0,"",IF(D72="",999,IF(F72="",MAX(D72:E72),LARGE(D72:F72,2))))) | Q72: =IF(G72="","",IF(P72="",IF(G72=999,999,SUM(G72:O72)),998)) | R72: =IF(B72="","",výpočty!G72)
C73: 2pokus | G73: =IF(B72="","",IF(SUM(D$4:F$583)=0,"",IF(D73="",999,IF(F73="",MAX(D73:E73),LARGE(D73:F73,2))))) | Q73: =IF(G73="","",IF(P73="",IF(G73=999,999,SUM(G73:O73)),998))
A74: =IF(startovka!A74="","",startovka!A74) | B74: =IF(startovka!B74="","",startovka!B74) | C74: 1pokus | G74: =IF(B74="","",IF(SUM(D$4:F$583)=0,"",IF(D74="",999,IF(F74="",MAX(D74:E74),LARGE(D74:F74,2))))) | Q74: =IF(G74="","",IF(P74="",IF(G74=999,999,SUM(G74:O74)),998)) | R74: =IF(B74="","",výpočty!G74)
C75: 2pokus | G75: =IF(B74="","",IF(SUM(D$4:F$583)=0,"",IF(D75="",999,IF(F75="",MAX(D75:E75),LARGE(D75:F75,2))))) | Q75: =IF(G75="","",IF(P75="",IF(G75=999,999,SUM(G75:O75)),998))
A76: =IF(startovka!A76="","",startovka!A76) | B76: =IF(startovka!B76="","",startovka!B76) | C76: 1pokus | G76: =IF(B76="","",IF(SUM(D$4:F$583)=0,"",IF(D76="",999,IF(F76="",MAX(D76:E76),LARGE(D76:F76,2))))) | Q76: =IF(G76="","",IF(P76="",IF(G76=999,999,SUM(G76:O76)),998)) | R76: =IF(B76="","",výpočty!G76)
C77: 2pokus | G77: =IF(B76="","",IF(SUM(D$4:F$583)=0,"",IF(D77="",999,IF(F77="",MAX(D77:E77),LARGE(D77:F77,2))))) | Q77: =IF(G77="","",IF(P77="",IF(G77=999,999,SUM(G77:O77)),998))
A78: =IF(startovka!A78="","",startovka!A78) | B78: =IF(startovka!B78="","",startovka!B78) | C78: 1pokus | G78: =IF(B78="","",IF(SUM(D$4:F$583)=0,"",IF(D78="",999,IF(F78="",MAX(D78:E78),LARGE(D78:F78,2))))) | Q78: =IF(G78="","",IF(P78="",IF(G78=999,999,SUM(G78:O78)),998)) | R78: =IF(B78="","",výpočty!G78)
C79: 2pokus | G79: =IF(B78="","",IF(SUM(D$4:F$583)=0,"",IF(D79="",999,IF(F79="",MAX(D79:E79),LARGE(D79:F79,2))))) | Q79: =IF(G79="","",IF(P79="",IF(G79=999,999,SUM(G79:O79)),998))
A80: =IF(startovka!A80="","",startovka!A80) | B80: =IF(startovka!B80="","",startovka!B80) | C80: 1pokus | G80: =IF(B80="","",IF(SUM(D$4:F$583)=0,"",IF(D80="",999,IF(F80="",MAX(D80:E80),LARGE(D80:F80,2))))) | Q80: =IF(G80="","",IF(P80="",IF(G80=999,999,SUM(G80:O80)),998)) | R80: =IF(B80="","",výpočty!G80)
C81: 2pokus | G81: =IF(B80="","",IF(SUM(D$4:F$583)=0,"",IF(D81="",999,IF(F81="",MAX(D81:E81),LARGE(D81:F81,2))))) | Q81: =IF(G81="","",IF(P81="",IF(G81=999,999,SUM(G81:O81)),998))
A82: =IF(startovka!A82="","",startovka!A82) | B82: =IF(startovka!B82="","",startovka!B82) | C82: 1pokus | G82: =IF(B82="","",IF(SUM(D$4:F$583)=0,"",IF(D82="",999,IF(F82="",MAX(D82:E82),LARGE(D82:F82,2))))) | Q82: =IF(G82="","",IF(P82="",IF(G82=999,999,SUM(G82:O82)),998)) | R82: =IF(B82="","",výpočty!G82)
C83: 2pokus | G83: =IF(B82="","",IF(SUM(D$4:F$583)=0,"",IF(D83="",999,IF(F83="",MAX(D83:E83),LARGE(D83:F83,2))))) | Q83: =IF(G83="","",IF(P83="",IF(G83=999,999,SUM(G83:O83)),998))

Sheet 4x60
A1: ŠTAFETA 4x60 | D1: Dosažené časy | G1: Příčina neplatnosti pokusu (pokud není uvedena je pokus platný, nebo se předpokládá, že družstvo k pokusu nenastoupilo) | H1: =IF(SUM(D4:F583)=0,"čas ukončení pokusu", "Výsledný čas pokusu") -> Výsledný čas pokusu | I1: Pořadí
A2: startovní číslo | B2: =startovka!B2 -> Kategorie: mladší | D2: Elektronická časomíra nebo 1 časoměřič | E2: 2 časoměřič | F2: 3 časoměřič
B3: Družstvo
A4: =IF(startovka!A4="","",startovka!A4) -> 1 | B4: =IF(startovka!B4="","",startovka!B4) -> Frenštát p. R. | C4: 1pokus | D4: 72.769 | H4: =IF(B4="","",IF(G4="",IF(SUM(D$4:F$583)=0,"",IF(SUM(D4:F4)=0,999,IF(F4="",MAX(D4:E4),LARGE(D4:F4,2)))),998)) -> 72.769 | I4: =IF(B4="","",výpočty!I4) -> 4
C5: 2pokus | G5: pokus nehodnocen | H5: =IF(B4="","",IF(G5="",IF(SUM(D$4:F$83)=0,"",IF(SUM(D5:F5)=0,999,IF(F5="",MAX(D5:E5),LARGE(D5:F5,2)))),998)) -> 998
A6: =IF(startovka!A6="","",startovka!A6) -> 2 | B6: =IF(startovka!B6="","",startovka!B6) -> Tísek "A" | C6: 1pokus | G6: pokus nehodnocen | H6: =IF(B6="","",IF(G6="",IF(SUM(D$4:F$583)=0,"",IF(SUM(D6:F6)=0,999,IF(F6="",MAX(D6:E6),LARGE(D6:F6,2)))),998)) -> 998 | I6: =IF(B6="","",výpočty!I6) -> 3
C7: 2pokus | D7: 63.696 | H7: =IF(B6="","",IF(G7="",IF(SUM(D$4:F$83)=0,"",IF(SUM(D7:F7)=0,999,IF(F7="",MAX(D7:E7),LARGE(D7:F7,2)))),998)) -> 63.696
A8: =IF(startovka!A8="","",startovka!A8) -> 3 | B8: =IF(startovka!B8="","",startovka!B8) -> Mniší | C8: 1pokus | D8: 61.507 | H8: =IF(B8="","",IF(G8="",IF(SUM(D$4:F$583)=0,"",IF(SUM(D8:F8)=0,999,IF(F8="",MAX(D8:E8),LARGE(D8:F8,2)))),998)) -> 61.507 | I8: =IF(B8="","",výpočty!I8) -> 1
C9: 2pokus | D9: 51.497 | H9: =IF(B8="","",IF(G9="",IF(SUM(D$4:F$83)=0,"",IF(SUM(D9:F9)=0,999,IF(F9="",MAX(D9:E9),LARGE(D9:F9,2)))),998)) -> 51.497
A10: =IF(startovka!A10="","",startovka!A10) -> 4 | B10: =IF(startovka!B10="","",startovka!B10) -> Hájov | C10: 1pokus | G10: pokus nehodnocen | H10: =IF(B10="","",IF(G10="",IF(SUM(D$4:F$583)=0,"",IF(SUM(D10:F10)=0,999,IF(F10="",MAX(D10:E10),LARGE(D10:F10,2)))),998)) -> 998 | I10: =IF(B10="","",výpočty!I10) -> 2
C11: 2pokus | D11: 54.069 | H11: =IF(B10="","",IF(G11="",IF(SUM(D$4:F$83)=0,"",IF(SUM(D11:F11)=0,999,IF(F11="",MAX(D11:E11),LARGE(D11:F11,2)))),998)) -> 54.069
A12: =IF(startovka!A12="","",startovka!A12) -> 5 | B12: =IF(startovka!B12="","",startovka!B12) -> Tísek "B" | C12: 1pokus | D12: 81.823 | H12: =IF(B12="","",IF(G12="",IF(SUM(D$4:F$583)=0,"",IF(SUM(D12:F12)=0,999,IF(F12="",MAX(D12:E12),LARGE(D12:F12,2)))),998)) -> 81.823 | I12: =IF(B12="","",výpočty!I12) -> 5
C13: 2pokus | D13: 92.627 | H13: =IF(B12="","",IF(G13="",IF(SUM(D$4:F$83)=0,"",IF(SUM(D13:F13)=0,999,IF(F13="",MAX(D13:E13),LARGE(D13:F13,2)))),998)) -> 92.627
A14: =IF(startovka!A14="","",startovka!A14) | B14: =IF(startovka!B14="","",startovka!B14) | C14: 1pokus | H14: =IF(B14="","",IF(G14="",IF(SUM(D$4:F$583)=0,"",IF(SUM(D14:F14)=0,999,IF(F14="",MAX(D14:E14),LARGE(D14:F14,2)))),998)) | I14: =IF(B14="","",výpočty!I14)
C15: 2pokus | H15: =IF(B14="","",IF(G15="",IF(SUM(D$4:F$83)=0,"",IF(SUM(D15:F15)=0,999,IF(F15="",MAX(D15:E15),LARGE(D15:F15,2)))),998))
A16: =IF(startovka!A16="","",startovka!A16) | B16: =IF(startovka!B16="","",startovka!B16) | C16: 1pokus | H16: =IF(B16="","",IF(G16="",IF(SUM(D$4:F$583)=0,"",IF(SUM(D16:F16)=0,999,IF(F16="",MAX(D16:E16),LARGE(D16:F16,2)))),998)) | I16: =IF(B16="","",výpočty!I16)
C17: 2pokus | H17: =IF(B16="","",IF(G17="",IF(SUM(D$4:F$83)=0,"",IF(SUM(D17:F17)=0,999,IF(F17="",MAX(D17:E17),LARGE(D17:F17,2)))),998))
A18: =IF(startovka!A18="","",startovka!A18) | B18: =IF(startovka!B18="","",startovka!B18) | C18: 1pokus | H18: =IF(B18="","",IF(G18="",IF(SUM(D$4:F$583)=0,"",IF(SUM(D18:F18)=0,999,IF(F18="",MAX(D18:E18),LARGE(D18:F18,2)))),998)) | I18: =IF(B18="","",výpočty!I18)
C19: 2pokus | H19: =IF(B18="","",IF(G19="",IF(SUM(D$4:F$83)=0,"",IF(SUM(D19:F19)=0,999,IF(F19="",MAX(D19:E19),LARGE(D19:F19,2)))),998))
A20: =IF(startovka!A20="","",startovka!A20) | B20: =IF(startovka!B20="","",startovka!B20) | C20: 1pokus | H20: =IF(B20="","",IF(G20="",IF(SUM(D$4:F$583)=0,"",IF(SUM(D20:F20)=0,999,IF(F20="",MAX(D20:E20),LARGE(D20:F20,2)))),998)) | I20: =IF(B20="","",výpočty!I20)
C21: 2pokus | H21: =IF(B20="","",IF(G21="",IF(SUM(D$4:F$83)=0,"",IF(SUM(D21:F21)=0,999,IF(F21="",MAX(D21:E21),LARGE(D21:F21,2)))),998))
A22: =IF(startovka!A22="","",startovka!A22) | B22: =IF(startovka!B22="","",startovka!B22) | C22: 1pokus | H22: =IF(B22="","",IF(G22="",IF(SUM(D$4:F$583)=0,"",IF(SUM(D22:F22)=0,999,IF(F22="",MAX(D22:E22),LARGE(D22:F22,2)))),998)) | I22: =IF(B22="","",výpočty!I22)
C23: 2pokus | H23: =IF(B22="","",IF(G23="",IF(SUM(D$4:F$83)=0,"",IF(SUM(D23:F23)=0,999,IF(F23="",MAX(D23:E23),LARGE(D23:F23,2)))),998))
A24: =IF(startovka!A24="","",startovka!A24) | B24: =IF(startovka!B24="","",startovka!B24) | C24: 1pokus | H24: =IF(B24="","",IF(G24="",IF(SUM(D$4:F$583)=0,"",IF(SUM(D24:F24)=0,999,IF(F24="",MAX(D24:E24),LARGE(D24:F24,2)))),998)) | I24: =IF(B24="","",výpočty!I24)
C25: 2pokus | H25: =IF(B24="","",IF(G25="",IF(SUM(D$4:F$83)=0,"",IF(SUM(D25:F25)=0,999,IF(F25="",MAX(D25:E25),LARGE(D25:F25,2)))),998))
A26: =IF(startovka!A26="","",startovka!A26) | B26: =IF(startovka!B26="","",startovka!B26) | C26: 1pokus | H26: =IF(B26="","",IF(G26="",IF(SUM(D$4:F$583)=0,"",IF(SUM(D26:F26)=0,999,IF(F26="",MAX(D26:E26),LARGE(D26:F26,2)))),998)) | I26: =IF(B26="","",výpočty!I26)
C27: 2pokus | H27: =IF(B26="","",IF(G27="",IF(SUM(D$4:F$83)=0,"",IF(SUM(D27:F27)=0,999,IF(F27="",MAX(D27:E27),LARGE(D27:F27,2)))),998))
A28: =IF(startovka!A28="","",startovka!A28) | B28: =IF(startovka!B28="","",startovka!B28) | C28: 1pokus | H28: =IF(B28="","",IF(G28="",IF(SUM(D$4:F$583)=0,"",IF(SUM(D28:F28)=0,999,IF(F28="",MAX(D28:E28),LARGE(D28:F28,2)))),998)) | I28: =IF(B28="","",výpočty!I28)
C29: 2pokus | H29: =IF(B28="","",IF(G29="",IF(SUM(D$4:F$83)=0,"",IF(SUM(D29:F29)=0,999,IF(F29="",MAX(D29:E29),LARGE(D29:F29,2)))),998))
A30: =IF(startovka!A30="","",startovka!A30) | B30: =IF(startovka!B30="","",startovka!B30) | C30: 1pokus | H30: =IF(B30="","",IF(G30="",IF(SUM(D$4:F$583)=0,"",IF(SUM(D30:F30)=0,999,IF(F30="",MAX(D30:E30),LARGE(D30:F30,2)))),998)) | I30: =IF(B30="","",výpočty!I30)
C31: 2pokus | H31: =IF(B30="","",IF(G31="",IF(SUM(D$4:F$83)=0,"",IF(SUM(D31:F31)=0,999,IF(F31="",MAX(D31:E31),LARGE(D31:F31,2)))),998))
A32: =IF(startovka!A32="","",startovka!A32) | B32: =IF(startovka!B32="","",startovka!B32) | C32: 1pokus | H32: =IF(B32="","",IF(G32="",IF(SUM(D$4:F$583)=0,"",IF(SUM(D32:F32)=0,999,IF(F32="",MAX(D32:E32),LARGE(D32:F32,2)))),998)) | I32: =IF(B32="","",výpočty!I32)
C33: 2pokus | H33: =IF(B32="","",IF(G33="",IF(SUM(D$4:F$83)=0,"",IF(SUM(D33:F33)=0,999,IF(F33="",MAX(D33:E33),LARGE(D33:F33,2)))),998))
A34: =IF(startovka!A34="","",startovka!A34) | B34: =IF(startovka!B34="","",startovka!B34) | C34: 1pokus | H34: =IF(B34="","",IF(G34="",IF(SUM(D$4:F$583)=0,"",IF(SUM(D34:F34)=0,999,IF(F34="",MAX(D34:E34),LARGE(D34:F34,2)))),998)) | I34: =IF(B34="","",výpočty!I34)
C35: 2pokus | H35: =IF(B34="","",IF(G35="",IF(SUM(D$4:F$83)=0,"",IF(SUM(D35:F35)=0,999,IF(F35="",MAX(D35:E35),LARGE(D35:F35,2)))),998))
A36: =IF(startovka!A36="","",startovka!A36) | B36: =IF(startovka!B36="","",startovka!B36) | C36: 1pokus | H36: =IF(B36="","",IF(G36="",IF(SUM(D$4:F$583)=0,"",IF(SUM(D36:F36)=0,999,IF(F36="",MAX(D36:E36),LARGE(D36:F36,2)))),998)) | I36: =IF(B36="","",výpočty!I36)
C37: 2pokus | H37: =IF(B36="","",IF(G37="",IF(SUM(D$4:F$83)=0,"",IF(SUM(D37:F37)=0,999,IF(F37="",MAX(D37:E37),LARGE(D37:F37,2)))),998))
A38: =IF(startovka!A38="","",startovka!A38) | B38: =IF(startovka!B38="","",startovka!B38) | C38: 1pokus | H38: =IF(B38="","",IF(G38="",IF(SUM(D$4:F$583)=0,"",IF(SUM(D38:F38)=0,999,IF(F38="",MAX(D38:E38),LARGE(D38:F38,2)))),998)) | I38: =IF(B38="","",výpočty!I38)
C39: 2pokus | H39: =IF(B38="","",IF(G39="",IF(SUM(D$4:F$83)=0,"",IF(SUM(D39:F39)=0,999,IF(F39="",MAX(D39:E39),LARGE(D39:F39,2)))),998))
A40: =IF(startovka!A40="","",startovka!A40) | B40: =IF(startovka!B40="","",startovka!B40) | C40: 1pokus | H40: =IF(B40="","",IF(G40="",IF(SUM(D$4:F$583)=0,"",IF(SUM(D40:F40)=0,999,IF(F40="",MAX(D40:E40),LARGE(D40:F40,2)))),998)) | I40: =IF(B40="","",výpočty!I40)
C41: 2pokus | H41: =IF(B40="","",IF(G41="",IF(SUM(D$4:F$83)=0,"",IF(SUM(D41:F41)=0,999,IF(F41="",MAX(D41:E41),LARGE(D41:F41,2)))),998))
A42: =IF(startovka!A42="","",startovka!A42) | B42: =IF(startovka!B42="","",startovka!B42) | C42: 1pokus | H42: =IF(B42="","",IF(G42="",IF(SUM(D$4:F$583)=0,"",IF(SUM(D42:F42)=0,999,IF(F42="",MAX(D42:E42),LARGE(D42:F42,2)))),998)) | I42: =IF(B42="","",výpočty!I42)
C43: 2pokus | H43: =IF(B42="","",IF(G43="",IF(SUM(D$4:F$83)=0,"",IF(SUM(D43:F43)=0,999,IF(F43="",MAX(D43:E43),LARGE(D43:F43,2)))),998))
A44: =IF(startovka!A44="","",startovka!A44) | B44: =IF(startovka!B44="","",startovka!B44) | C44: 1pokus | H44: =IF(B44="","",IF(G44="",IF(SUM(D$4:F$583)=0,"",IF(SUM(D44:F44)=0,999,IF(F44="",MAX(D44:E44),LARGE(D44:F44,2)))),998)) | I44: =IF(B44="","",výpočty!I44)
C45: 2pokus | H45: =IF(B44="","",IF(G45="",IF(SUM(D$4:F$83)=0,"",IF(SUM(D45:F45)=0,999,IF(F45="",MAX(D45:E45),LARGE(D45:F45,2)))),998))
A46: =IF(startovka!A46="","",startovka!A46) | B46: =IF(startovka!B46="","",startovka!B46) | C46: 1pokus | H46: =IF(B46="","",IF(G46="",IF(SUM(D$4:F$583)=0,"",IF(SUM(D46:F46)=0,999,IF(F46="",MAX(D46:E46),LARGE(D46:F46,2)))),998)) | I46: =IF(B46="","",výpočty!I46)
C47: 2pokus | H47: =IF(B46="","",IF(G47="",IF(SUM(D$4:F$83)=0,"",IF(SUM(D47:F47)=0,999,IF(F47="",MAX(D47:E47),LARGE(D47:F47,2)))),998))
A48: =IF(startovka!A48="","",startovka!A48) | B48: =IF(startovka!B48="","",startovka!B48) | C48: 1pokus | H48: =IF(B48="","",IF(G48="",IF(SUM(D$4:F$583)=0,"",IF(SUM(D48:F48)=0,999,IF(F48="",MAX(D48:E48),LARGE(D48:F48,2)))),998)) | I48: =IF(B48="","",výpočty!I48)
C49: 2pokus | H49: =IF(B48="","",IF(G49="",IF(SUM(D$4:F$83)=0,"",IF(SUM(D49:F49)=0,999,IF(F49="",MAX(D49:E49),LARGE(D49:F49,2)))),998))
A50: =IF(startovka!A50="","",startovka!A50) | B50: =IF(startovka!B50="","",startovka!B50) | C50: 1pokus | H50: =IF(B50="","",IF(G50="",IF(SUM(D$4:F$583)=0,"",IF(SUM(D50:F50)=0,999,IF(F50="",MAX(D50:E50),LARGE(D50:F50,2)))),998)) | I50: =IF(B50="","",výpočty!I50)
C51: 2pokus | H51: =IF(B50="","",IF(G51="",IF(SUM(D$4:F$83)=0,"",IF(SUM(D51:F51)=0,999,IF(F51="",MAX(D51:E51),LARGE(D51:F51,2)))),998))
A52: =IF(startovka!A52="","",startovka!A52) | B52: =IF(startovka!B52="","",startovka!B52) | C52: 1pokus | H52: =IF(B52="","",IF(G52="",IF(SUM(D$4:F$583)=0,"",IF(SUM(D52:F52)=0,999,IF(F52="",MAX(D52:E52),LARGE(D52:F52,2)))),998)) | I52: =IF(B52="","",výpočty!I52)
C53: 2pokus | H53: =IF(B52="","",IF(G53="",IF(SUM(D$4:F$83)=0,"",IF(SUM(D53:F53)=0,999,IF(F53="",MAX(D53:E53),LARGE(D53:F53,2)))),998))
A54: =IF(startovka!A54="","",startovka!A54) | B54: =IF(startovka!B54="","",startovka!B54) | C54: 1pokus | H54: =IF(B54="","",IF(G54="",IF(SUM(D$4:F$583)=0,"",IF(SUM(D54:F54)=0,999,IF(F54="",MAX(D54:E54),LARGE(D54:F54,2)))),998)) | I54: =IF(B54="","",výpočty!I54)
C55: 2pokus | H55: =IF(B54="","",IF(G55="",IF(SUM(D$4:F$83)=0,"",IF(SUM(D55:F55)=0,999,IF(F55="",MAX(D55:E55),LARGE(D55:F55,2)))),998))
A56: =IF(startovka!A56="","",startovka!A56) | B56: =IF(startovka!B56="","",startovka!B56) | C56: 1pokus | H56: =IF(B56="","",IF(G56="",IF(SUM(D$4:F$583)=0,"",IF(SUM(D56:F56)=0,999,IF(F56="",MAX(D56:E56),LARGE(D56:F56,2)))),998)) | I56: =IF(B56="","",výpočty!I56)
C57: 2pokus | H57: =IF(B56="","",IF(G57="",IF(SUM(D$4:F$83)=0,"",IF(SUM(D57:F57)=0,999,IF(F57="",MAX(D57:E57),LARGE(D57:F57,2)))),998))
A58: =IF(startovka!A58="","",startovka!A58) | B58: =IF(startovka!B58="","",startovka!B58) | C58: 1pokus | H58: =IF(B58="","",IF(G58="",IF(SUM(D$4:F$583)=0,"",IF(SUM(D58:F58)=0,999,IF(F58="",MAX(D58:E58),LARGE(D58:F58,2)))),998)) | I58: =IF(B58="","",výpočty!I58)
C59: 2pokus | H59: =IF(B58="","",IF(G59="",IF(SUM(D$4:F$83)=0,"",IF(SUM(D59:F59)=0,999,IF(F59="",MAX(D59:E59),LARGE(D59:F59,2)))),998))
A60: =IF(startovka!A60="","",startovka!A60) | B60: =IF(startovka!B60="","",startovka!B60) | C60: 1pokus | H60: =IF(B60="","",IF(G60="",IF(SUM(D$4:F$583)=0,"",IF(SUM(D60:F60)=0,999,IF(F60="",MAX(D60:E60),LARGE(D60:F60,2)))),998)) | I60: =IF(B60="","",výpočty!I60)
C61: 2pokus | H61: =IF(B60="","",IF(G61="",IF(SUM(D$4:F$83)=0,"",IF(SUM(D61:F61)=0,999,IF(F61="",MAX(D61:E61),LARGE(D61:F61,2)))),998))
A62: =IF(startovka!A62="","",startovka!A62) | B62: =IF(startovka!B62="","",startovka!B62) | C62: 1pokus | H62: =IF(B62="","",IF(G62="",IF(SUM(D$4:F$583)=0,"",IF(SUM(D62:F62)=0,999,IF(F62="",MAX(D62:E62),LARGE(D62:F62,2)))),998)) | I62: =IF(B62="","",výpočty!I62)
C63: 2pokus | H63: =IF(B62="","",IF(G63="",IF(SUM(D$4:F$83)=0,"",IF(SUM(D63:F63)=0,999,IF(F63="",MAX(D63:E63),LARGE(D63:F63,2)))),998))
A64: =IF(startovka!A64="","",startovka!A64) | B64: =IF(startovka!B64="","",startovka!B64) | C64: 1pokus | H64: =IF(B64="","",IF(G64="",IF(SUM(D$4:F$583)=0,"",IF(SUM(D64:F64)=0,999,IF(F64="",MAX(D64:E64),LARGE(D64:F64,2)))),998)) | I64: =IF(B64="","",výpočty!I64)
C65: 2pokus | H65: =IF(B64="","",IF(G65="",IF(SUM(D$4:F$83)=0,"",IF(SUM(D65:F65)=0,999,IF(F65="",MAX(D65:E65),LARGE(D65:F65,2)))),998))
A66: =IF(startovka!A66="","",startovka!A66) | B66: =IF(startovka!B66="","",startovka!B66) | C66: 1pokus | H66: =IF(B66="","",IF(G66="",IF(SUM(D$4:F$583)=0,"",IF(SUM(D66:F66)=0,999,IF(F66="",MAX(D66:E66),LARGE(D66:F66,2)))),998)) | I66: =IF(B66="","",výpočty!I66)
C67: 2pokus | H67: =IF(B66="","",IF(G67="",IF(SUM(D$4:F$83)=0,"",IF(SUM(D67:F67)=0,999,IF(F67="",MAX(D67:E67),LARGE(D67:F67,2)))),998))
A68: =IF(startovka!A68="","",startovka!A68) | B68: =IF(startovka!B68="","",startovka!B68) | C68: 1pokus | H68: =IF(B68="","",IF(G68="",IF(SUM(D$4:F$583)=0,"",IF(SUM(D68:F68)=0,999,IF(F68="",MAX(D68:E68),LARGE(D68:F68,2)))),998)) | I68: =IF(B68="","",výpočty!I68)
C69: 2pokus | H69: =IF(B68="","",IF(G69="",IF(SUM(D$4:F$83)=0,"",IF(SUM(D69:F69)=0,999,IF(F69="",MAX(D69:E69),LARGE(D69:F69,2)))),998))
A70: =IF(startovka!A70="","",startovka!A70) | B70: =IF(startovka!B70="","",startovka!B70) | C70: 1pokus | H70: =IF(B70="","",IF(G70="",IF(SUM(D$4:F$583)=0,"",IF(SUM(D70:F70)=0,999,IF(F70="",MAX(D70:E70),LARGE(D70:F70,2)))),998)) | I70: =IF(B70="","",výpočty!I70)
C71: 2pokus | H71: =IF(B70="","",IF(G71="",IF(SUM(D$4:F$83)=0,"",IF(SUM(D71:F71)=0,999,IF(F71="",MAX(D71:E71),LARGE(D71:F71,2)))),998))
A72: =IF(startovka!A72="","",startovka!A72) | B72: =IF(startovka!B72="","",startovka!B72) | C72: 1pokus | H72: =IF(B72="","",IF(G72="",IF(SUM(D$4:F$583)=0,"",IF(SUM(D72:F72)=0,999,IF(F72="",MAX(D72:E72),LARGE(D72:F72,2)))),998)) | I72: =IF(B72="","",výpočty!I72)
C73: 2pokus | H73: =IF(B72="","",IF(G73="",IF(SUM(D$4:F$83)=0,"",IF(SUM(D73:F73)=0,999,IF(F73="",MAX(D73:E73),LARGE(D73:F73,2)))),998))
A74: =IF(startovka!A74="","",startovka!A74) | B74: =IF(startovka!B74="","",startovka!B74) | C74: 1pokus | H74: =IF(B74="","",IF(G74="",IF(SUM(D$4:F$583)=0,"",IF(SUM(D74:F74)=0,999,IF(F74="",MAX(D74:E74),LARGE(D74:F74,2)))),998)) | I74: =IF(B74="","",výpočty!I74)
C75: 2pokus | H75: =IF(B74="","",IF(G75="",IF(SUM(D$4:F$83)=0,"",IF(SUM(D75:F75)=0,999,IF(F75="",MAX(D75:E75),LARGE(D75:F75,2)))),998))
A76: =IF(startovka!A76="","",startovka!A76) | B76: =IF(startovka!B76="","",startovka!B76) | C76: 1pokus | H76: =IF(B76="","",IF(G76="",IF(SUM(D$4:F$583)=0,"",IF(SUM(D76:F76)=0,999,IF(F76="",MAX(D76:E76),LARGE(D76:F76,2)))),998)) | I76: =IF(B76="","",výpočty!I76)
C77: 2pokus | H77: =IF(B76="","",IF(G77="",IF(SUM(D$4:F$83)=0,"",IF(SUM(D77:F77)=0,999,IF(F77="",MAX(D77:E77),LARGE(D77:F77,2)))),998))
A78: =IF(startovka!A78="","",startovka!A78) | B78: =IF(startovka!B78="","",startovka!B78) | C78: 1pokus | H78: =IF(B78="","",IF(G78="",IF(SUM(D$4:F$583)=0,"",IF(SUM(D78:F78)=0,999,IF(F78="",MAX(D78:E78),LARGE(D78:F78,2)))),998)) | I78: =IF(B78="","",výpočty!I78)
C79: 2pokus | H79: =IF(B78="","",IF(G79="",IF(SUM(D$4:F$83)=0,"",IF(SUM(D79:F79)=0,999,IF(F79="",MAX(D79:E79),LARGE(D79:F79,2)))),998))
A80: =IF(startovka!A80="","",startovka!A80) | B80: =IF(startovka!B80="","",startovka!B80) | C80: 1pokus | H80: =IF(B80="","",IF(G80="",IF(SUM(D$4:F$583)=0,"",IF(SUM(D80:F80)=0,999,IF(F80="",MAX(D80:E80),LARGE(D80:F80,2)))),998)) | I80: =IF(B80="","",výpočty!I80)
C81: 2pokus | H81: =IF(B80="","",IF(G81="",IF(SUM(D$4:F$83)=0,"",IF(SUM(D81:F81)=0,999,IF(F81="",MAX(D81:E81),LARGE(D81:F81,2)))),998))
A82: =IF(startovka!A82="","",startovka!A82) | B82: =IF(startovka!B82="","",startovka!B82) | C82: 1pokus | H82: =IF(B82="","",IF(G82="",IF(SUM(D$4:F$583)=0,"",IF(SUM(D82:F82)=0,999,IF(F82="",MAX(D82:E82),LARGE(D82:F82,2)))),998)) | I82: =IF(B82="","",výpočty!I82)
C83: 2pokus | H83: =IF(B82="","",IF(G83="",IF(SUM(D$4:F$83)=0,"",IF(SUM(D83:F83)=0,999,IF(F83="",MAX(D83:E83),LARGE(D83:F83,2)))),998))

Sheet štafeta CTIF
A1: štafeta CTIF | D1: Časy na trati | H1: Trestné body | L1: Výsledek disciplíny
A2: =startovka!B2 -> Kategorie: mladší | D2: I. Časoměřič, nebo el. měření | E2: II. časoměřič | F2: III. časoměřič | G2: úřední čas | H2: Nespravné spojení koncovek 10TB | I2: Nesprávné překonání překážky, nesprávně provedený úkon 10TB | J2: Vyšlápnutí z dráhy oběma nohama 10TB | K2: Nepřenesení proudnice přes cíl 20TB | L2: Důvod neplatnosti pokusu | M2: =IF(SUM(E4:G83)=0,"čas ukončení pokusu", "Výsledný čas pokusu") -> Výsledný čas pokusu | N2: počet bodů za umístění
A3: Start. číslo | B3: Soutěžní družstvo | C3: pokus
A4: =IF(startovka!A4="","",startovka!A4) -> 1 | B4: =IF(startovka!B4="","",startovka!B4) -> Frenštát p. R. | C4: 1pokus | D4: 114.376 | G4: =IF(B4="","",IF(SUM(D$4:F$583)=0,"",IF(D4="",999,IF(F4="",MAX(D4:E4),LARGE(D4:F4,2))))) -> 114.376 | M4: =IF(G4="","",IF(L4="",IF(G4=999,999,SUM(G4:K4)),998)) -> 114.376 | N4: =IF(B4="","",výpočty!L4) -> 4
C5: 2pokus | D5: 113.767 | G5: =IF(B4="","",IF(SUM(D$4:F$583)=0,"",IF(D5="",999,IF(F5="",MAX(D5:E5),LARGE(D5:F5,2))))) -> 113.767 | M5: =IF(G5="","",IF(L5="",IF(G5=999,999,SUM(G5:K5)),998)) -> 113.767
A6: =IF(startovka!A6="","",startovka!A6) -> 2 | B6: =IF(startovka!B6="","",startovka!B6) -> Tísek "A" | C6: 1pokus | D6: 100.531 | G6: =IF(B6="","",IF(SUM(D$4:F$583)=0,"",IF(D6="",999,IF(F6="",MAX(D6:E6),LARGE(D6:F6,2))))) -> 100.531 | M6: =IF(G6="","",IF(L6="",IF(G6=999,999,SUM(G6:K6)),998)) -> 100.531 | N6: =IF(B6="","",výpočty!L6) -> 3
C7: 2pokus | D7: 100.112 | G7: =IF(B6="","",IF(SUM(D$4:F$583)=0,"",IF(D7="",999,IF(F7="",MAX(D7:E7),LARGE(D7:F7,2))))) -> 100.112 | M7: =IF(G7="","",IF(L7="",IF(G7=999,999,SUM(G7:K7)),998)) -> 100.112
A8: =IF(startovka!A8="","",startovka!A8) -> 3 | B8: =IF(startovka!B8="","",startovka!B8) -> Mniší | C8: 1pokus | D8: 93.42 | G8: =IF(B8="","",IF(SUM(D$4:F$583)=0,"",IF(D8="",999,IF(F8="",MAX(D8:E8),LARGE(D8:F8,2))))) -> 93.42 | M8: =IF(G8="","",IF(L8="",IF(G8=999,999,SUM(G8:K8)),998)) -> 93.42 | N8: =IF(B8="","",výpočty!L8) -> 1
C9: 2pokus | D9: 91.311 | G9: =IF(B8="","",IF(SUM(D$4:F$583)=0,"",IF(D9="",999,IF(F9="",MAX(D9:E9),LARGE(D9:F9,2))))) -> 91.311 | M9: =IF(G9="","",IF(L9="",IF(G9=999,999,SUM(G9:K9)),998)) -> 91.311
A10: =IF(startovka!A10="","",startovka!A10) -> 4 | B10: =IF(startovka!B10="","",startovka!B10) -> Hájov | C10: 1pokus | D10: 99.218 | G10: =IF(B10="","",IF(SUM(D$4:F$583)=0,"",IF(D10="",999,IF(F10="",MAX(D10:E10),LARGE(D10:F10,2))))) -> 99.218 | M10: =IF(G10="","",IF(L10="",IF(G10=999,999,SUM(G10:K10)),998)) -> 99.218 | N10: =IF(B10="","",výpočty!L10) -> 2
C11: 2pokus | D11: 94.769 | G11: =IF(B10="","",IF(SUM(D$4:F$583)=0,"",IF(D11="",999,IF(F11="",MAX(D11:E11),LARGE(D11:F11,2))))) -> 94.769 | M11: =IF(G11="","",IF(L11="",IF(G11=999,999,SUM(G11:K11)),998)) -> 94.769
A12: =IF(startovka!A12="","",startovka!A12) -> 5 | B12: =IF(startovka!B12="","",startovka!B12) -> Tísek "B" | C12: 1pokus | D12: 134.657 | G12: =IF(B12="","",IF(SUM(D$4:F$583)=0,"",IF(D12="",999,IF(F12="",MAX(D12:E12),LARGE(D12:F12,2))))) -> 134.657 | M12: =IF(G12="","",IF(L12="",IF(G12=999,999,SUM(G12:K12)),998)) -> 134.657 | N12: =IF(B12="","",výpočty!L12) -> 5
C13: 2pokus | D13: 129.773 | G13: =IF(B12="","",IF(SUM(D$4:F$583)=0,"",IF(D13="",999,IF(F13="",MAX(D13:E13),LARGE(D13:F13,2))))) -> 129.773 | M13: =IF(G13="","",IF(L13="",IF(G13=999,999,SUM(G13:K13)),998)) -> 129.773
A14: =IF(startovka!A14="","",startovka!A14) | B14: =IF(startovka!B14="","",startovka!B14) | C14: 1pokus | G14: =IF(B14="","",IF(SUM(D$4:F$583)=0,"",IF(D14="",999,IF(F14="",MAX(D14:E14),LARGE(D14:F14,2))))) | M14: =IF(G14="","",IF(L14="",IF(G14=999,999,SUM(G14:K14)),998)) | N14: =IF(B14="","",výpočty!L14)
C15: 2pokus | G15: =IF(B14="","",IF(SUM(D$4:F$583)=0,"",IF(D15="",999,IF(F15="",MAX(D15:E15),LARGE(D15:F15,2))))) | M15: =IF(G15="","",IF(L15="",IF(G15=999,999,SUM(G15:K15)),998))
A16: =IF(startovka!A16="","",startovka!A16) | B16: =IF(startovka!B16="","",startovka!B16) | C16: 1pokus | G16: =IF(B16="","",IF(SUM(D$4:F$583)=0,"",IF(D16="",999,IF(F16="",MAX(D16:E16),LARGE(D16:F16,2))))) | M16: =IF(G16="","",IF(L16="",IF(G16=999,999,SUM(G16:K16)),998)) | N16: =IF(B16="","",výpočty!L16)
C17: 2pokus | G17: =IF(B16="","",IF(SUM(D$4:F$583)=0,"",IF(D17="",999,IF(F17="",MAX(D17:E17),LARGE(D17:F17,2))))) | M17: =IF(G17="","",IF(L17="",IF(G17=999,999,SUM(G17:K17)),998))
A18: =IF(startovka!A18="","",startovka!A18) | B18: =IF(startovka!B18="","",startovka!B18) | C18: 1pokus | G18: =IF(B18="","",IF(SUM(D$4:F$583)=0,"",IF(D18="",999,IF(F18="",MAX(D18:E18),LARGE(D18:F18,2))))) | M18: =IF(G18="","",IF(L18="",IF(G18=999,999,SUM(G18:K18)),998)) | N18: =IF(B18="","",výpočty!L18)
C19: 2pokus | G19: =IF(B18="","",IF(SUM(D$4:F$583)=0,"",IF(D19="",999,IF(F19="",MAX(D19:E19),LARGE(D19:F19,2))))) | M19: =IF(G19="","",IF(L19="",IF(G19=999,999,SUM(G19:K19)),998))
A20: =IF(startovka!A20="","",startovka!A20) | B20: =IF(startovka!B20="","",startovka!B20) | C20: 1pokus | G20: =IF(B20="","",IF(SUM(D$4:F$583)=0,"",IF(D20="",999,IF(F20="",MAX(D20:E20),LARGE(D20:F20,2))))) | M20: =IF(G20="","",IF(L20="",IF(G20=999,999,SUM(G20:K20)),998)) | N20: =IF(B20="","",výpočty!L20)
C21: 2pokus | G21: =IF(B20="","",IF(SUM(D$4:F$583)=0,"",IF(D21="",999,IF(F21="",MAX(D21:E21),LARGE(D21:F21,2))))) | M21: =IF(G21="","",IF(L21="",IF(G21=999,999,SUM(G21:K21)),998))
A22: =IF(startovka!A22="","",startovka!A22) | B22: =IF(startovka!B22="","",startovka!B22) | C22: 1pokus | G22: =IF(B22="","",IF(SUM(D$4:F$583)=0,"",IF(D22="",999,IF(F22="",MAX(D22:E22),LARGE(D22:F22,2))))) | M22: =IF(G22="","",IF(L22="",IF(G22=999,999,SUM(G22:K22)),998)) | N22: =IF(B22="","",výpočty!L22)
C23: 2pokus | G23: =IF(B22="","",IF(SUM(D$4:F$583)=0,"",IF(D23="",999,IF(F23="",MAX(D23:E23),LARGE(D23:F23,2))))) | M23: =IF(G23="","",IF(L23="",IF(G23=999,999,SUM(G23:K23)),998))
A24: =IF(startovka!A24="","",startovka!A24) | B24: =IF(startovka!B24="","",startovka!B24) | C24: 1pokus | G24: =IF(B24="","",IF(SUM(D$4:F$583)=0,"",IF(D24="",999,IF(F24="",MAX(D24:E24),LARGE(D24:F24,2))))) | M24: =IF(G24="","",IF(L24="",IF(G24=999,999,SUM(G24:K24)),998)) | N24: =IF(B24="","",výpočty!L24)
C25: 2pokus | G25: =IF(B24="","",IF(SUM(D$4:F$583)=0,"",IF(D25="",999,IF(F25="",MAX(D25:E25),LARGE(D25:F25,2))))) | M25: =IF(G25="","",IF(L25="",IF(G25=999,999,SUM(G25:K25)),998))
A26: =IF(startovka!A26="","",startovka!A26) | B26: =IF(startovka!B26="","",startovka!B26) | C26: 1pokus | G26: =IF(B26="","",IF(SUM(D$4:F$583)=0,"",IF(D26="",999,IF(F26="",MAX(D26:E26),LARGE(D26:F26,2))))) | M26: =IF(G26="","",IF(L26="",IF(G26=999,999,SUM(G26:K26)),998)) | N26: =IF(B26="","",výpočty!L26)
C27: 2pokus | G27: =IF(B26="","",IF(SUM(D$4:F$583)=0,"",IF(D27="",999,IF(F27="",MAX(D27:E27),LARGE(D27:F27,2))))) | M27: =IF(G27="","",IF(L27="",IF(G27=999,999,SUM(G27:K27)),998))
A28: =IF(startovka!A28="","",startovka!A28) | B28: =IF(startovka!B28="","",startovka!B28) | C28: 1pokus | G28: =IF(B28="","",IF(SUM(D$4:F$583)=0,"",IF(D28="",999,IF(F28="",MAX(D28:E28),LARGE(D28:F28,2))))) | M28: =IF(G28="","",IF(L28="",IF(G28=999,999,SUM(G28:K28)),998)) | N28: =IF(B28="","",výpočty!L28)
C29: 2pokus | G29: =IF(B28="","",IF(SUM(D$4:F$583)=0,"",IF(D29="",999,IF(F29="",MAX(D29:E29),LARGE(D29:F29,2))))) | M29: =IF(G29="","",IF(L29="",IF(G29=999,999,SUM(G29:K29)),998))
A30: =IF(startovka!A30="","",startovka!A30) | B30: =IF(startovka!B30="","",startovka!B30) | C30: 1pokus | G30: =IF(B30="","",IF(SUM(D$4:F$583)=0,"",IF(D30="",999,IF(F30="",MAX(D30:E30),LARGE(D30:F30,2))))) | M30: =IF(G30="","",IF(L30="",IF(G30=999,999,SUM(G30:K30)),998)) | N30: =IF(B30="","",výpočty!L30)
C31: 2pokus | G31: =IF(B30="","",IF(SUM(D$4:F$583)=0,"",IF(D31="",999,IF(F31="",MAX(D31:E31),LARGE(D31:F31,2))))) | M31: =IF(G31="","",IF(L31="",IF(G31=999,999,SUM(G31:K31)),998))
A32: =IF(startovka!A32="","",startovka!A32) | B32: =IF(startovka!B32="","",startovka!B32) | C32: 1pokus | G32: =IF(B32="","",IF(SUM(D$4:F$583)=0,"",IF(D32="",999,IF(F32="",MAX(D32:E32),LARGE(D32:F32,2))))) | M32: =IF(G32="","",IF(L32="",IF(G32=999,999,SUM(G32:K32)),998)) | N32: =IF(B32="","",výpočty!L32)
C33: 2pokus | G33: =IF(B32="","",IF(SUM(D$4:F$583)=0,"",IF(D33="",999,IF(F33="",MAX(D33:E33),LARGE(D33:F33,2))))) | M33: =IF(G33="","",IF(L33="",IF(G33=999,999,SUM(G33:K33)),998))
A34: =IF(startovka!A34="","",startovka!A34) | B34: =IF(startovka!B34="","",startovka!B34) | C34: 1pokus | G34: =IF(B34="","",IF(SUM(D$4:F$583)=0,"",IF(D34="",999,IF(F34="",MAX(D34:E34),LARGE(D34:F34,2))))) | M34: =IF(G34="","",IF(L34="",IF(G34=999,999,SUM(G34:K34)),998)) | N34: =IF(B34="","",výpočty!L34)
C35: 2pokus | G35: =IF(B34="","",IF(SUM(D$4:F$583)=0,"",IF(D35="",999,IF(F35="",MAX(D35:E35),LARGE(D35:F35,2))))) | M35: =IF(G35="","",IF(L35="",IF(G35=999,999,SUM(G35:K35)),998))
A36: =IF(startovka!A36="","",startovka!A36) | B36: =IF(startovka!B36="","",startovka!B36) | C36: 1pokus | G36: =IF(B36="","",IF(SUM(D$4:F$583)=0,"",IF(D36="",999,IF(F36="",MAX(D36:E36),LARGE(D36:F36,2))))) | M36: =IF(G36="","",IF(L36="",IF(G36=999,999,SUM(G36:K36)),998)) | N36: =IF(B36="","",výpočty!L36)
C37: 2pokus | G37: =IF(B36="","",IF(SUM(D$4:F$583)=0,"",IF(D37="",999,IF(F37="",MAX(D37:E37),LARGE(D37:F37,2))))) | M37: =IF(G37="","",IF(L37="",IF(G37=999,999,SUM(G37:K37)),998))
A38: =IF(startovka!A38="","",startovka!A38) | B38: =IF(startovka!B38="","",startovka!B38) | C38: 1pokus | G38: =IF(B38="","",IF(SUM(D$4:F$583)=0,"",IF(D38="",999,IF(F38="",MAX(D38:E38),LARGE(D38:F38,2))))) | M38: =IF(G38="","",IF(L38="",IF(G38=999,999,SUM(G38:K38)),998)) | N38: =IF(B38="","",výpočty!L38)
C39: 2pokus | G39: =IF(B38="","",IF(SUM(D$4:F$583)=0,"",IF(D39="",999,IF(F39="",MAX(D39:E39),LARGE(D39:F39,2))))) | M39: =IF(G39="","",IF(L39="",IF(G39=999,999,SUM(G39:K39)),998))
A40: =IF(startovka!A40="","",startovka!A40) | B40: =IF(startovka!B40="","",startovka!B40) | C40: 1pokus | G40: =IF(B40="","",IF(SUM(D$4:F$583)=0,"",IF(D40="",999,IF(F40="",MAX(D40:E40),LARGE(D40:F40,2))))) | M40: =IF(G40="","",IF(L40="",IF(G40=999,999,SUM(G40:K40)),998)) | N40: =IF(B40="","",výpočty!L40)
C41: 2pokus | G41: =IF(B40="","",IF(SUM(D$4:F$583)=0,"",IF(D41="",999,IF(F41="",MAX(D41:E41),LARGE(D41:F41,2))))) | M41: =IF(G41="","",IF(L41="",IF(G41=999,999,SUM(G41:K41)),998))
A42: =IF(startovka!A42="","",startovka!A42) | B42: =IF(startovka!B42="","",startovka!B42) | C42: 1pokus | G42: =IF(B42="","",IF(SUM(D$4:F$583)=0,"",IF(D42="",999,IF(F42="",MAX(D42:E42),LARGE(D42:F42,2))))) | M42: =IF(G42="","",IF(L42="",IF(G42=999,999,SUM(G42:K42)),998)) | N42: =IF(B42="","",výpočty!L42)
C43: 2pokus | G43: =IF(B42="","",IF(SUM(D$4:F$583)=0,"",IF(D43="",999,IF(F43="",MAX(D43:E43),LARGE(D43:F43,2))))) | M43: =IF(G43="","",IF(L43="",IF(G43=999,999,SUM(G43:K43)),998))
A44: =IF(startovka!A44="","",startovka!A44) | B44: =IF(startovka!B44="","",startovka!B44) | C44: 1pokus | G44: =IF(B44="","",IF(SUM(D$4:F$583)=0,"",IF(D44="",999,IF(F44="",MAX(D44:E44),LARGE(D44:F44,2))))) | M44: =IF(G44="","",IF(L44="",IF(G44=999,999,SUM(G44:K44)),998)) | N44: =IF(B44="","",výpočty!L44)
C45: 2pokus | G45: =IF(B44="","",IF(SUM(D$4:F$583)=0,"",IF(D45="",999,IF(F45="",MAX(D45:E45),LARGE(D45:F45,2))))) | M45: =IF(G45="","",IF(L45="",IF(G45=999,999,SUM(G45:K45)),998))
A46: =IF(startovka!A46="","",startovka!A46) | B46: =IF(startovka!B46="","",startovka!B46) | C46: 1pokus | G46: =IF(B46="","",IF(SUM(D$4:F$583)=0,"",IF(D46="",999,IF(F46="",MAX(D46:E46),LARGE(D46:F46,2))))) | M46: =IF(G46="","",IF(L46="",IF(G46=999,999,SUM(G46:K46)),998)) | N46: =IF(B46="","",výpočty!L46)
C47: 2pokus | G47: =IF(B46="","",IF(SUM(D$4:F$583)=0,"",IF(D47="",999,IF(F47="",MAX(D47:E47),LARGE(D47:F47,2))))) | M47: =IF(G47="","",IF(L47="",IF(G47=999,999,SUM(G47:K47)),998))
A48: =IF(startovka!A48="","",startovka!A48) | B48: =IF(startovka!B48="","",startovka!B48) | C48: 1pokus | G48: =IF(B48="","",IF(SUM(D$4:F$583)=0,"",IF(D48="",999,IF(F48="",MAX(D48:E48),LARGE(D48:F48,2))))) | M48: =IF(G48="","",IF(L48="",IF(G48=999,999,SUM(G48:K48)),998)) | N48: =IF(B48="","",výpočty!L48)
C49: 2pokus | G49: =IF(B48="","",IF(SUM(D$4:F$583)=0,"",IF(D49="",999,IF(F49="",MAX(D49:E49),LARGE(D49:F49,2))))) | M49: =IF(G49="","",IF(L49="",IF(G49=999,999,SUM(G49:K49)),998))
A50: =IF(startovka!A50="","",startovka!A50) | B50: =IF(startovka!B50="","",startovka!B50) | C50: 1pokus | G50: =IF(B50="","",IF(SUM(D$4:F$583)=0,"",IF(D50="",999,IF(F50="",MAX(D50:E50),LARGE(D50:F50,2))))) | M50: =IF(G50="","",IF(L50="",IF(G50=999,999,SUM(G50:K50)),998)) | N50: =IF(B50="","",výpočty!L50)
C51: 2pokus | G51: =IF(B50="","",IF(SUM(D$4:F$583)=0,"",IF(D51="",999,IF(F51="",MAX(D51:E51),LARGE(D51:F51,2))))) | M51: =IF(G51="","",IF(L51="",IF(G51=999,999,SUM(G51:K51)),998))
A52: =IF(startovka!A52="","",startovka!A52) | B52: =IF(startovka!B52="","",startovka!B52) | C52: 1pokus | G52: =IF(B52="","",IF(SUM(D$4:F$583)=0,"",IF(D52="",999,IF(F52="",MAX(D52:E52),LARGE(D52:F52,2))))) | M52: =IF(G52="","",IF(L52="",IF(G52=999,999,SUM(G52:K52)),998)) | N52: =IF(B52="","",výpočty!L52)
C53: 2pokus | G53: =IF(B52="","",IF(SUM(D$4:F$583)=0,"",IF(D53="",999,IF(F53="",MAX(D53:E53),LARGE(D53:F53,2))))) | M53: =IF(G53="","",IF(L53="",IF(G53=999,999,SUM(G53:K53)),998))
A54: =IF(startovka!A54="","",startovka!A54) | B54: =IF(startovka!B54="","",startovka!B54) | C54: 1pokus | G54: =IF(B54="","",IF(SUM(D$4:F$583)=0,"",IF(D54="",999,IF(F54="",MAX(D54:E54),LARGE(D54:F54,2))))) | M54: =IF(G54="","",IF(L54="",IF(G54=999,999,SUM(G54:K54)),998)) | N54: =IF(B54="","",výpočty!L54)
C55: 2pokus | G55: =IF(B54="","",IF(SUM(D$4:F$583)=0,"",IF(D55="",999,IF(F55="",MAX(D55:E55),LARGE(D55:F55,2))))) | M55: =IF(G55="","",IF(L55="",IF(G55=999,999,SUM(G55:K55)),998))
A56: =IF(startovka!A56="","",startovka!A56) | B56: =IF(startovka!B56="","",startovka!B56) | C56: 1pokus | G56: =IF(B56="","",IF(SUM(D$4:F$583)=0,"",IF(D56="",999,IF(F56="",MAX(D56:E56),LARGE(D56:F56,2))))) | M56: =IF(G56="","",IF(L56="",IF(G56=999,999,SUM(G56:K56)),998)) | N56: =IF(B56="","",výpočty!L56)
C57: 2pokus | G57: =IF(B56="","",IF(SUM(D$4:F$583)=0,"",IF(D57="",999,IF(F57="",MAX(D57:E57),LARGE(D57:F57,2))))) | M57: =IF(G57="","",IF(L57="",IF(G57=999,999,SUM(G57:K57)),998))
A58: =IF(startovka!A58="","",startovka!A58) | B58: =IF(startovka!B58="","",startovka!B58) | C58: 1pokus | G58: =IF(B58="","",IF(SUM(D$4:F$583)=0,"",IF(D58="",999,IF(F58="",MAX(D58:E58),LARGE(D58:F58,2))))) | M58: =IF(G58="","",IF(L58="",IF(G58=999,999,SUM(G58:K58)),998)) | N58: =IF(B58="","",výpočty!L58)
C59: 2pokus | G59: =IF(B58="","",IF(SUM(D$4:F$583)=0,"",IF(D59="",999,IF(F59="",MAX(D59:E59),LARGE(D59:F59,2))))) | M59: =IF(G59="","",IF(L59="",IF(G59=999,999,SUM(G59:K59)),998))
A60: =IF(startovka!A60="","",startovka!A60) | B60: =IF(startovka!B60="","",startovka!B60) | C60: 1pokus | G60: =IF(B60="","",IF(SUM(D$4:F$583)=0,"",IF(D60="",999,IF(F60="",MAX(D60:E60),LARGE(D60:F60,2))))) | M60: =IF(G60="","",IF(L60="",IF(G60=999,999,SUM(G60:K60)),998)) | N60: =IF(B60="","",výpočty!L60)
C61: 2pokus | G61: =IF(B60="","",IF(SUM(D$4:F$583)=0,"",IF(D61="",999,IF(F61="",MAX(D61:E61),LARGE(D61:F61,2))))) | M61: =IF(G61="","",IF(L61="",IF(G61=999,999,SUM(G61:K61)),998))
A62: =IF(startovka!A62="","",startovka!A62) | B62: =IF(startovka!B62="","",startovka!B62) | C62: 1pokus | G62: =IF(B62="","",IF(SUM(D$4:F$583)=0,"",IF(D62="",999,IF(F62="",MAX(D62:E62),LARGE(D62:F62,2))))) | M62: =IF(G62="","",IF(L62="",IF(G62=999,999,SUM(G62:K62)),998)) | N62: =IF(B62="","",výpočty!L62)
C63: 2pokus | G63: =IF(B62="","",IF(SUM(D$4:F$583)=0,"",IF(D63="",999,IF(F63="",MAX(D63:E63),LARGE(D63:F63,2))))) | M63: =IF(G63="","",IF(L63="",IF(G63=999,999,SUM(G63:K63)),998))
A64: =IF(startovka!A64="","",startovka!A64) | B64: =IF(startovka!B64="","",startovka!B64) | C64: 1pokus | G64: =IF(B64="","",IF(SUM(D$4:F$583)=0,"",IF(D64="",999,IF(F64="",MAX(D64:E64),LARGE(D64:F64,2))))) | M64: =IF(G64="","",IF(L64="",IF(G64=999,999,SUM(G64:K64)),998)) | N64: =IF(B64="","",výpočty!L64)
C65: 2pokus | G65: =IF(B64="","",IF(SUM(D$4:F$583)=0,"",IF(D65="",999,IF(F65="",MAX(D65:E65),LARGE(D65:F65,2))))) | M65: =IF(G65="","",IF(L65="",IF(G65=999,999,SUM(G65:K65)),998))
A66: =IF(startovka!A66="","",startovka!A66) | B66: =IF(startovka!B66="","",startovka!B66) | C66: 1pokus | G66: =IF(B66="","",IF(SUM(D$4:F$583)=0,"",IF(D66="",999,IF(F66="",MAX(D66:E66),LARGE(D66:F66,2))))) | M66: =IF(G66="","",IF(L66="",IF(G66=999,999,SUM(G66:K66)),998)) | N66: =IF(B66="","",výpočty!L66)
C67: 2pokus | G67: =IF(B66="","",IF(SUM(D$4:F$583)=0,"",IF(D67="",999,IF(F67="",MAX(D67:E67),LARGE(D67:F67,2))))) | M67: =IF(G67="","",IF(L67="",IF(G67=999,999,SUM(G67:K67)),998))
A68: =IF(startovka!A68="","",startovka!A68) | B68: =IF(startovka!B68="","",startovka!B68) | C68: 1pokus | G68: =IF(B68="","",IF(SUM(D$4:F$583)=0,"",IF(D68="",999,IF(F68="",MAX(D68:E68),LARGE(D68:F68,2))))) | M68: =IF(G68="","",IF(L68="",IF(G68=999,999,SUM(G68:K68)),998)) | N68: =IF(B68="","",výpočty!L68)
C69: 2pokus | G69: =IF(B68="","",IF(SUM(D$4:F$583)=0,"",IF(D69="",999,IF(F69="",MAX(D69:E69),LARGE(D69:F69,2))))) | M69: =IF(G69="","",IF(L69="",IF(G69=999,999,SUM(G69:K69)),998))
A70: =IF(startovka!A70="","",startovka!A70) | B70: =IF(startovka!B70="","",startovka!B70) | C70: 1pokus | G70: =IF(B70="","",IF(SUM(D$4:F$583)=0,"",IF(D70="",999,IF(F70="",MAX(D70:E70),LARGE(D70:F70,2))))) | M70: =IF(G70="","",IF(L70="",IF(G70=999,999,SUM(G70:K70)),998)) | N70: =IF(B70="","",výpočty!L70)
C71: 2pokus | G71: =IF(B70="","",IF(SUM(D$4:F$583)=0,"",IF(D71="",999,IF(F71="",MAX(D71:E71),LARGE(D71:F71,2))))) | M71: =IF(G71="","",IF(L71="",IF(G71=999,999,SUM(G71:K71)),998))
A72: =IF(startovka!A72="","",startovka!A72) | B72: =IF(startovka!B72="","",startovka!B72) | C72: 1pokus | G72: =IF(B72="","",IF(SUM(D$4:F$583)=0,"",IF(D72="",999,IF(F72="",MAX(D72:E72),LARGE(D72:F72,2))))) | M72: =IF(G72="","",IF(L72="",IF(G72=999,999,SUM(G72:K72)),998)) | N72: =IF(B72="","",výpočty!L72)
C73: 2pokus | G73: =IF(B72="","",IF(SUM(D$4:F$583)=0,"",IF(D73="",999,IF(F73="",MAX(D73:E73),LARGE(D73:F73,2))))) | M73: =IF(G73="","",IF(L73="",IF(G73=999,999,SUM(G73:K73)),998))
A74: =IF(startovka!A74="","",startovka!A74) | B74: =IF(startovka!B74="","",startovka!B74) | C74: 1pokus | G74: =IF(B74="","",IF(SUM(D$4:F$583)=0,"",IF(D74="",999,IF(F74="",MAX(D74:E74),LARGE(D74:F74,2))))) | M74: =IF(G74="","",IF(L74="",IF(G74=999,999,SUM(G74:K74)),998)) | N74: =IF(B74="","",výpočty!L74)
C75: 2pokus | G75: =IF(B74="","",IF(SUM(D$4:F$583)=0,"",IF(D75="",999,IF(F75="",MAX(D75:E75),LARGE(D75:F75,2))))) | M75: =IF(G75="","",IF(L75="",IF(G75=999,999,SUM(G75:K75)),998))
A76: =IF(startovka!A76="","",startovka!A76) | B76: =IF(startovka!B76="","",startovka!B76) | C76: 1pokus | G76: =IF(B76="","",IF(SUM(D$4:F$583)=0,"",IF(D76="",999,IF(F76="",MAX(D76:E76),LARGE(D76:F76,2))))) | M76: =IF(G76="","",IF(L76="",IF(G76=999,999,SUM(G76:K76)),998)) | N76: =IF(B76="","",výpočty!L76)
C77: 2pokus | G77: =IF(B76="","",IF(SUM(D$4:F$583)=0,"",IF(D77="",999,IF(F77="",MAX(D77:E77),LARGE(D77:F77,2))))) | M77: =IF(G77="","",IF(L77="",IF(G77=999,999,SUM(G77:K77)),998))
A78: =IF(startovka!A78="","",startovka!A78) | B78: =IF(startovka!B78="","",startovka!B78) | C78: 1pokus | G78: =IF(B78="","",IF(SUM(D$4:F$583)=0,"",IF(D78="",999,IF(F78="",MAX(D78:E78),LARGE(D78:F78,2))))) | M78: =IF(G78="","",IF(L78="",IF(G78=999,999,SUM(G78:K78)),998)) | N78: =IF(B78="","",výpočty!L78)
C79: 2pokus | G79: =IF(B78="","",IF(SUM(D$4:F$583)=0,"",IF(D79="",999,IF(F79="",MAX(D79:E79),LARGE(D79:F79,2))))) | M79: =IF(G79="","",IF(L79="",IF(G79=999,999,SUM(G79:K79)),998))
A80: =IF(startovka!A80="","",startovka!A80) | B80: =IF(startovka!B80="","",startovka!B80) | C80: 1pokus | G80: =IF(B80="","",IF(SUM(D$4:F$583)=0,"",IF(D80="",999,IF(F80="",MAX(D80:E80),LARGE(D80:F80,2))))) | M80: =IF(G80="","",IF(L80="",IF(G80=999,999,SUM(G80:K80)),998)) | N80: =IF(B80="","",výpočty!L80)
C81: 2pokus | G81: =IF(B80="","",IF(SUM(D$4:F$583)=0,"",IF(D81="",999,IF(F81="",MAX(D81:E81),LARGE(D81:F81,2))))) | M81: =IF(G81="","",IF(L81="",IF(G81=999,999,SUM(G81:K81)),998))
A82: =IF(startovka!A82="","",startovka!A82) | B82: =IF(startovka!B82="","",startovka!B82) | C82: 1pokus | G82: =IF(B82="","",IF(SUM(D$4:F$583)=0,"",IF(D82="",999,IF(F82="",MAX(D82:E82),LARGE(D82:F82,2))))) | M82: =IF(G82="","",IF(L82="",IF(G82=999,999,SUM(G82:K82)),998)) | N82: =IF(B82="","",výpočty!L82)
C83: 2pokus | G83: =IF(B82="","",IF(SUM(D$4:F$583)=0,"",IF(D83="",999,IF(F83="",MAX(D83:E83),LARGE(D83:F83,2))))) | M83: =IF(G83="","",IF(L83="",IF(G83=999,999,SUM(G83:K83)),998))

Sheet štafeta dvojic
A1: ŠTAFETA POŽÁRNÍCH DVOJIC | D1: Základem je čas naměřeny od vydání signálu startéra do proběhnutí posledního člena cílem | H1: K úřednímu času se připočítavají trest. sekundy - za každý případ 10 sekund. | S1: Důvod neplatnosti pokusu (1-6 nebo slovně) | T1: Výsledek soutěže
A2: =startovka!B2 -> Kategorie: mladší | D2: I. časoměřič | E2: II. časoměřič | F2: III. časoměřič | G2: úřední čas | H2: Předčasné vyběhnutí | I2: Nesvinutí rozpadlého kotouče | J2: Nerozložení hadice (proudnice na čáru | K2: Nesprávné napojení hadice nebo proudnice | L2: Nesprávné rozvinutí hadice u hydrantu | M2: Nesprávné oběhnutí nebo neoběhnutí mety | N2: Neúplné svinutí hadice | O2: Hození hadice, koncovky nebo proudnice | P2: Chození po nesprávné straně | Q2: Nesprávné svinutí hadice | R2: Nesprávné odpojení hadice, proudnice | T2: =IF(SUM(D4:F83)=0,"čas ukončení pokusu", "Výsledný čas pokusu") -> Výsledný čas pokusu | U2: počet bodů za umístění
A3: Start. číslo | B3: Soutěžní družstvo | C3: pokus
A4: =IF(startovka!A4="","",startovka!A4) -> 1 | B4: =IF(startovka!B4="","",startovka!B4) -> Frenštát p. R. | C4: 1pokus | D4: 94.91 | E4: 94.09 | F4: 95 | G4: =IF(B4="","",IF(SUM(D$4:F$500)=0,"",IF(D4="",999,IF(F4="",MAX(D4:E4),LARGE(D4:F4,2))))) -> 94.91 | Q4: 10 | T4: =IF(G4="","",IF(S4="",SUM(G4:R4),998)) -> 104.91 | U4: =IF(B4="","",výpočty!O4) -> 4
C5: 2pokus | D5: 75.53 | E5: 75.55 | F5: 75.7 | G5: =IF(B4="","",IF(SUM(D$4:F$500)=0,"",IF(D5="",999,IF(F5="",MAX(D5:E5),LARGE(D5:F5,2))))) -> 75.55 | T5: =IF(G5="","",IF(S5="",SUM(G5:R5),998)) -> 75.55
A6: =IF(startovka!A6="","",startovka!A6) -> 2 | B6: =IF(startovka!B6="","",startovka!B6) -> Tísek "A" | C6: 1pokus | D6: 71.41 | E6: 71.73 | F6: 71.75 | G6: =IF(B6="","",IF(SUM(D$4:F$500)=0,"",IF(D6="",999,IF(F6="",MAX(D6:E6),LARGE(D6:F6,2))))) -> 71.73 | T6: =IF(G6="","",IF(S6="",SUM(G6:R6),998)) -> 71.73 | U6: =IF(B6="","",výpočty!O6) -> 3
C7: 2pokus | D7: 74.87 | E7: 74.95 | F7: 75.06 | G7: =IF(B6="","",IF(SUM(D$4:F$500)=0,"",IF(D7="",999,IF(F7="",MAX(D7:E7),LARGE(D7:F7,2))))) -> 74.95 | T7: =IF(G7="","",IF(S7="",SUM(G7:R7),998)) -> 74.95
A8: =IF(startovka!A8="","",startovka!A8) -> 3 | B8: =IF(startovka!B8="","",startovka!B8) -> Mniší | C8: 1pokus | D8: 71.29 | E8: 71.35 | F8: 71.35 | G8: =IF(B8="","",IF(SUM(D$4:F$500)=0,"",IF(D8="",999,IF(F8="",MAX(D8:E8),LARGE(D8:F8,2))))) -> 71.35 | T8: =IF(G8="","",IF(S8="",SUM(G8:R8),998)) -> 71.35 | U8: =IF(B8="","",výpočty!O8) -> 2
C9: 2pokus | D9: 67.69 | E9: 68.08 | F9: 67.95 | G9: =IF(B8="","",IF(SUM(D$4:F$500)=0,"",IF(D9="",999,IF(F9="",MAX(D9:E9),LARGE(D9:F9,2))))) -> 67.95 | T9: =IF(G9="","",IF(S9="",SUM(G9:R9),998)) -> 67.95
A10: =IF(startovka!A10="","",startovka!A10) -> 4 | B10: =IF(startovka!B10="","",startovka!B10) -> Hájov | C10: 1pokus | D10: 68.6 | E10: 68.83 | F10: 68.84 | G10: =IF(B10="","",IF(SUM(D$4:F$500)=0,"",IF(D10="",999,IF(F10="",MAX(D10:E10),LARGE(D10:F10,2))))) -> 68.83 | T10: =IF(G10="","",IF(S10="",SUM(G10:R10),998)) -> 68.83 | U10: =IF(B10="","",výpočty!O10) -> 1
C11: 2pokus | D11: 66.65 | E11: 66.7 | F11: 66.66 | G11: =IF(B10="","",IF(SUM(D$4:F$500)=0,"",IF(D11="",999,IF(F11="",MAX(D11:E11),LARGE(D11:F11,2))))) -> 66.66 | T11: =IF(G11="","",IF(S11="",SUM(G11:R11),998)) -> 66.66
A12: =IF(startovka!A12="","",startovka!A12) -> 5 | B12: =IF(startovka!B12="","",startovka!B12) -> Tísek "B" | C12: 1pokus | D12: 121.02 | E12: 121.46 | F12: 121.28 | G12: =IF(B12="","",IF(SUM(D$4:F$500)=0,"",IF(D12="",999,IF(F12="",MAX(D12:E12),LARGE(D12:F12,2))))) -> 121.28 | P12: 10 | T12: =IF(G12="","",IF(S12="",SUM(G12:R12),998)) -> 131.28 | U12: =IF(B12="","",výpočty!O12) -> 5
C13: 2pokus | D13: 119.31 | E13: 119.25 | F13: 119.37 | G13: =IF(B12="","",IF(SUM(D$4:F$500)=0,"",IF(D13="",999,IF(F13="",MAX(D13:E13),LARGE(D13:F13,2))))) -> 119.31 | T13: =IF(G13="","",IF(S13="",SUM(G13:R13),998)) -> 119.31
A14: =IF(startovka!A14="","",startovka!A14) | B14: =IF(startovka!B14="","",startovka!B14) | C14: 1pokus | G14: =IF(B14="","",IF(SUM(D$4:F$500)=0,"",IF(D14="",999,IF(F14="",MAX(D14:E14),LARGE(D14:F14,2))))) | T14: =IF(G14="","",IF(S14="",SUM(G14:R14),998)) | U14: =IF(B14="","",výpočty!O14)
C15: 2pokus | G15: =IF(B14="","",IF(SUM(D$4:F$500)=0,"",IF(D15="",999,IF(F15="",MAX(D15:E15),LARGE(D15:F15,2))))) | T15: =IF(G15="","",IF(S15="",SUM(G15:R15),998))
A16: =IF(startovka!A16="","",startovka!A16) | B16: =IF(startovka!B16="","",startovka!B16) | C16: 1pokus | G16: =IF(B16="","",IF(SUM(D$4:F$500)=0,"",IF(D16="",999,IF(F16="",MAX(D16:E16),LARGE(D16:F16,2))))) | T16: =IF(G16="","",IF(S16="",SUM(G16:R16),998)) | U16: =IF(B16="","",výpočty!O16)
C17: 2pokus | G17: =IF(B16="","",IF(SUM(D$4:F$500)=0,"",IF(D17="",999,IF(F17="",MAX(D17:E17),LARGE(D17:F17,2))))) | T17: =IF(G17="","",IF(S17="",SUM(G17:R17),998))
A18: =IF(startovka!A18="","",startovka!A18) | B18: =IF(startovka!B18="","",startovka!B18) | C18: 1pokus | G18: =IF(B18="","",IF(SUM(D$4:F$500)=0,"",IF(D18="",999,IF(F18="",MAX(D18:E18),LARGE(D18:F18,2))))) | T18: =IF(G18="","",IF(S18="",SUM(G18:R18),998)) | U18: =IF(B18="","",výpočty!O18)
C19: 2pokus | G19: =IF(B18="","",IF(SUM(D$4:F$500)=0,"",IF(D19="",999,IF(F19="",MAX(D19:E19),LARGE(D19:F19,2))))) | T19: =IF(G19="","",IF(S19="",SUM(G19:R19),998))
A20: =IF(startovka!A20="","",startovka!A20) | B20: =IF(startovka!B20="","",startovka!B20) | C20: 1pokus | G20: =IF(B20="","",IF(SUM(D$4:F$500)=0,"",IF(D20="",999,IF(F20="",MAX(D20:E20),LARGE(D20:F20,2))))) | T20: =IF(G20="","",IF(S20="",SUM(G20:R20),998)) | U20: =IF(B20="","",výpočty!O20)
C21: 2pokus | G21: =IF(B20="","",IF(SUM(D$4:F$500)=0,"",IF(D21="",999,IF(F21="",MAX(D21:E21),LARGE(D21:F21,2))))) | T21: =IF(G21="","",IF(S21="",SUM(G21:R21),998))
A22: =IF(startovka!A22="","",startovka!A22) | B22: =IF(startovka!B22="","",startovka!B22) | C22: 1pokus | G22: =IF(B22="","",IF(SUM(D$4:F$500)=0,"",IF(D22="",999,IF(F22="",MAX(D22:E22),LARGE(D22:F22,2))))) | T22: =IF(G22="","",IF(S22="",SUM(G22:R22),998)) | U22: =IF(B22="","",výpočty!O22)
C23: 2pokus | G23: =IF(B22="","",IF(SUM(D$4:F$500)=0,"",IF(D23="",999,IF(F23="",MAX(D23:E23),LARGE(D23:F23,2))))) | T23: =IF(G23="","",IF(S23="",SUM(G23:R23),998))
A24: =IF(startovka!A24="","",startovka!A24) | B24: =IF(startovka!B24="","",startovka!B24) | C24: 1pokus | G24: =IF(B24="","",IF(SUM(D$4:F$500)=0,"",IF(D24="",999,IF(F24="",MAX(D24:E24),LARGE(D24:F24,2))))) | T24: =IF(G24="","",IF(S24="",SUM(G24:R24),998)) | U24: =IF(B24="","",výpočty!O24)
C25: 2pokus | G25: =IF(B24="","",IF(SUM(D$4:F$500)=0,"",IF(D25="",999,IF(F25="",MAX(D25:E25),LARGE(D25:F25,2))))) | T25: =IF(G25="","",IF(S25="",SUM(G25:R25),998))
A26: =IF(startovka!A26="","",startovka!A26) | B26: =IF(startovka!B26="","",startovka!B26) | C26: 1pokus | G26: =IF(B26="","",IF(SUM(D$4:F$500)=0,"",IF(D26="",999,IF(F26="",MAX(D26:E26),LARGE(D26:F26,2))))) | T26: =IF(G26="","",IF(S26="",SUM(G26:R26),998)) | U26: =IF(B26="","",výpočty!O26)
C27: 2pokus | G27: =IF(B26="","",IF(SUM(D$4:F$500)=0,"",IF(D27="",999,IF(F27="",MAX(D27:E27),LARGE(D27:F27,2))))) | T27: =IF(G27="","",IF(S27="",SUM(G27:R27),998))
A28: =IF(startovka!A28="","",startovka!A28) | B28: =IF(startovka!B28="","",startovka!B28) | C28: 1pokus | G28: =IF(B28="","",IF(SUM(D$4:F$500)=0,"",IF(D28="",999,IF(F28="",MAX(D28:E28),LARGE(D28:F28,2))))) | T28: =IF(G28="","",IF(S28="",SUM(G28:R28),998)) | U28: =IF(B28="","",výpočty!O28)
C29: 2pokus | G29: =IF(B28="","",IF(SUM(D$4:F$500)=0,"",IF(D29="",999,IF(F29="",MAX(D29:E29),LARGE(D29:F29,2))))) | T29: =IF(G29="","",IF(S29="",SUM(G29:R29),998))
A30: =IF(startovka!A30="","",startovka!A30) | B30: =IF(startovka!B30="","",startovka!B30) | C30: 1pokus | G30: =IF(B30="","",IF(SUM(D$4:F$500)=0,"",IF(D30="",999,IF(F30="",MAX(D30:E30),LARGE(D30:F30,2))))) | T30: =IF(G30="","",IF(S30="",SUM(G30:R30),998)) | U30: =IF(B30="","",výpočty!O30)
C31: 2pokus | G31: =IF(B30="","",IF(SUM(D$4:F$500)=0,"",IF(D31="",999,IF(F31="",MAX(D31:E31),LARGE(D31:F31,2))))) | T31: =IF(G31="","",IF(S31="",SUM(G31:R31),998))
A32: =IF(startovka!A32="","",startovka!A32) | B32: =IF(startovka!B32="","",startovka!B32) | C32: 1pokus | G32: =IF(B32="","",IF(SUM(D$4:F$500)=0,"",IF(D32="",999,IF(F32="",MAX(D32:E32),LARGE(D32:F32,2))))) | T32: =IF(G32="","",IF(S32="",SUM(G32:R32),998)) | U32: =IF(B32="","",výpočty!O32)
C33: 2pokus | G33: =IF(B32="","",IF(SUM(D$4:F$500)=0,"",IF(D33="",999,IF(F33="",MAX(D33:E33),LARGE(D33:F33,2))))) | T33: =IF(G33="","",IF(S33="",SUM(G33:R33),998))
A34: =IF(startovka!A34="","",startovka!A34) | B34: =IF(startovka!B34="","",startovka!B34) | C34: 1pokus | G34: =IF(B34="","",IF(SUM(D$4:F$500)=0,"",IF(D34="",999,IF(F34="",MAX(D34:E34),LARGE(D34:F34,2))))) | T34: =IF(G34="","",IF(S34="",SUM(G34:R34),998)) | U34: =IF(B34="","",výpočty!O34)
C35: 2pokus | G35: =IF(B34="","",IF(SUM(D$4:F$500)=0,"",IF(D35="",999,IF(F35="",MAX(D35:E35),LARGE(D35:F35,2))))) | T35: =IF(G35="","",IF(S35="",SUM(G35:R35),998))
A36: =IF(startovka!A36="","",startovka!A36) | B36: =IF(startovka!B36="","",startovka!B36) | C36: 1pokus | G36: =IF(B36="","",IF(SUM(D$4:F$500)=0,"",IF(D36="",999,IF(F36="",MAX(D36:E36),LARGE(D36:F36,2))))) | T36: =IF(G36="","",IF(S36="",SUM(G36:R36),998)) | U36: =IF(B36="","",výpočty!O36)
C37: 2pokus | G37: =IF(B36="","",IF(SUM(D$4:F$500)=0,"",IF(D37="",999,IF(F37="",MAX(D37:E37),LARGE(D37:F37,2))))) | T37: =IF(G37="","",IF(S37="",SUM(G37:R37),998))
A38: =IF(startovka!A38="","",startovka!A38) | B38: =IF(startovka!B38="","",startovka!B38) | C38: 1pokus | G38: =IF(B38="","",IF(SUM(D$4:F$500)=0,"",IF(D38="",999,IF(F38="",MAX(D38:E38),LARGE(D38:F38,2))))) | T38: =IF(G38="","",IF(S38="",SUM(G38:R38),998)) | U38: =IF(B38="","",výpočty!O38)
C39: 2pokus | G39: =IF(B38="","",IF(SUM(D$4:F$500)=0,"",IF(D39="",999,IF(F39="",MAX(D39:E39),LARGE(D39:F39,2))))) | T39: =IF(G39="","",IF(S39="",SUM(G39:R39),998))
A40: =IF(startovka!A40="","",startovka!A40) | B40: =IF(startovka!B40="","",startovka!B40) | C40: 1pokus | G40: =IF(B40="","",IF(SUM(D$4:F$500)=0,"",IF(D40="",999,IF(F40="",MAX(D40:E40),LARGE(D40:F40,2))))) | T40: =IF(G40="","",IF(S40="",SUM(G40:R40),998)) | U40: =IF(B40="","",výpočty!O40)
C41: 2pokus | G41: =IF(B40="","",IF(SUM(D$4:F$500)=0,"",IF(D41="",999,IF(F41="",MAX(D41:E41),LARGE(D41:F41,2))))) | T41: =IF(G41="","",IF(S41="",SUM(G41:R41),998))
A42: =IF(startovka!A42="","",startovka!A42) | B42: =IF(startovka!B42="","",startovka!B42) | C42: 1pokus | G42: =IF(B42="","",IF(SUM(D$4:F$500)=0,"",IF(D42="",999,IF(F42="",MAX(D42:E42),LARGE(D42:F42,2))))) | T42: =IF(G42="","",IF(S42="",SUM(G42:R42),998)) | U42: =IF(B42="","",výpočty!O42)
C43: 2pokus | G43: =IF(B42="","",IF(SUM(D$4:F$500)=0,"",IF(D43="",999,IF(F43="",MAX(D43:E43),LARGE(D43:F43,2))))) | T43: =IF(G43="","",IF(S43="",SUM(G43:R43),998))
A44: =IF(startovka!A44="","",startovka!A44) | B44: =IF(startovka!B44="","",startovka!B44) | C44: 1pokus | G44: =IF(B44="","",IF(SUM(D$4:F$500)=0,"",IF(D44="",999,IF(F44="",MAX(D44:E44),LARGE(D44:F44,2))))) | T44: =IF(G44="","",IF(S44="",SUM(G44:R44),998)) | U44: =IF(B44="","",výpočty!O44)
C45: 2pokus | G45: =IF(B44="","",IF(SUM(D$4:F$500)=0,"",IF(D45="",999,IF(F45="",MAX(D45:E45),LARGE(D45:F45,2))))) | T45: =IF(G45="","",IF(S45="",SUM(G45:R45),998))
A46: =IF(startovka!A46="","",startovka!A46) | B46: =IF(startovka!B46="","",startovka!B46) | C46: 1pokus | G46: =IF(B46="","",IF(SUM(D$4:F$500)=0,"",IF(D46="",999,IF(F46="",MAX(D46:E46),LARGE(D46:F46,2))))) | T46: =IF(G46="","",IF(S46="",SUM(G46:R46),998)) | U46: =IF(B46="","",výpočty!O46)
C47: 2pokus | G47: =IF(B46="","",IF(SUM(D$4:F$500)=0,"",IF(D47="",999,IF(F47="",MAX(D47:E47),LARGE(D47:F47,2))))) | T47: =IF(G47="","",IF(S47="",SUM(G47:R47),998))
A48: =IF(startovka!A48="","",startovka!A48) | B48: =IF(startovka!B48="","",startovka!B48) | C48: 1pokus | G48: =IF(B48="","",IF(SUM(D$4:F$500)=0,"",IF(D48="",999,IF(F48="",MAX(D48:E48),LARGE(D48:F48,2))))) | T48: =IF(G48="","",IF(S48="",SUM(G48:R48),998)) | U48: =IF(B48="","",výpočty!O48)
C49: 2pokus | G49: =IF(B48="","",IF(SUM(D$4:F$500)=0,"",IF(D49="",999,IF(F49="",MAX(D49:E49),LARGE(D49:F49,2))))) | T49: =IF(G49="","",IF(S49="",SUM(G49:R49),998))
A50: =IF(startovka!A50="","",startovka!A50) | B50: =IF(startovka!B50="","",startovka!B50) | C50: 1pokus | G50: =IF(B50="","",IF(SUM(D$4:F$500)=0,"",IF(D50="",999,IF(F50="",MAX(D50:E50),LARGE(D50:F50,2))))) | T50: =IF(G50="","",IF(S50="",SUM(G50:R50),998)) | U50: =IF(B50="","",výpočty!O50)
C51: 2pokus | G51: =IF(B50="","",IF(SUM(D$4:F$500)=0,"",IF(D51="",999,IF(F51="",MAX(D51:E51),LARGE(D51:F51,2))))) | T51: =IF(G51="","",IF(S51="",SUM(G51:R51),998))
A52: =IF(startovka!A52="","",startovka!A52) | B52: =IF(startovka!B52="","",startovka!B52) | C52: 1pokus | G52: =IF(B52="","",IF(SUM(D$4:F$500)=0,"",IF(D52="",999,IF(F52="",MAX(D52:E52),LARGE(D52:F52,2))))) | T52: =IF(G52="","",IF(S52="",SUM(G52:R52),998)) | U52: =IF(B52="","",výpočty!O52)
C53: 2pokus | G53: =IF(B52="","",IF(SUM(D$4:F$500)=0,"",IF(D53="",999,IF(F53="",MAX(D53:E53),LARGE(D53:F53,2))))) | T53: =IF(G53="","",IF(S53="",SUM(G53:R53),998))
A54: =IF(startovka!A54="","",startovka!A54) | B54: =IF(startovka!B54="","",startovka!B54) | C54: 1pokus | G54: =IF(B54="","",IF(SUM(D$4:F$500)=0,"",IF(D54="",999,IF(F54="",MAX(D54:E54),LARGE(D54:F54,2))))) | T54: =IF(G54="","",IF(S54="",SUM(G54:R54),998)) | U54: =IF(B54="","",výpočty!O54)
C55: 2pokus | G55: =IF(B54="","",IF(SUM(D$4:F$500)=0,"",IF(D55="",999,IF(F55="",MAX(D55:E55),LARGE(D55:F55,2))))) | T55: =IF(G55="","",IF(S55="",SUM(G55:R55),998))
A56: =IF(startovka!A56="","",startovka!A56) | B56: =IF(startovka!B56="","",startovka!B56) | C56: 1pokus | G56: =IF(B56="","",IF(SUM(D$4:F$500)=0,"",IF(D56="",999,IF(F56="",MAX(D56:E56),LARGE(D56:F56,2))))) | T56: =IF(G56="","",IF(S56="",SUM(G56:R56),998)) | U56: =IF(B56="","",výpočty!O56)
C57: 2pokus | G57: =IF(B56="","",IF(SUM(D$4:F$500)=0,"",IF(D57="",999,IF(F57="",MAX(D57:E57),LARGE(D57:F57,2))))) | T57: =IF(G57="","",IF(S57="",SUM(G57:R57),998))
A58: =IF(startovka!A58="","",startovka!A58) | B58: =IF(startovka!B58="","",startovka!B58) | C58: 1pokus | G58: =IF(B58="","",IF(SUM(D$4:F$500)=0,"",IF(D58="",999,IF(F58="",MAX(D58:E58),LARGE(D58:F58,2))))) | T58: =IF(G58="","",IF(S58="",SUM(G58:R58),998)) | U58: =IF(B58="","",výpočty!O58)
C59: 2pokus | G59: =IF(B58="","",IF(SUM(D$4:F$500)=0,"",IF(D59="",999,IF(F59="",MAX(D59:E59),LARGE(D59:F59,2))))) | T59: =IF(G59="","",IF(S59="",SUM(G59:R59),998))
A60: =IF(startovka!A60="","",startovka!A60) | B60: =IF(startovka!B60="","",startovka!B60) | C60: 1pokus | G60: =IF(B60="","",IF(SUM(D$4:F$500)=0,"",IF(D60="",999,IF(F60="",MAX(D60:E60),LARGE(D60:F60,2))))) | T60: =IF(G60="","",IF(S60="",SUM(G60:R60),998)) | U60: =IF(B60="","",výpočty!O60)
C61: 2pokus | G61: =IF(B60="","",IF(SUM(D$4:F$500)=0,"",IF(D61="",999,IF(F61="",MAX(D61:E61),LARGE(D61:F61,2))))) | T61: =IF(G61="","",IF(S61="",SUM(G61:R61),998))
A62: =IF(startovka!A62="","",startovka!A62) | B62: =IF(startovka!B62="","",startovka!B62) | C62: 1pokus | G62: =IF(B62="","",IF(SUM(D$4:F$500)=0,"",IF(D62="",999,IF(F62="",MAX(D62:E62),LARGE(D62:F62,2))))) | T62: =IF(G62="","",IF(S62="",SUM(G62:R62),998)) | U62: =IF(B62="","",výpočty!O62)
C63: 2pokus | G63: =IF(B62="","",IF(SUM(D$4:F$500)=0,"",IF(D63="",999,IF(F63="",MAX(D63:E63),LARGE(D63:F63,2))))) | T63: =IF(G63="","",IF(S63="",SUM(G63:R63),998))
A64: =IF(startovka!A64="","",startovka!A64) | B64: =IF(startovka!B64="","",startovka!B64) | C64: 1pokus | G64: =IF(B64="","",IF(SUM(D$4:F$500)=0,"",IF(D64="",999,IF(F64="",MAX(D64:E64),LARGE(D64:F64,2))))) | T64: =IF(G64="","",IF(S64="",SUM(G64:R64),998)) | U64: =IF(B64="","",výpočty!O64)
C65: 2pokus | G65: =IF(B64="","",IF(SUM(D$4:F$500)=0,"",IF(D65="",999,IF(F65="",MAX(D65:E65),LARGE(D65:F65,2))))) | T65: =IF(G65="","",IF(S65="",SUM(G65:R65),998))
A66: =IF(startovka!A66="","",startovka!A66) | B66: =IF(startovka!B66="","",startovka!B66) | C66: 1pokus | G66: =IF(B66="","",IF(SUM(D$4:F$500)=0,"",IF(D66="",999,IF(F66="",MAX(D66:E66),LARGE(D66:F66,2))))) | T66: =IF(G66="","",IF(S66="",SUM(G66:R66),998)) | U66: =IF(B66="","",výpočty!O66)
C67: 2pokus | G67: =IF(B66="","",IF(SUM(D$4:F$500)=0,"",IF(D67="",999,IF(F67="",MAX(D67:E67),LARGE(D67:F67,2))))) | T67: =IF(G67="","",IF(S67="",SUM(G67:R67),998))
A68: =IF(startovka!A68="","",startovka!A68) | B68: =IF(startovka!B68="","",startovka!B68) | C68: 1pokus | G68: =IF(B68="","",IF(SUM(D$4:F$500)=0,"",IF(D68="",999,IF(F68="",MAX(D68:E68),LARGE(D68:F68,2))))) | T68: =IF(G68="","",IF(S68="",SUM(G68:R68),998)) | U68: =IF(B68="","",výpočty!O68)
C69: 2pokus | G69: =IF(B68="","",IF(SUM(D$4:F$500)=0,"",IF(D69="",999,IF(F69="",MAX(D69:E69),LARGE(D69:F69,2))))) | T69: =IF(G69="","",IF(S69="",SUM(G69:R69),998))
A70: =IF(startovka!A70="","",startovka!A70) | B70: =IF(startovka!B70="","",startovka!B70) | C70: 1pokus | G70: =IF(B70="","",IF(SUM(D$4:F$500)=0,"",IF(D70="",999,IF(F70="",MAX(D70:E70),LARGE(D70:F70,2))))) | T70: =IF(G70="","",IF(S70="",SUM(G70:R70),998)) | U70: =IF(B70="","",výpočty!O70)
C71: 2pokus | G71: =IF(B70="","",IF(SUM(D$4:F$500)=0,"",IF(D71="",999,IF(F71="",MAX(D71:E71),LARGE(D71:F71,2))))) | T71: =IF(G71="","",IF(S71="",SUM(G71:R71),998))
A72: =IF(startovka!A72="","",startovka!A72) | B72: =IF(startovka!B72="","",startovka!B72) | C72: 1pokus | G72: =IF(B72="","",IF(SUM(D$4:F$500)=0,"",IF(D72="",999,IF(F72="",MAX(D72:E72),LARGE(D72:F72,2))))) | T72: =IF(G72="","",IF(S72="",SUM(G72:R72),998)) | U72: =IF(B72="","",výpočty!O72)
C73: 2pokus | G73: =IF(B72="","",IF(SUM(D$4:F$500)=0,"",IF(D73="",999,IF(F73="",MAX(D73:E73),LARGE(D73:F73,2))))) | T73: =IF(G73="","",IF(S73="",SUM(G73:R73),998))
A74: =IF(startovka!A74="","",startovka!A74) | B74: =IF(startovka!B74="","",startovka!B74) | C74: 1pokus | G74: =IF(B74="","",IF(SUM(D$4:F$500)=0,"",IF(D74="",999,IF(F74="",MAX(D74:E74),LARGE(D74:F74,2))))) | T74: =IF(G74="","",IF(S74="",SUM(G74:R74),998)) | U74: =IF(B74="","",výpočty!O74)
C75: 2pokus | G75: =IF(B74="","",IF(SUM(D$4:F$500)=0,"",IF(D75="",999,IF(F75="",MAX(D75:E75),LARGE(D75:F75,2))))) | T75: =IF(G75="","",IF(S75="",SUM(G75:R75),998))
A76: =IF(startovka!A76="","",startovka!A76) | B76: =IF(startovka!B76="","",startovka!B76) | C76: 1pokus | G76: =IF(B76="","",IF(SUM(D$4:F$500)=0,"",IF(D76="",999,IF(F76="",MAX(D76:E76),LARGE(D76:F76,2))))) | T76: =IF(G76="","",IF(S76="",SUM(G76:R76),998)) | U76: =IF(B76="","",výpočty!O76)
C77: 2pokus | G77: =IF(B76="","",IF(SUM(D$4:F$500)=0,"",IF(D77="",999,IF(F77="",MAX(D77:E77),LARGE(D77:F77,2))))) | T77: =IF(G77="","",IF(S77="",SUM(G77:R77),998))
A78: =IF(startovka!A78="","",startovka!A78) | B78: =IF(startovka!B78="","",startovka!B78) | C78: 1pokus | G78: =IF(B78="","",IF(SUM(D$4:F$500)=0,"",IF(D78="",999,IF(F78="",MAX(D78:E78),LARGE(D78:F78,2))))) | T78: =IF(G78="","",IF(S78="",SUM(G78:R78),998)) | U78: =IF(B78="","",výpočty!O78)
C79: 2pokus | G79: =IF(B78="","",IF(SUM(D$4:F$500)=0,"",IF(D79="",999,IF(F79="",MAX(D79:E79),LARGE(D79:F79,2))))) | T79: =IF(G79="","",IF(S79="",SUM(G79:R79),998))
A80: =IF(startovka!A80="","",startovka!A80) | B80: =IF(startovka!B80="","",startovka!B80) | C80: 1pokus | G80: =IF(B80="","",IF(SUM(D$4:F$500)=0,"",IF(D80="",999,IF(F80="",MAX(D80:E80),LARGE(D80:F80,2))))) | T80: =IF(G80="","",IF(S80="",SUM(G80:R80),998)) | U80: =IF(B80="","",výpočty!O80)
C81: 2pokus | G81: =IF(B80="","",IF(SUM(D$4:F$500)=0,"",IF(D81="",999,IF(F81="",MAX(D81:E81),LARGE(D81:F81,2))))) | T81: =IF(G81="","",IF(S81="",SUM(G81:R81),998))
A82: =IF(startovka!A82="","",startovka!A82) | B82: =IF(startovka!B82="","",startovka!B82) | C82: 1pokus | G82: =IF(B82="","",IF(SUM(D$4:F$500)=0,"",IF(D82="",999,IF(F82="",MAX(D82:E82),LARGE(D82:F82,2))))) | T82: =IF(G82="","",IF(S82="",SUM(G82:R82),998)) | U82: =IF(B82="","",výpočty!O82)
C83: 2pokus | G83: =IF(B82="","",IF(SUM(D$4:F$500)=0,"",IF(D83="",999,IF(F83="",MAX(D83:E83),LARGE(D83:F83,2))))) | T83: =IF(G83="","",IF(S83="",SUM(G83:R83),998))

Sheet výsledky
A1: =CONCATENATE("plamen"," ",YEAR(TODAY())) -> plamen 2026 | P1: Součet bodů | Q1: pořadí
A2: startovní číslo | B2: =startovka!B2 -> Kategorie: mladší | C2: PÚ plamen | E2: Útok CTIF | H2: Štafeta 4x60 | J2: Štafeta CTIF | M2: Štafeta dvojic
B3: Družstvo | C3: časy | D3: pořadí | E3: časy | F3: TB | G3: pořadí | H3: časy | I3: pořadí | J3: časy | K3: TB | L3: pořadí | M3: časy | N3: TB | O3: pořadí
A4: =IF(startovka!A4="","",startovka!A4) -> 1 | B4: =IF(startovka!B4="","",startovka!B4) -> Frenštát p. R. | C4: =IF($B4="","",výpočty!C4) -> 20.77 | D4: =IF($B4="","",výpočty!D4) -> 3 | E4: =IF($B4="","",výpočty!E4) -> 86.63 | F4: =IF($B4="","",výpočty!F4) -> 0 | G4: =IF($B4="","",výpočty!G4) -> 4 | H4: =IF($B4="","",výpočty!H4) -> 72.769 | I4: =IF($B4="","",výpočty!I4) -> 4 | J4: =IF($B4="","",výpočty!J4) -> 114.376 | ... Q4: =IF($B4="","",výpočty!Q4) -> 4
C5: =IF($B4="","",výpočty!C5) -> 21.27 | E5: =IF($B4="","",výpočty!E5) -> 76.51 | F5: =IF($B4="","",výpočty!F5) -> 0 | H5: =IF($B4="","",výpočty!H5) -> 998 | J5: =IF($B4="","",výpočty!J5) -> 113.767 | K5: =IF($B4="","",výpočty!K5) -> 0 | M5: =IF($B4="","",výpočty!M5) -> 75.55 | N5: =IF($B4="","",výpočty!N5) -> 0
A6: =IF(startovka!A6="","",startovka!A6) -> 2 | B6: =IF(startovka!B6="","",startovka!B6) -> Tísek "A" | C6: =IF($B6="","",výpočty!C6) -> 33.32 | D6: =IF($B6="","",výpočty!D6) -> 4 | E6: =IF($B6="","",výpočty!E6) -> 78.16 | F6: =IF($B6="","",výpočty!F6) -> 20 | G6: =IF($B6="","",výpočty!G6) -> 3 | H6: =IF($B6="","",výpočty!H6) -> 998 | I6: =IF($B6="","",výpočty!I6) -> 3 | J6: =IF($B6="","",výpočty!J6) -> 100.531 | ... Q6: =IF($B6="","",výpočty!Q6) -> 3
C7: =IF($B6="","",výpočty!C7) -> 998 | E7: =IF($B6="","",výpočty!E7) -> 71.77 | F7: =IF($B6="","",výpočty!F7) -> 10 | H7: =IF($B6="","",výpočty!H7) -> 63.696 | J7: =IF($B6="","",výpočty!J7) -> 100.112 | K7: =IF($B6="","",výpočty!K7) -> 0 | M7: =IF($B6="","",výpočty!M7) -> 74.95 | N7: =IF($B6="","",výpočty!N7) -> 0
A8: =IF(startovka!A8="","",startovka!A8) -> 3 | B8: =IF(startovka!B8="","",startovka!B8) -> Mniší | C8: =IF($B8="","",výpočty!C8) -> 18.06 | D8: =IF($B8="","",výpočty!D8) -> 1 | E8: =IF($B8="","",výpočty!E8) -> 67.06 | F8: =IF($B8="","",výpočty!F8) -> 5 | G8: =IF($B8="","",výpočty!G8) -> 2 | H8: =IF($B8="","",výpočty!H8) -> 61.507 | I8: =IF($B8="","",výpočty!I8) -> 1 | J8: =IF($B8="","",výpočty!J8) -> 93.42 | ... Q8: =IF($B8="","",výpočty!Q8) -> 1
C9: =IF($B8="","",výpočty!C9) -> 16.94 | E9: =IF($B8="","",výpočty!E9) -> 55.07 | F9: =IF($B8="","",výpočty!F9) -> 0 | H9: =IF($B8="","",výpočty!H9) -> 51.497 | J9: =IF($B8="","",výpočty!J9) -> 91.311 | K9: =IF($B8="","",výpočty!K9) -> 0 | M9: =IF($B8="","",výpočty!M9) -> 67.95 | N9: =IF($B8="","",výpočty!N9) -> 0
A10: =IF(startovka!A10="","",startovka!A10) -> 4 | B10: =IF(startovka!B10="","",startovka!B10) -> Hájov | C10: =IF($B10="","",výpočty!C10) -> 20.75 | D10: =IF($B10="","",výpočty!D10) -> 2 | E10: =IF($B10="","",výpočty!E10) -> 52.43 | F10: =IF($B10="","",výpočty!F10) -> 0 | G10: =IF($B10="","",výpočty!G10) -> 1 | H10: =IF($B10="","",výpočty!H10) -> 998 | I10: =IF($B10="","",výpočty!I10) -> 2 | J10: =IF($B10="","",výpočty!J10) -> 99.218 | ... Q10: =IF($B10="","",výpočty!Q10) -> 2
C11: =IF($B10="","",výpočty!C11) -> 17.63 | E11: =IF($B10="","",výpočty!E11) -> 56.35 | F11: =IF($B10="","",výpočty!F11) -> 0 | H11: =IF($B10="","",výpočty!H11) -> 54.069 | J11: =IF($B10="","",výpočty!J11) -> 94.769 | K11: =IF($B10="","",výpočty!K11) -> 0 | M11: =IF($B10="","",výpočty!M11) -> 66.66 | N11: =IF($B10="","",výpočty!N11) -> 0
A12: =IF(startovka!A12="","",startovka!A12) -> 5 | B12: =IF(startovka!B12="","",startovka!B12) -> Tísek "B" | C12: =IF($B12="","",výpočty!C12) -> 110.33 | D12: =IF($B12="","",výpočty!D12) -> 5 | E12: =IF($B12="","",výpočty!E12) -> 106.18 | F12: =IF($B12="","",výpočty!F12) -> 20 | G12: =IF($B12="","",výpočty!G12) -> 5 | H12: =IF($B12="","",výpočty!H12) -> 81.823 | I12: =IF($B12="","",výpočty!I12) -> 5 | J12: =IF($B12="","",výpočty!J12) -> 134.657 | ... Q12: =IF($B12="","",výpočty!Q12) -> 5
C13: =IF($B12="","",výpočty!C13) -> 60.36 | E13: =IF($B12="","",výpočty!E13) -> 79.1 | F13: =IF($B12="","",výpočty!F13) -> 0 | H13: =IF($B12="","",výpočty!H13) -> 92.627 | J13: =IF($B12="","",výpočty!J13) -> 129.773 | K13: =IF($B12="","",výpočty!K13) -> 0 | M13: =IF($B12="","",výpočty!M13) -> 119.31 | N13: =IF($B12="","",výpočty!N13) -> 0
A14: =IF(startovka!A14="","",startovka!A14) | B14: =IF(startovka!B14="","",startovka!B14) | C14: =IF($B14="","",výpočty!C14) | D14: =IF($B14="","",výpočty!D14) | E14: =IF($B14="","",výpočty!E14) | F14: =IF($B14="","",výpočty!F14) | G14: =IF($B14="","",výpočty!G14) | H14: =IF($B14="","",výpočty!H14) | I14: =IF($B14="","",výpočty!I14) | J14: =IF($B14="","",výpočty!J14) | ... Q14: =IF($B14="","",výpočty!Q14)
C15: =IF($B14="","",výpočty!C15) | E15: =IF($B14="","",výpočty!E15) | F15: =IF($B14="","",výpočty!F15) | H15: =IF($B14="","",výpočty!H15) | J15: =IF($B14="","",výpočty!J15) | K15: =IF($B14="","",výpočty!K15) | M15: =IF($B14="","",výpočty!M15) | N15: =IF($B14="","",výpočty!N15)
A16: =IF(startovka!A16="","",startovka!A16) | B16: =IF(startovka!B16="","",startovka!B16) | C16: =IF($B16="","",výpočty!C16) | D16: =IF($B16="","",výpočty!D16) | E16: =IF($B16="","",výpočty!E16) | F16: =IF($B16="","",výpočty!F16) | G16: =IF($B16="","",výpočty!G16) | H16: =IF($B16="","",výpočty!H16) | I16: =IF($B16="","",výpočty!I16) | J16: =IF($B16="","",výpočty!J16) | ... Q16: =IF($B16="","",výpočty!Q16)
C17: =IF($B16="","",výpočty!C17) | E17: =IF($B16="","",výpočty!E17) | F17: =IF($B16="","",výpočty!F17) | H17: =IF($B16="","",výpočty!H17) | J17: =IF($B16="","",výpočty!J17) | K17: =IF($B16="","",výpočty!K17) | M17: =IF($B16="","",výpočty!M17) | N17: =IF($B16="","",výpočty!N17)
A18: =IF(startovka!A18="","",startovka!A18) | B18: =IF(startovka!B18="","",startovka!B18) | C18: =IF($B18="","",výpočty!C18) | D18: =IF($B18="","",výpočty!D18) | E18: =IF($B18="","",výpočty!E18) | F18: =IF($B18="","",výpočty!F18) | G18: =IF($B18="","",výpočty!G18) | H18: =IF($B18="","",výpočty!H18) | I18: =IF($B18="","",výpočty!I18) | J18: =IF($B18="","",výpočty!J18) | ... Q18: =IF($B18="","",výpočty!Q18)
C19: =IF($B18="","",výpočty!C19) | E19: =IF($B18="","",výpočty!E19) | F19: =IF($B18="","",výpočty!F19) | H19: =IF($B18="","",výpočty!H19) | J19: =IF($B18="","",výpočty!J19) | K19: =IF($B18="","",výpočty!K19) | M19: =IF($B18="","",výpočty!M19) | N19: =IF($B18="","",výpočty!N19)
A20: =IF(startovka!A20="","",startovka!A20) | B20: =IF(startovka!B20="","",startovka!B20) | C20: =IF($B20="","",výpočty!C20) | D20: =IF($B20="","",výpočty!D20) | E20: =IF($B20="","",výpočty!E20) | F20: =IF($B20="","",výpočty!F20) | G20: =IF($B20="","",výpočty!G20) | H20: =IF($B20="","",výpočty!H20) | I20: =IF($B20="","",výpočty!I20) | J20: =IF($B20="","",výpočty!J20) | ... Q20: =IF($B20="","",výpočty!Q20)
C21: =IF($B20="","",výpočty!C21) | E21: =IF($B20="","",výpočty!E21) | F21: =IF($B20="","",výpočty!F21) | H21: =IF($B20="","",výpočty!H21) | J21: =IF($B20="","",výpočty!J21) | K21: =IF($B20="","",výpočty!K21) | M21: =IF($B20="","",výpočty!M21) | N21: =IF($B20="","",výpočty!N21)
A22: =IF(startovka!A22="","",startovka!A22) | B22: =IF(startovka!B22="","",startovka!B22) | C22: =IF($B22="","",výpočty!C22) | D22: =IF($B22="","",výpočty!D22) | E22: =IF($B22="","",výpočty!E22) | F22: =IF($B22="","",výpočty!F22) | G22: =IF($B22="","",výpočty!G22) | H22: =IF($B22="","",výpočty!H22) | I22: =IF($B22="","",výpočty!I22) | J22: =IF($B22="","",výpočty!J22) | ... Q22: =IF($B22="","",výpočty!Q22)
C23: =IF($B22="","",výpočty!C23) | E23: =IF($B22="","",výpočty!E23) | F23: =IF($B22="","",výpočty!F23) | H23: =IF($B22="","",výpočty!H23) | J23: =IF($B22="","",výpočty!J23) | K23: =IF($B22="","",výpočty!K23) | M23: =IF($B22="","",výpočty!M23) | N23: =IF($B22="","",výpočty!N23)
A24: =IF(startovka!A24="","",startovka!A24) | B24: =IF(startovka!B24="","",startovka!B24) | C24: =IF($B24="","",výpočty!C24) | D24: =IF($B24="","",výpočty!D24) | E24: =IF($B24="","",výpočty!E24) | F24: =IF($B24="","",výpočty!F24) | G24: =IF($B24="","",výpočty!G24) | H24: =IF($B24="","",výpočty!H24) | I24: =IF($B24="","",výpočty!I24) | J24: =IF($B24="","",výpočty!J24) | ... Q24: =IF($B24="","",výpočty!Q24)
C25: =IF($B24="","",výpočty!C25) | E25: =IF($B24="","",výpočty!E25) | F25: =IF($B24="","",výpočty!F25) | H25: =IF($B24="","",výpočty!H25) | J25: =IF($B24="","",výpočty!J25) | K25: =IF($B24="","",výpočty!K25) | M25: =IF($B24="","",výpočty!M25) | N25: =IF($B24="","",výpočty!N25)
A26: =IF(startovka!A26="","",startovka!A26) | B26: =IF(startovka!B26="","",startovka!B26) | C26: =IF($B26="","",výpočty!C26) | D26: =IF($B26="","",výpočty!D26) | E26: =IF($B26="","",výpočty!E26) | F26: =IF($B26="","",výpočty!F26) | G26: =IF($B26="","",výpočty!G26) | H26: =IF($B26="","",výpočty!H26) | I26: =IF($B26="","",výpočty!I26) | J26: =IF($B26="","",výpočty!J26) | ... Q26: =IF($B26="","",výpočty!Q26)
C27: =IF($B26="","",výpočty!C27) | E27: =IF($B26="","",výpočty!E27) | F27: =IF($B26="","",výpočty!F27) | H27: =IF($B26="","",výpočty!H27) | J27: =IF($B26="","",výpočty!J27) | K27: =IF($B26="","",výpočty!K27) | M27: =IF($B26="","",výpočty!M27) | N27: =IF($B26="","",výpočty!N27)
A28: =IF(startovka!A28="","",startovka!A28) | B28: =IF(startovka!B28="","",startovka!B28) | C28: =IF($B28="","",výpočty!C28) | D28: =IF($B28="","",výpočty!D28) | E28: =IF($B28="","",výpočty!E28) | F28: =IF($B28="","",výpočty!F28) | G28: =IF($B28="","",výpočty!G28) | H28: =IF($B28="","",výpočty!H28) | I28: =IF($B28="","",výpočty!I28) | J28: =IF($B28="","",výpočty!J28) | ... Q28: =IF($B28="","",výpočty!Q28)
C29: =IF($B28="","",výpočty!C29) | E29: =IF($B28="","",výpočty!E29) | F29: =IF($B28="","",výpočty!F29) | H29: =IF($B28="","",výpočty!H29) | J29: =IF($B28="","",výpočty!J29) | K29: =IF($B28="","",výpočty!K29) | M29: =IF($B28="","",výpočty!M29) | N29: =IF($B28="","",výpočty!N29)
A30: =IF(startovka!A30="","",startovka!A30) | B30: =IF(startovka!B30="","",startovka!B30) | C30: =IF($B30="","",výpočty!C30) | D30: =IF($B30="","",výpočty!D30) | E30: =IF($B30="","",výpočty!E30) | F30: =IF($B30="","",výpočty!F30) | G30: =IF($B30="","",výpočty!G30) | H30: =IF($B30="","",výpočty!H30) | I30: =IF($B30="","",výpočty!I30) | J30: =IF($B30="","",výpočty!J30) | ... Q30: =IF($B30="","",výpočty!Q30)
C31: =IF($B30="","",výpočty!C31) | E31: =IF($B30="","",výpočty!E31) | F31: =IF($B30="","",výpočty!F31) | H31: =IF($B30="","",výpočty!H31) | J31: =IF($B30="","",výpočty!J31) | K31: =IF($B30="","",výpočty!K31) | M31: =IF($B30="","",výpočty!M31) | N31: =IF($B30="","",výpočty!N31)
A32: =IF(startovka!A32="","",startovka!A32) | B32: =IF(startovka!B32="","",startovka!B32) | C32: =IF($B32="","",výpočty!C32) | D32: =IF($B32="","",výpočty!D32) | E32: =IF($B32="","",výpočty!E32) | F32: =IF($B32="","",výpočty!F32) | G32: =IF($B32="","",výpočty!G32) | H32: =IF($B32="","",výpočty!H32) | I32: =IF($B32="","",výpočty!I32) | J32: =IF($B32="","",výpočty!J32) | ... Q32: =IF($B32="","",výpočty!Q32)
C33: =IF($B32="","",výpočty!C33) | E33: =IF($B32="","",výpočty!E33) | F33: =IF($B32="","",výpočty!F33) | H33: =IF($B32="","",výpočty!H33) | J33: =IF($B32="","",výpočty!J33) | K33: =IF($B32="","",výpočty!K33) | M33: =IF($B32="","",výpočty!M33) | N33: =IF($B32="","",výpočty!N33)
A34: =IF(startovka!A34="","",startovka!A34) | B34: =IF(startovka!B34="","",startovka!B34) | C34: =IF($B34="","",výpočty!C34) | D34: =IF($B34="","",výpočty!D34) | E34: =IF($B34="","",výpočty!E34) | F34: =IF($B34="","",výpočty!F34) | G34: =IF($B34="","",výpočty!G34) | H34: =IF($B34="","",výpočty!H34) | I34: =IF($B34="","",výpočty!I34) | J34: =IF($B34="","",výpočty!J34) | ... Q34: =IF($B34="","",výpočty!Q34)
C35: =IF($B34="","",výpočty!C35) | E35: =IF($B34="","",výpočty!E35) | F35: =IF($B34="","",výpočty!F35) | H35: =IF($B34="","",výpočty!H35) | J35: =IF($B34="","",výpočty!J35) | K35: =IF($B34="","",výpočty!K35) | M35: =IF($B34="","",výpočty!M35) | N35: =IF($B34="","",výpočty!N35)
A36: =IF(startovka!A36="","",startovka!A36) | B36: =IF(startovka!B36="","",startovka!B36) | C36: =IF($B36="","",výpočty!C36) | D36: =IF($B36="","",výpočty!D36) | E36: =IF($B36="","",výpočty!E36) | F36: =IF($B36="","",výpočty!F36) | G36: =IF($B36="","",výpočty!G36) | H36: =IF($B36="","",výpočty!H36) | I36: =IF($B36="","",výpočty!I36) | J36: =IF($B36="","",výpočty!J36) | ... Q36: =IF($B36="","",výpočty!Q36)
C37: =IF($B36="","",výpočty!C37) | E37: =IF($B36="","",výpočty!E37) | F37: =IF($B36="","",výpočty!F37) | H37: =IF($B36="","",výpočty!H37) | J37: =IF($B36="","",výpočty!J37) | K37: =IF($B36="","",výpočty!K37) | M37: =IF($B36="","",výpočty!M37) | N37: =IF($B36="","",výpočty!N37)
A38: =IF(startovka!A38="","",startovka!A38) | B38: =IF(startovka!B38="","",startovka!B38) | C38: =IF($B38="","",výpočty!C38) | D38: =IF($B38="","",výpočty!D38) | E38: =IF($B38="","",výpočty!E38) | F38: =IF($B38="","",výpočty!F38) | G38: =IF($B38="","",výpočty!G38) | H38: =IF($B38="","",výpočty!H38) | I38: =IF($B38="","",výpočty!I38) | J38: =IF($B38="","",výpočty!J38) | ... Q38: =IF($B38="","",výpočty!Q38)
C39: =IF($B38="","",výpočty!C39) | E39: =IF($B38="","",výpočty!E39) | F39: =IF($B38="","",výpočty!F39) | H39: =IF($B38="","",výpočty!H39) | J39: =IF($B38="","",výpočty!J39) | K39: =IF($B38="","",výpočty!K39) | M39: =IF($B38="","",výpočty!M39) | N39: =IF($B38="","",výpočty!N39)
A40: =IF(startovka!A40="","",startovka!A40) | B40: =IF(startovka!B40="","",startovka!B40) | C40: =IF($B40="","",výpočty!C40) | D40: =IF($B40="","",výpočty!D40) | E40: =IF($B40="","",výpočty!E40) | F40: =IF($B40="","",výpočty!F40) | G40: =IF($B40="","",výpočty!G40) | H40: =IF($B40="","",výpočty!H40) | I40: =IF($B40="","",výpočty!I40) | J40: =IF($B40="","",výpočty!J40) | ... Q40: =IF($B40="","",výpočty!Q40)
C41: =IF($B40="","",výpočty!C41) | E41: =IF($B40="","",výpočty!E41) | F41: =IF($B40="","",výpočty!F41) | H41: =IF($B40="","",výpočty!H41) | J41: =IF($B40="","",výpočty!J41) | K41: =IF($B40="","",výpočty!K41) | M41: =IF($B40="","",výpočty!M41) | N41: =IF($B40="","",výpočty!N41)
A42: =IF(startovka!A42="","",startovka!A42) | B42: =IF(startovka!B42="","",startovka!B42) | C42: =IF($B42="","",výpočty!C42) | D42: =IF($B42="","",výpočty!D42) | E42: =IF($B42="","",výpočty!E42) | F42: =IF($B42="","",výpočty!F42) | G42: =IF($B42="","",výpočty!G42) | H42: =IF($B42="","",výpočty!H42) | I42: =IF($B42="","",výpočty!I42) | J42: =IF($B42="","",výpočty!J42) | ... Q42: =IF($B42="","",výpočty!Q42)
C43: =IF($B42="","",výpočty!C43) | E43: =IF($B42="","",výpočty!E43) | F43: =IF($B42="","",výpočty!F43) | H43: =IF($B42="","",výpočty!H43) | J43: =IF($B42="","",výpočty!J43) | K43: =IF($B42="","",výpočty!K43) | M43: =IF($B42="","",výpočty!M43) | N43: =IF($B42="","",výpočty!N43)
A44: =IF(startovka!A44="","",startovka!A44) | B44: =IF(startovka!B44="","",startovka!B44) | C44: =IF($B44="","",výpočty!C44) | D44: =IF($B44="","",výpočty!D44) | E44: =IF($B44="","",výpočty!E44) | F44: =IF($B44="","",výpočty!F44) | G44: =IF($B44="","",výpočty!G44) | H44: =IF($B44="","",výpočty!H44) | I44: =IF($B44="","",výpočty!I44) | J44: =IF($B44="","",výpočty!J44) | ... Q44: =IF($B44="","",výpočty!Q44)
C45: =IF($B44="","",výpočty!C45) | E45: =IF($B44="","",výpočty!E45) | F45: =IF($B44="","",výpočty!F45) | H45: =IF($B44="","",výpočty!H45) | J45: =IF($B44="","",výpočty!J45) | K45: =IF($B44="","",výpočty!K45) | M45: =IF($B44="","",výpočty!M45) | N45: =IF($B44="","",výpočty!N45)
A46: =IF(startovka!A46="","",startovka!A46) | B46: =IF(startovka!B46="","",startovka!B46) | C46: =IF($B46="","",výpočty!C46) | D46: =IF($B46="","",výpočty!D46) | E46: =IF($B46="","",výpočty!E46) | F46: =IF($B46="","",výpočty!F46) | G46: =IF($B46="","",výpočty!G46) | H46: =IF($B46="","",výpočty!H46) | I46: =IF($B46="","",výpočty!I46) | J46: =IF($B46="","",výpočty!J46) | ... Q46: =IF($B46="","",výpočty!Q46)
C47: =IF($B46="","",výpočty!C47) | E47: =IF($B46="","",výpočty!E47) | F47: =IF($B46="","",výpočty!F47) | H47: =IF($B46="","",výpočty!H47) | J47: =IF($B46="","",výpočty!J47) | K47: =IF($B46="","",výpočty!K47) | M47: =IF($B46="","",výpočty!M47) | N47: =IF($B46="","",výpočty!N47)
A48: =IF(startovka!A48="","",startovka!A48) | B48: =IF(startovka!B48="","",startovka!B48) | C48: =IF($B48="","",výpočty!C48) | D48: =IF($B48="","",výpočty!D48) | E48: =IF($B48="","",výpočty!E48) | F48: =IF($B48="","",výpočty!F48) | G48: =IF($B48="","",výpočty!G48) | H48: =IF($B48="","",výpočty!H48) | I48: =IF($B48="","",výpočty!I48) | J48: =IF($B48="","",výpočty!J48) | ... Q48: =IF($B48="","",výpočty!Q48)
C49: =IF($B48="","",výpočty!C49) | E49: =IF($B48="","",výpočty!E49) | F49: =IF($B48="","",výpočty!F49) | H49: =IF($B48="","",výpočty!H49) | J49: =IF($B48="","",výpočty!J49) | K49: =IF($B48="","",výpočty!K49) | M49: =IF($B48="","",výpočty!M49) | N49: =IF($B48="","",výpočty!N49)
A50: =IF(startovka!A50="","",startovka!A50) | B50: =IF(startovka!B50="","",startovka!B50) | C50: =IF($B50="","",výpočty!C50) | D50: =IF($B50="","",výpočty!D50) | E50: =IF($B50="","",výpočty!E50) | F50: =IF($B50="","",výpočty!F50) | G50: =IF($B50="","",výpočty!G50) | H50: =IF($B50="","",výpočty!H50) | I50: =IF($B50="","",výpočty!I50) | J50: =IF($B50="","",výpočty!J50) | ... Q50: =IF($B50="","",výpočty!Q50)
C51: =IF($B50="","",výpočty!C51) | E51: =IF($B50="","",výpočty!E51) | F51: =IF($B50="","",výpočty!F51) | H51: =IF($B50="","",výpočty!H51) | J51: =IF($B50="","",výpočty!J51) | K51: =IF($B50="","",výpočty!K51) | M51: =IF($B50="","",výpočty!M51) | N51: =IF($B50="","",výpočty!N51)
A52: =IF(startovka!A52="","",startovka!A52) | B52: =IF(startovka!B52="","",startovka!B52) | C52: =IF($B52="","",výpočty!C52) | D52: =IF($B52="","",výpočty!D52) | E52: =IF($B52="","",výpočty!E52) | F52: =IF($B52="","",výpočty!F52) | G52: =IF($B52="","",výpočty!G52) | H52: =IF($B52="","",výpočty!H52) | I52: =IF($B52="","",výpočty!I52) | J52: =IF($B52="","",výpočty!J52) | ... Q52: =IF($B52="","",výpočty!Q52)
C53: =IF($B52="","",výpočty!C53) | E53: =IF($B52="","",výpočty!E53) | F53: =IF($B52="","",výpočty!F53) | H53: =IF($B52="","",výpočty!H53) | J53: =IF($B52="","",výpočty!J53) | K53: =IF($B52="","",výpočty!K53) | M53: =IF($B52="","",výpočty!M53) | N53: =IF($B52="","",výpočty!N53)
A54: =IF(startovka!A54="","",startovka!A54) | B54: =IF(startovka!B54="","",startovka!B54) | C54: =IF($B54="","",výpočty!C54) | D54: =IF($B54="","",výpočty!D54) | E54: =IF($B54="","",výpočty!E54) | F54: =IF($B54="","",výpočty!F54) | G54: =IF($B54="","",výpočty!G54) | H54: =IF($B54="","",výpočty!H54) | I54: =IF($B54="","",výpočty!I54) | J54: =IF($B54="","",výpočty!J54) | ... Q54: =IF($B54="","",výpočty!Q54)
C55: =IF($B54="","",výpočty!C55) | E55: =IF($B54="","",výpočty!E55) | F55: =IF($B54="","",výpočty!F55) | H55: =IF($B54="","",výpočty!H55) | J55: =IF($B54="","",výpočty!J55) | K55: =IF($B54="","",výpočty!K55) | M55: =IF($B54="","",výpočty!M55) | N55: =IF($B54="","",výpočty!N55)
A56: =IF(startovka!A56="","",startovka!A56) | B56: =IF(startovka!B56="","",startovka!B56) | C56: =IF($B56="","",výpočty!C56) | D56: =IF($B56="","",výpočty!D56) | E56: =IF($B56="","",výpočty!E56) | F56: =IF($B56="","",výpočty!F56) | G56: =IF($B56="","",výpočty!G56) | H56: =IF($B56="","",výpočty!H56) | I56: =IF($B56="","",výpočty!I56) | J56: =IF($B56="","",výpočty!J56) | ... Q56: =IF($B56="","",výpočty!Q56)
C57: =IF($B56="","",výpočty!C57) | E57: =IF($B56="","",výpočty!E57) | F57: =IF($B56="","",výpočty!F57) | H57: =IF($B56="","",výpočty!H57) | J57: =IF($B56="","",výpočty!J57) | K57: =IF($B56="","",výpočty!K57) | M57: =IF($B56="","",výpočty!M57) | N57: =IF($B56="","",výpočty!N57)
A58: =IF(startovka!A58="","",startovka!A58) | B58: =IF(startovka!B58="","",startovka!B58) | C58: =IF($B58="","",výpočty!C58) | D58: =IF($B58="","",výpočty!D58) | E58: =IF($B58="","",výpočty!E58) | F58: =IF($B58="","",výpočty!F58) | G58: =IF($B58="","",výpočty!G58) | H58: =IF($B58="","",výpočty!H58) | I58: =IF($B58="","",výpočty!I58) | J58: =IF($B58="","",výpočty!J58) | ... Q58: =IF($B58="","",výpočty!Q58)
C59: =IF($B58="","",výpočty!C59) | E59: =IF($B58="","",výpočty!E59) | F59: =IF($B58="","",výpočty!F59) | H59: =IF($B58="","",výpočty!H59) | J59: =IF($B58="","",výpočty!J59) | K59: =IF($B58="","",výpočty!K59) | M59: =IF($B58="","",výpočty!M59) | N59: =IF($B58="","",výpočty!N59)
A60: =IF(startovka!A60="","",startovka!A60) | B60: =IF(startovka!B60="","",startovka!B60) | C60: =IF($B60="","",výpočty!C60) | D60: =IF($B60="","",výpočty!D60) | E60: =IF($B60="","",výpočty!E60) | F60: =IF($B60="","",výpočty!F60) | G60: =IF($B60="","",výpočty!G60) | H60: =IF($B60="","",výpočty!H60) | I60: =IF($B60="","",výpočty!I60) | J60: =IF($B60="","",výpočty!J60) | ... Q60: =IF($B60="","",výpočty!Q60)
C61: =IF($B60="","",výpočty!C61) | E61: =IF($B60="","",výpočty!E61) | F61: =IF($B60="","",výpočty!F61) | H61: =IF($B60="","",výpočty!H61) | J61: =IF($B60="","",výpočty!J61) | K61: =IF($B60="","",výpočty!K61) | M61: =IF($B60="","",výpočty!M61) | N61: =IF($B60="","",výpočty!N61)
A62: =IF(startovka!A62="","",startovka!A62) | B62: =IF(startovka!B62="","",startovka!B62) | C62: =IF($B62="","",výpočty!C62) | D62: =IF($B62="","",výpočty!D62) | E62: =IF($B62="","",výpočty!E62) | F62: =IF($B62="","",výpočty!F62) | G62: =IF($B62="","",výpočty!G62) | H62: =IF($B62="","",výpočty!H62) | I62: =IF($B62="","",výpočty!I62) | J62: =IF($B62="","",výpočty!J62) | ... Q62: =IF($B62="","",výpočty!Q62)
C63: =IF($B62="","",výpočty!C63) | E63: =IF($B62="","",výpočty!E63) | F63: =IF($B62="","",výpočty!F63) | H63: =IF($B62="","",výpočty!H63) | J63: =IF($B62="","",výpočty!J63) | K63: =IF($B62="","",výpočty!K63) | M63: =IF($B62="","",výpočty!M63) | N63: =IF($B62="","",výpočty!N63)
A64: =IF(startovka!A64="","",startovka!A64) | B64: =IF(startovka!B64="","",startovka!B64) | C64: =IF($B64="","",výpočty!C64) | D64: =IF($B64="","",výpočty!D64) | E64: =IF($B64="","",výpočty!E64) | F64: =IF($B64="","",výpočty!F64) | G64: =IF($B64="","",výpočty!G64) | H64: =IF($B64="","",výpočty!H64) | I64: =IF($B64="","",výpočty!I64) | J64: =IF($B64="","",výpočty!J64) | ... Q64: =IF($B64="","",výpočty!Q64)
C65: =IF($B64="","",výpočty!C65) | E65: =IF($B64="","",výpočty!E65) | F65: =IF($B64="","",výpočty!F65) | H65: =IF($B64="","",výpočty!H65) | J65: =IF($B64="","",výpočty!J65) | K65: =IF($B64="","",výpočty!K65) | M65: =IF($B64="","",výpočty!M65) | N65: =IF($B64="","",výpočty!N65)
A66: =IF(startovka!A66="","",startovka!A66) | B66: =IF(startovka!B66="","",startovka!B66) | C66: =IF($B66="","",výpočty!C66) | D66: =IF($B66="","",výpočty!D66) | E66: =IF($B66="","",výpočty!E66) | F66: =IF($B66="","",výpočty!F66) | G66: =IF($B66="","",výpočty!G66) | H66: =IF($B66="","",výpočty!H66) | I66: =IF($B66="","",výpočty!I66) | J66: =IF($B66="","",výpočty!J66) | ... Q66: =IF($B66="","",výpočty!Q66)
C67: =IF($B66="","",výpočty!C67) | E67: =IF($B66="","",výpočty!E67) | F67: =IF($B66="","",výpočty!F67) | H67: =IF($B66="","",výpočty!H67) | J67: =IF($B66="","",výpočty!J67) | K67: =IF($B66="","",výpočty!K67) | M67: =IF($B66="","",výpočty!M67) | N67: =IF($B66="","",výpočty!N67)
A68: =IF(startovka!A68="","",startovka!A68) | B68: =IF(startovka!B68="","",startovka!B68) | C68: =IF($B68="","",výpočty!C68) | D68: =IF($B68="","",výpočty!D68) | E68: =IF($B68="","",výpočty!E68) | F68: =IF($B68="","",výpočty!F68) | G68: =IF($B68="","",výpočty!G68) | H68: =IF($B68="","",výpočty!H68) | I68: =IF($B68="","",výpočty!I68) | J68: =IF($B68="","",výpočty!J68) | ... Q68: =IF($B68="","",výpočty!Q68)
C69: =IF($B68="","",výpočty!C69) | E69: =IF($B68="","",výpočty!E69) | F69: =IF($B68="","",výpočty!F69) | H69: =IF($B68="","",výpočty!H69) | J69: =IF($B68="","",výpočty!J69) | K69: =IF($B68="","",výpočty!K69) | M69: =IF($B68="","",výpočty!M69) | N69: =IF($B68="","",výpočty!N69)
A70: =IF(startovka!A70="","",startovka!A70) | B70: =IF(startovka!B70="","",startovka!B70) | C70: =IF($B70="","",výpočty!C70) | D70: =IF($B70="","",výpočty!D70) | E70: =IF($B70="","",výpočty!E70) | F70: =IF($B70="","",výpočty!F70) | G70: =IF($B70="","",výpočty!G70) | H70: =IF($B70="","",výpočty!H70) | I70: =IF($B70="","",výpočty!I70) | J70: =IF($B70="","",výpočty!J70) | ... Q70: =IF($B70="","",výpočty!Q70)
C71: =IF($B70="","",výpočty!C71) | E71: =IF($B70="","",výpočty!E71) | F71: =IF($B70="","",výpočty!F71) | H71: =IF($B70="","",výpočty!H71) | J71: =IF($B70="","",výpočty!J71) | K71: =IF($B70="","",výpočty!K71) | M71: =IF($B70="","",výpočty!M71) | N71: =IF($B70="","",výpočty!N71)
A72: =IF(startovka!A72="","",startovka!A72) | B72: =IF(startovka!B72="","",startovka!B72) | C72: =IF($B72="","",výpočty!C72) | D72: =IF($B72="","",výpočty!D72) | E72: =IF($B72="","",výpočty!E72) | F72: =IF($B72="","",výpočty!F72) | G72: =IF($B72="","",výpočty!G72) | H72: =IF($B72="","",výpočty!H72) | I72: =IF($B72="","",výpočty!I72) | J72: =IF($B72="","",výpočty!J72) | ... Q72: =IF($B72="","",výpočty!Q72)
C73: =IF($B72="","",výpočty!C73) | E73: =IF($B72="","",výpočty!E73) | F73: =IF($B72="","",výpočty!F73) | H73: =IF($B72="","",výpočty!H73) | J73: =IF($B72="","",výpočty!J73) | K73: =IF($B72="","",výpočty!K73) | M73: =IF($B72="","",výpočty!M73) | N73: =IF($B72="","",výpočty!N73)
A74: =IF(startovka!A74="","",startovka!A74) | B74: =IF(startovka!B74="","",startovka!B74) | C74: =IF($B74="","",výpočty!C74) | D74: =IF($B74="","",výpočty!D74) | E74: =IF($B74="","",výpočty!E74) | F74: =IF($B74="","",výpočty!F74) | G74: =IF($B74="","",výpočty!G74) | H74: =IF($B74="","",výpočty!H74) | I74: =IF($B74="","",výpočty!I74) | J74: =IF($B74="","",výpočty!J74) | ... Q74: =IF($B74="","",výpočty!Q74)
C75: =IF($B74="","",výpočty!C75) | E75: =IF($B74="","",výpočty!E75) | F75: =IF($B74="","",výpočty!F75) | H75: =IF($B74="","",výpočty!H75) | J75: =IF($B74="","",výpočty!J75) | K75: =IF($B74="","",výpočty!K75) | M75: =IF($B74="","",výpočty!M75) | N75: =IF($B74="","",výpočty!N75)
A76: =IF(startovka!A76="","",startovka!A76) | B76: =IF(startovka!B76="","",startovka!B76) | C76: =IF($B76="","",výpočty!C76) | D76: =IF($B76="","",výpočty!D76) | E76: =IF($B76="","",výpočty!E76) | F76: =IF($B76="","",výpočty!F76) | G76: =IF($B76="","",výpočty!G76) | H76: =IF($B76="","",výpočty!H76) | I76: =IF($B76="","",výpočty!I76) | J76: =IF($B76="","",výpočty!J76) | ... Q76: =IF($B76="","",výpočty!Q76)
C77: =IF($B76="","",výpočty!C77) | E77: =IF($B76="","",výpočty!E77) | F77: =IF($B76="","",výpočty!F77) | H77: =IF($B76="","",výpočty!H77) | J77: =IF($B76="","",výpočty!J77) | K77: =IF($B76="","",výpočty!K77) | M77: =IF($B76="","",výpočty!M77) | N77: =IF($B76="","",výpočty!N77)
A78: =IF(startovka!A78="","",startovka!A78) | B78: =IF(startovka!B78="","",startovka!B78) | C78: =IF($B78="","",výpočty!C78) | D78: =IF($B78="","",výpočty!D78) | E78: =IF($B78="","",výpočty!E78) | F78: =IF($B78="","",výpočty!F78) | G78: =IF($B78="","",výpočty!G78) | H78: =IF($B78="","",výpočty!H78) | I78: =IF($B78="","",výpočty!I78) | J78: =IF($B78="","",výpočty!J78) | ... Q78: =IF($B78="","",výpočty!Q78)
C79: =IF($B78="","",výpočty!C79) | E79: =IF($B78="","",výpočty!E79) | F79: =IF($B78="","",výpočty!F79) | H79: =IF($B78="","",výpočty!H79) | J79: =IF($B78="","",výpočty!J79) | K79: =IF($B78="","",výpočty!K79) | M79: =IF($B78="","",výpočty!M79) | N79: =IF($B78="","",výpočty!N79)
A80: =IF(startovka!A80="","",startovka!A80) | B80: =IF(startovka!B80="","",startovka!B80) | C80: =IF($B80="","",výpočty!C80) | D80: =IF($B80="","",výpočty!D80) | E80: =IF($B80="","",výpočty!E80) | F80: =IF($B80="","",výpočty!F80) | G80: =IF($B80="","",výpočty!G80) | H80: =IF($B80="","",výpočty!H80) | I80: =IF($B80="","",výpočty!I80) | J80: =IF($B80="","",výpočty!J80) | ... Q80: =IF($B80="","",výpočty!Q80)
C81: =IF($B80="","",výpočty!C81) | E81: =IF($B80="","",výpočty!E81) | F81: =IF($B80="","",výpočty!F81) | H81: =IF($B80="","",výpočty!H81) | J81: =IF($B80="","",výpočty!J81) | K81: =IF($B80="","",výpočty!K81) | M81: =IF($B80="","",výpočty!M81) | N81: =IF($B80="","",výpočty!N81)
A82: =IF(startovka!A82="","",startovka!A82) | B82: =IF(startovka!B82="","",startovka!B82) | C82: =IF($B82="","",výpočty!C82) | D82: =IF($B82="","",výpočty!D82) | E82: =IF($B82="","",výpočty!E82) | F82: =IF($B82="","",výpočty!F82) | G82: =IF($B82="","",výpočty!G82) | H82: =IF($B82="","",výpočty!H82) | I82: =IF($B82="","",výpočty!I82) | J82: =IF($B82="","",výpočty!J82) | ... Q82: =IF($B82="","",výpočty!Q82)
C83: =IF($B82="","",výpočty!C83) | E83: =IF($B82="","",výpočty!E83) | F83: =IF($B82="","",výpočty!F83) | H83: =IF($B82="","",výpočty!H83) | J83: =IF($B82="","",výpočty!J83) | K83: =IF($B82="","",výpočty!K83) | M83: =IF($B82="","",výpočty!M83) | N83: =IF($B82="","",výpočty!N83)

Sheet stručné výsledky
A1: =CONCATENATE("Plamen"," ",YEAR(TODAY())) -> Plamen 2026
A2: Pořadí | B2: =startovka!B2 -> Kategorie: mladší | C2: PÚ Plamen | D2: PÚ CTIF | E2: 4x60 | F2: 400m CTIF | G2: Štafeta dvojic | H2: Součet bodů
B3: Družstvo
A4: =IF(startovka!A4="","",INDEX(výpočty!Q$4:Q$83,MATCH(startovka!A4,výpočty!S$4:S$83,0),1)) -> 1 | B4: =IF(A4="","",INDEX(výpočty!B$4:B$83,MATCH(startovka!A4,výpočty!S$4:S$83,0),1)) -> Mniší | C4: =IF(A4="","",INDEX(výpočty!D$4:D$83,MATCH(startovka!A4,výpočty!S$4:S$83,0),1)) -> 1 | D4: =IF(A4="","",INDEX(výpočty!G$4:G$83,MATCH(startovka!A4,výpočty!S$4:S$83,0),1)) -> 2 | E4: =IF(A4="","",INDEX(výpočty!I$4:I$83,MATCH(startovka!A4,výpočty!S$4:S$83,0),1)) -> 1 | F4: =IF(A4="","",INDEX(výpočty!L$4:L$83,MATCH(startovka!A4,výpočty!S$4:S$83,0),1)) -> 1 | G4: =IF(A4="","",INDEX(výpočty!O$4:O$83,MATCH(startovka!A4,výpočty!S$4:S$83,0),1)) -> 2 | H4: =IF(A4="","",INDEX(výpočty!P$4:P$83,MATCH(startovka!A4,výpočty!S$4:S$83,0),1)) -> 7.0010201
A6: =IF(startovka!A6="","",INDEX(výpočty!Q$4:Q$83,MATCH(startovka!A6,výpočty!S$4:S$83,0),1)) -> 2 | B6: =IF(A6="","",INDEX(výpočty!B$4:B$83,MATCH(startovka!A6,výpočty!S$4:S$83,0),1)) -> Hájov | C6: =IF(A6="","",INDEX(výpočty!D$4:D$83,MATCH(startovka!A6,výpočty!S$4:S$83,0),1)) -> 2 | D6: =IF(A6="","",INDEX(výpočty!G$4:G$83,MATCH(startovka!A6,výpočty!S$4:S$83,0),1)) -> 1 | E6: =IF(A6="","",INDEX(výpočty!I$4:I$83,MATCH(startovka!A6,výpočty!S$4:S$83,0),1)) -> 2 | F6: =IF(A6="","",INDEX(výpočty!L$4:L$83,MATCH(startovka!A6,výpočty!S$4:S$83,0),1)) -> 2 | G6: =IF(A6="","",INDEX(výpočty!O$4:O$83,MATCH(startovka!A6,výpočty!S$4:S$83,0),1)) -> 1 | H6: =IF(A6="","",INDEX(výpočty!P$4:P$83,MATCH(startovka!A6,výpočty!S$4:S$83,0),1)) -> 8.0020102
A8: =IF(startovka!A8="","",INDEX(výpočty!Q$4:Q$83,MATCH(startovka!A8,výpočty!S$4:S$83,0),1)) -> 3 | B8: =IF(A8="","",INDEX(výpočty!B$4:B$83,MATCH(startovka!A8,výpočty!S$4:S$83,0),1)) -> Tísek "A" | C8: =IF(A8="","",INDEX(výpočty!D$4:D$83,MATCH(startovka!A8,výpočty!S$4:S$83,0),1)) -> 4 | D8: =IF(A8="","",INDEX(výpočty!G$4:G$83,MATCH(startovka!A8,výpočty!S$4:S$83,0),1)) -> 3 | E8: =IF(A8="","",INDEX(výpočty!I$4:I$83,MATCH(startovka!A8,výpočty!S$4:S$83,0),1)) -> 3 | F8: =IF(A8="","",INDEX(výpočty!L$4:L$83,MATCH(startovka!A8,výpočty!S$4:S$83,0),1)) -> 3 | G8: =IF(A8="","",INDEX(výpočty!O$4:O$83,MATCH(startovka!A8,výpočty!S$4:S$83,0),1)) -> 3 | H8: =IF(A8="","",INDEX(výpočty!P$4:P$83,MATCH(startovka!A8,výpočty!S$4:S$83,0),1)) -> 16.00403
A10: =IF(startovka!A10="","",INDEX(výpočty!Q$4:Q$83,MATCH(startovka!A10,výpočty!S$4:S$83,0),1)) -> 4 | B10: =IF(A10="","",INDEX(výpočty!B$4:B$83,MATCH(startovka!A10,výpočty!S$4:S$83,0),1)) -> Frenštát p. R. | C10: =IF(A10="","",INDEX(výpočty!D$4:D$83,MATCH(startovka!A10,výpočty!S$4:S$83,0),1)) -> 3 | D10: =IF(A10="","",INDEX(výpočty!G$4:G$83,MATCH(startovka!A10,výpočty!S$4:S$83,0),1)) -> 4 | E10: =IF(A10="","",INDEX(výpočty!I$4:I$83,MATCH(startovka!A10,výpočty!S$4:S$83,0),1)) -> 4 | F10: =IF(A10="","",INDEX(výpočty!L$4:L$83,MATCH(startovka!A10,výpočty!S$4:S$83,0),1)) -> 4 | G10: =IF(A10="","",INDEX(výpočty!O$4:O$83,MATCH(startovka!A10,výpočty!S$4:S$83,0),1)) -> 4 | H10: =IF(A10="","",INDEX(výpočty!P$4:P$83,MATCH(startovka!A10,výpočty!S$4:S$83,0),1)) -> 19.00304
A12: =IF(startovka!A12="","",INDEX(výpočty!Q$4:Q$83,MATCH(startovka!A12,výpočty!S$4:S$83,0),1)) -> 5 | B12: =IF(A12="","",INDEX(výpočty!B$4:B$83,MATCH(startovka!A12,výpočty!S$4:S$83,0),1)) -> Tísek "B" | C12: =IF(A12="","",INDEX(výpočty!D$4:D$83,MATCH(startovka!A12,výpočty!S$4:S$83,0),1)) -> 5 | D12: =IF(A12="","",INDEX(výpočty!G$4:G$83,MATCH(startovka!A12,výpočty!S$4:S$83,0),1)) -> 5 | E12: =IF(A12="","",INDEX(výpočty!I$4:I$83,MATCH(startovka!A12,výpočty!S$4:S$83,0),1)) -> 5 | F12: =IF(A12="","",INDEX(výpočty!L$4:L$83,MATCH(startovka!A12,výpočty!S$4:S$83,0),1)) -> 5 | G12: =IF(A12="","",INDEX(výpočty!O$4:O$83,MATCH(startovka!A12,výpočty!S$4:S$83,0),1)) -> 5 | H12: =IF(A12="","",INDEX(výpočty!P$4:P$83,MATCH(startovka!A12,výpočty!S$4:S$83,0),1)) -> 25.005051
A14: =IF(startovka!A14="","",INDEX(výpočty!Q$4:Q$83,MATCH(startovka!A14,výpočty!S$4:S$83,0),1)) | B14: =IF(A14="","",INDEX(výpočty!B$4:B$83,MATCH(startovka!A14,výpočty!S$4:S$83,0),1)) | C14: =IF(A14="","",INDEX(výpočty!D$4:D$83,MATCH(startovka!A14,výpočty!S$4:S$83,0),1)) | D14: =IF(A14="","",INDEX(výpočty!G$4:G$83,MATCH(startovka!A14,výpočty!S$4:S$83,0),1)) | E14: =IF(A14="","",INDEX(výpočty!I$4:I$83,MATCH(startovka!A14,výpočty!S$4:S$83,0),1)) | F14: =IF(A14="","",INDEX(výpočty!L$4:L$83,MATCH(startovka!A14,výpočty!S$4:S$83,0),1)) | G14: =IF(A14="","",INDEX(výpočty!O$4:O$83,MATCH(startovka!A14,výpočty!S$4:S$83,0),1)) | H14: =IF(A14="","",INDEX(výpočty!P$4:P$83,MATCH(startovka!A14,výpočty!S$4:S$83,0),1))
A16: =IF(startovka!A16="","",INDEX(výpočty!Q$4:Q$83,MATCH(startovka!A16,výpočty!S$4:S$83,0),1)) | B16: =IF(A16="","",INDEX(výpočty!B$4:B$83,MATCH(startovka!A16,výpočty!S$4:S$83,0),1)) | C16: =IF(A16="","",INDEX(výpočty!D$4:D$83,MATCH(startovka!A16,výpočty!S$4:S$83,0),1)) | D16: =IF(A16="","",INDEX(výpočty!G$4:G$83,MATCH(startovka!A16,výpočty!S$4:S$83,0),1)) | E16: =IF(A16="","",INDEX(výpočty!I$4:I$83,MATCH(startovka!A16,výpočty!S$4:S$83,0),1)) | F16: =IF(A16="","",INDEX(výpočty!L$4:L$83,MATCH(startovka!A16,výpočty!S$4:S$83,0),1)) | G16: =IF(A16="","",INDEX(výpočty!O$4:O$83,MATCH(startovka!A16,výpočty!S$4:S$83,0),1)) | H16: =IF(A16="","",INDEX(výpočty!P$4:P$83,MATCH(startovka!A16,výpočty!S$4:S$83,0),1))
A18: =IF(startovka!A18="","",INDEX(výpočty!Q$4:Q$83,MATCH(startovka!A18,výpočty!S$4:S$83,0),1)) | B18: =IF(A18="","",INDEX(výpočty!B$4:B$83,MATCH(startovka!A18,výpočty!S$4:S$83,0),1)) | C18: =IF(A18="","",INDEX(výpočty!D$4:D$83,MATCH(startovka!A18,výpočty!S$4:S$83,0),1)) | D18: =IF(A18="","",INDEX(výpočty!G$4:G$83,MATCH(startovka!A18,výpočty!S$4:S$83,0),1)) | E18: =IF(A18="","",INDEX(výpočty!I$4:I$83,MATCH(startovka!A18,výpočty!S$4:S$83,0),1)) | F18: =IF(A18="","",INDEX(výpočty!L$4:L$83,MATCH(startovka!A18,výpočty!S$4:S$83,0),1)) | G18: =IF(A18="","",INDEX(výpočty!O$4:O$83,MATCH(startovka!A18,výpočty!S$4:S$83,0),1)) | H18: =IF(A18="","",INDEX(výpočty!P$4:P$83,MATCH(startovka!A18,výpočty!S$4:S$83,0),1))
A20: =IF(startovka!A20="","",INDEX(výpočty!Q$4:Q$83,MATCH(startovka!A20,výpočty!S$4:S$83,0),1)) | B20: =IF(A20="","",INDEX(výpočty!B$4:B$83,MATCH(startovka!A20,výpočty!S$4:S$83,0),1)) | C20: =IF(A20="","",INDEX(výpočty!D$4:D$83,MATCH(startovka!A20,výpočty!S$4:S$83,0),1)) | D20: =IF(A20="","",INDEX(výpočty!G$4:G$83,MATCH(startovka!A20,výpočty!S$4:S$83,0),1)) | E20: =IF(A20="","",INDEX(výpočty!I$4:I$83,MATCH(startovka!A20,výpočty!S$4:S$83,0),1)) | F20: =IF(A20="","",INDEX(výpočty!L$4:L$83,MATCH(startovka!A20,výpočty!S$4:S$83,0),1)) | G20: =IF(A20="","",INDEX(výpočty!O$4:O$83,MATCH(startovka!A20,výpočty!S$4:S$83,0),1)) | H20: =IF(A20="","",INDEX(výpočty!P$4:P$83,MATCH(startovka!A20,výpočty!S$4:S$83,0),1))
A22: =IF(startovka!A22="","",INDEX(výpočty!Q$4:Q$83,MATCH(startovka!A22,výpočty!S$4:S$83,0),1)) | B22: =IF(A22="","",INDEX(výpočty!B$4:B$83,MATCH(startovka!A22,výpočty!S$4:S$83,0),1)) | C22: =IF(A22="","",INDEX(výpočty!D$4:D$83,MATCH(startovka!A22,výpočty!S$4:S$83,0),1)) | D22: =IF(A22="","",INDEX(výpočty!G$4:G$83,MATCH(startovka!A22,výpočty!S$4:S$83,0),1)) | E22: =IF(A22="","",INDEX(výpočty!I$4:I$83,MATCH(startovka!A22,výpočty!S$4:S$83,0),1)) | F22: =IF(A22="","",INDEX(výpočty!L$4:L$83,MATCH(startovka!A22,výpočty!S$4:S$83,0),1)) | G22: =IF(A22="","",INDEX(výpočty!O$4:O$83,MATCH(startovka!A22,výpočty!S$4:S$83,0),1)) | H22: =IF(A22="","",INDEX(výpočty!P$4:P$83,MATCH(startovka!A22,výpočty!S$4:S$83,0),1))
A24: =IF(startovka!A24="","",INDEX(výpočty!Q$4:Q$83,MATCH(startovka!A24,výpočty!S$4:S$83,0),1)) | B24: =IF(A24="","",INDEX(výpočty!B$4:B$83,MATCH(startovka!A24,výpočty!S$4:S$83,0),1)) | C24: =IF(A24="","",INDEX(výpočty!D$4:D$83,MATCH(startovka!A24,výpočty!S$4:S$83,0),1)) | D24: =IF(A24="","",INDEX(výpočty!G$4:G$83,MATCH(startovka!A24,výpočty!S$4:S$83,0),1)) | E24: =IF(A24="","",INDEX(výpočty!I$4:I$83,MATCH(startovka!A24,výpočty!S$4:S$83,0),1)) | F24: =IF(A24="","",INDEX(výpočty!L$4:L$83,MATCH(startovka!A24,výpočty!S$4:S$83,0),1)) | G24: =IF(A24="","",INDEX(výpočty!O$4:O$83,MATCH(startovka!A24,výpočty!S$4:S$83,0),1)) | H24: =IF(A24="","",INDEX(výpočty!P$4:P$83,MATCH(startovka!A24,výpočty!S$4:S$83,0),1))
A26: =IF(startovka!A26="","",INDEX(výpočty!Q$4:Q$83,MATCH(startovka!A26,výpočty!S$4:S$83,0),1)) | B26: =IF(A26="","",INDEX(výpočty!B$4:B$83,MATCH(startovka!A26,výpočty!S$4:S$83,0),1)) | C26: =IF(A26="","",INDEX(výpočty!D$4:D$83,MATCH(startovka!A26,výpočty!S$4:S$83,0),1)) | D26: =IF(A26="","",INDEX(výpočty!G$4:G$83,MATCH(startovka!A26,výpočty!S$4:S$83,0),1)) | E26: =IF(A26="","",INDEX(výpočty!I$4:I$83,MATCH(startovka!A26,výpočty!S$4:S$83,0),1)) | F26: =IF(A26="","",INDEX(výpočty!L$4:L$83,MATCH(startovka!A26,výpočty!S$4:S$83,0),1)) | G26: =IF(A26="","",INDEX(výpočty!O$4:O$83,MATCH(startovka!A26,výpočty!S$4:S$83,0),1)) | H26: =IF(A26="","",INDEX(výpočty!P$4:P$83,MATCH(startovka!A26,výpočty!S$4:S$83,0),1))
... A82: =IF(startovka!A82="","",INDEX(výpočty!Q$4:Q$83,MATCH(startovka!A82,výpočty!S$4:S$83,0),1)) | B82: =IF(A82="","",INDEX(výpočty!B$4:B$83,MATCH(startovka!A82,výpočty!S$4:S$83,0),1)) | C82: =IF(A82="","",INDEX(výpočty!D$4:D$83,MATCH(startovka!A82,výpočty!S$4:S$83,0),1)) | D82: =IF(A82="","",INDEX(výpočty!G$4:G$83,MATCH(startovka!A82,výpočty!S$4:S$83,0),1)) | E82: =IF(A82="","",INDEX(výpočty!I$4:I$83,MATCH(startovka!A82,výpočty!S$4:S$83,0),1)) | F82: =IF(A82="","",INDEX(výpočty!L$4:L$83,MATCH(startovka!A82,výpočty!S$4:S$83,0),1)) | G82: =IF(A82="","",INDEX(výpočty!O$4:O$83,MATCH(startovka!A82,výpočty!S$4:S$83,0),1)) | H82: =IF(A82="","",INDEX(výpočty!P$4:P$83,MATCH(startovka!A82,výpočty!S$4:S$83,0),1))

Sheet výpočty
A1: =startovka!A1 -> Plamen | T1: Pú | Y1: Pú ctif | AE1: 4x60 | AJ1: štafeta ctif | AP1: štafeta dvojic
A2: =startovka!A2 -> startovní číslo | C2: Pú | E2: Pú CTIF | H2: 4x60 | J2: štaf CTIF | M2: Štaf dvojic | P2: suma bodů
A3: =startovka!A3 -> 0 | C3: čas | D3: p | E3: čas | F3: TB | G3: p | H3: čas | I3: p | J3: čas | K3: TB | L3: p | M3: čas | N3: TB | O3: p
A4: =IF(startovka!A4="","",startovka!A4) -> 1 | B4: =IF(startovka!B4="","",startovka!B4) -> Frenštát p. R. | C4: =IF($B4="","",U4) -> 20.77 | D4: =IF($B4="","",IF(ISNUMBER(W4),W4,0)) -> 3 | E4: =IF(B4="","",Z4) -> 86.63 | F4: =IF(C4="","",AA4) -> 0 | G4: =IF($B4="","",IF(ISNUMBER(AC4),AC4,0)) -> 4 | H4: =IF($B4="","",AF4) -> 72.769 | I4: =IF($B4="","",IF(ISNUMBER(AH4),AH4,0)) -> 4 | J4: =IF($B4="","",AK4) -> 114.376 | K4: =IF($B4="","",AL4) -> 0 | L4: =IF($B4="","",IF(ISNUMBER(AN4),AN4,0)) -> 4 | M4: =IF($B4="","",AQ4) -> 104.91 | N4: =IF($B4="","",AR4) -> 10 | O4: =IF(B4="","",IF(ISNUMBER(AT4),AT4,0)) -> 4 | P4: =IF(B4="","",D4*1.001+G4*1.00001+I4*1.0000001+L4*1.000000001+O4) -> 19.00304 | Q4: =IF($B4="","",RANK(P4,P$4:P$83,1)) -> 4 | R4: =IF(Q4="","",Q4+A4/1000) -> 4.001 | S4: =IF($B4="","",RANK(R4,R$4:R$83,1)) -> 4 | T4: =IF(PÚ!B4="","",PÚ!B4) -> Frenštát p. R. | U4: =IF(T4="","",PÚ!H4) -> 20.77 | V4: =IF(T4="","",MIN(U4:U5)+MAX(U4:U5)/1000000) -> 20.770021 | W4: =IF(T4="","",IF(SUM(V4:V83)=0,0,RANK(V4,V$4:V$83,1))) -> 3 | Y4: =IF('PÚ CTIF'!B4:B5="","",'PÚ CTIF'!B4:B5) -> Frenštát p. R. | Z4: =IF(Y4="","",'PÚ CTIF'!Q4) -> 86.63 | AA4: =IF(Y4="","",SUM('PÚ CTIF'!H4:O4)) -> 0 | AB4: =IF(Y4="","",MIN(Z4:Z5)+MAX(Z4:Z5)/1000000000+INDEX(AA4:AA5,MATCH(MIN(Z4:Z5),Z4:Z5,0),1)/1000000000000000) -> 76.51 | AC4: =IF(Y4="","",RANK(AB4,AB$4:AB$83,1)) -> 4 | AE4: =IF('4x60'!B4:B5="","",'4x60'!B4:B5) -> Frenštát p. R. | AF4: =IF(AE4="","",'4x60'!H4) -> 72.769 | AG4: =IF(AE4="","",MIN(AF4:AF5)+MAX(AF4:AF5)/1000000) -> 72.769998 | AH4: =IF(AE4="","",IF(SUM(AG4:AG83)=0,0,RANK(AG4,AG$4:AG$83,1))) -> 4 | AJ4: =IF('štafeta CTIF'!B4:B5="","",'štafeta CTIF'!B4:B5) -> Frenštát p. R. | AK4: =IF(AJ4="","",'štafeta CTIF'!M4) -> 114.376 | AL4: =IF(AJ4="","",SUM('štafeta CTIF'!H4:K4)) -> 0 | AM4: =IF(AJ4="","",MIN(AK4:AK5)+MAX(AK4:AK5)/1000000000+INDEX(AL4:AL5,MATCH(MIN(AK4:AK5),AK4:AK5,0),1)/1000000000000000) -> 113.767 | AN4: =IF(AJ4="","",RANK(AM4,AM$4:AM$83,1)) -> 4 | AP4: =IF('štafeta dvojic'!B4:B5="","",'štafeta dvojic'!B4:B5) -> Frenštát p. R. | AQ4: =IF(AP4="","",'štafeta dvojic'!T4) -> 104.91 | AR4: =IF(AP4="","",SUM('štafeta dvojic'!H4:R4)) -> 10 | AS4: =IF(AP4="","",MIN(AQ4:AQ5)+MAX(AQ4:AQ5)/1000000000+INDEX(AR4:AR5,MATCH(MIN(AQ4:AQ5),AQ4:AQ5,0),1)/1000000000000000) -> 75.55 | AT4: =IF(AP4="","",RANK(AS4,AS$4:AS$83,1)) -> 4
C5: =IF(B4="","",U5) -> 21.27 | E5: =IF(B4="","",Z5) -> 76.51 | F5: =IF(C4="","",AA5) -> 0 | H5: =IF($B4="","",AF5) -> 998 | J5: =IF($B4="","",AK5) -> 113.767 | K5: =IF($B4="","",AL5) -> 0 | M5: =IF($B4="","",AQ5) -> 75.55 | N5: =IF($B4="","",AR5) -> 0 | U5: =IF(T4="","",PÚ!H5) -> 21.27 | Z5: =IF(Y4="","",'PÚ CTIF'!Q5) -> 76.51 | AA5: =IF(Y4="","",SUM('PÚ CTIF'!H5:O5)) -> 0 | AF5: =IF(AE4="","",'4x60'!H5) -> 998 | AK5: =IF(AJ4="","",'štafeta CTIF'!M5) -> 113.767 | AL5: =IF(AJ4="","",SUM('štafeta CTIF'!H5:K5)) -> 0 | AQ5: =IF(AP4="","",'štafeta dvojic'!T5) -> 75.55 | AR5: =IF(AP4="","",SUM('štafeta dvojic'!H5:R5)) -> 0
A6: =IF(startovka!A6="","",startovka!A6) -> 2 | B6: =IF(startovka!B6="","",startovka!B6) -> Tísek "A" | C6: =IF($B6="","",U6) -> 33.32 | D6: =IF(B6="","",W6) -> 4 | E6: =IF(B6="","",Z6) -> 78.16 | F6: =IF(C6="","",AA6) -> 20 | G6: =IF($B6="","",IF(ISNUMBER(AC6),AC6,0)) -> 3 | H6: =IF($B6="","",AF6) -> 998 | I6: =IF($B6="","",IF(ISNUMBER(AH6),AH6,0)) -> 3 | J6: =IF($B6="","",AK6) -> 100.531 | K6: =IF($B6="","",AL6) -> 0 | L6: =IF($B6="","",IF(ISNUMBER(AN6),AN6,0)) -> 3 | M6: =IF($B6="","",AQ6) -> 71.73 | N6: =IF($B6="","",AR6) -> 0 | O6: =IF(B6="","",IF(ISNUMBER(AT6),AT6,0)) -> 3 | P6: =IF(B6="","",D6*1.001+G6*1.00001+I6*1.0000001+L6*1.000000001+O6) -> 16.00403 | Q6: =IF(B6="","",RANK(P6,P$4:P$83,1)) -> 3 | R6: =IF(Q6="","",Q6+A6/1000) -> 3.002 | S6: =IF($B6="","",RANK(R6,R$4:R$83,1)) -> 3 | T6: =IF(PÚ!B6="","",PÚ!B6) -> Tísek "A" | U6: =IF(T6="","",PÚ!H6) -> 33.32 | V6: =IF(T6="","",MIN(U6:U7)+MAX(U6:U7)/1000000) -> 33.320998 | W6: =IF(T6="","",IF(SUM(V6:V85)=0,0,RANK(V6,V$4:V$83,1))) -> 4 | Y6: =IF('PÚ CTIF'!B6:B7="","",'PÚ CTIF'!B6:B7) -> Tísek "A" | Z6: =IF(Y6="","",'PÚ CTIF'!Q6) -> 78.16 | AA6: =IF(Y6="","",SUM('PÚ CTIF'!H6:O6)) -> 20 | AB6: =IF(Y6="","",MIN(Z6:Z7)+MAX(Z6:Z7)/1000000000+INDEX(AA6:AA7,MATCH(MIN(Z6:Z7),Z6:Z7,0),1)/1000000000000000) -> 71.77 | AC6: =IF(Y6="","",RANK(AB6,AB$4:AB$83,1)) -> 3 | AE6: =IF('4x60'!B6:B7="","",'4x60'!B6:B7) -> Tísek "A" | AF6: =IF(AE6="","",'4x60'!H6) -> 998 | AG6: =IF(AE6="","",MIN(AF6:AF7)+MAX(AF6:AF7)/1000000) -> 63.696998 | AH6: =IF(AE6="","",IF(SUM(AG6:AG85)=0,0,RANK(AG6,AG$4:AG$83,1))) -> 3 | AJ6: =IF('štafeta CTIF'!B6:B7="","",'štafeta CTIF'!B6:B7) -> Tísek "A" | AK6: =IF(AJ6="","",'štafeta CTIF'!M6) -> 100.531 | AL6: =IF(AJ6="","",SUM('štafeta CTIF'!H6:K6)) -> 0 | AM6: =IF(AJ6="","",MIN(AK6:AK7)+MAX(AK6:AK7)/1000000000+INDEX(AL6:AL7,MATCH(MIN(AK6:AK7),AK6:AK7,0),1)/1000000000000000) -> 100.112 | AN6: =IF(AJ6="","",RANK(AM6,AM$4:AM$83,1)) -> 3 | AP6: =IF('štafeta dvojic'!B6:B7="","",'štafeta dvojic'!B6:B7) -> Tísek "A" | AQ6: =IF(AP6="","",'štafeta dvojic'!T6) -> 71.73 | AR6: =IF(AP6="","",SUM('štafeta dvojic'!H6:R6)) -> 0 | AS6: =IF(AP6="","",MIN(AQ6:AQ7)+MAX(AQ6:AQ7)/1000000000+INDEX(AR6:AR7,MATCH(MIN(AQ6:AQ7),AQ6:AQ7,0),1)/1000000000000000) -> 71.73 | AT6: =IF(AP6="","",RANK(AS6,AS$4:AS$83,1)) -> 3
C7: =IF(B6="","",U7) -> 998 | E7: =IF(B6="","",Z7) -> 71.77 | F7: =IF(C6="","",AA7) -> 10 | H7: =IF($B6="","",AF7) -> 63.696 | J7: =IF($B6="","",AK7) -> 100.112 | K7: =IF($B6="","",AL7) -> 0 | M7: =IF($B6="","",AQ7) -> 74.95 | N7: =IF($B6="","",AR7) -> 0 | U7: =IF(T6="","",PÚ!H7) -> 998 | Z7: =IF(Y6="","",'PÚ CTIF'!Q7) -> 71.77 | AA7: =IF(Y6="","",SUM('PÚ CTIF'!H7:O7)) -> 10 | AF7: =IF(AE6="","",'4x60'!H7) -> 63.696 | AK7: =IF(AJ6="","",'štafeta CTIF'!M7) -> 100.112 | AL7: =IF(AJ6="","",SUM('štafeta CTIF'!H7:K7)) -> 0 | AQ7: =IF(AP6="","",'štafeta dvojic'!T7) -> 74.95 | AR7: =IF(AP6="","",SUM('štafeta dvojic'!H7:R7)) -> 0
A8: =IF(startovka!A8="","",startovka!A8) -> 3 | B8: =IF(startovka!B8="","",startovka!B8) -> Mniší | C8: =IF($B8="","",U8) -> 18.06 | D8: =IF(B8="","",W8) -> 1 | E8: =IF(B8="","",Z8) -> 67.06 | F8: =IF(C8="","",AA8) -> 5 | G8: =IF($B8="","",IF(ISNUMBER(AC8),AC8,0)) -> 2 | H8: =IF($B8="","",AF8) -> 61.507 | I8: =IF($B8="","",IF(ISNUMBER(AH8),AH8,0)) -> 1 | J8: =IF($B8="","",AK8) -> 93.42 | K8: =IF($B8="","",AL8) -> 0 | L8: =IF($B8="","",IF(ISNUMBER(AN8),AN8,0)) -> 1 | M8: =IF($B8="","",AQ8) -> 71.35 | N8: =IF($B8="","",AR8) -> 0 | O8: =IF(B8="","",IF(ISNUMBER(AT8),AT8,0)) -> 2 | P8: =IF(B8="","",D8*1.001+G8*1.00001+I8*1.0000001+L8*1.000000001+O8) -> 7.0010201 | Q8: =IF(B8="","",RANK(P8,P$4:P$83,1)) -> 1 | R8: =IF(Q8="","",Q8+A8/1000) -> 1.003 | S8: =IF($B8="","",RANK(R8,R$4:R$83,1)) -> 1 | T8: =IF(PÚ!B8="","",PÚ!B8) -> Mniší | U8: =IF(T8="","",PÚ!H8) -> 18.06 | V8: =IF(T8="","",MIN(U8:U9)+MAX(U8:U9)/1000000) -> 16.940018 | W8: =IF(T8="","",IF(SUM(V8:V87)=0,0,RANK(V8,V$4:V$83,1))) -> 1 | Y8: =IF('PÚ CTIF'!B8:B9="","",'PÚ CTIF'!B8:B9) -> Mniší | Z8: =IF(Y8="","",'PÚ CTIF'!Q8) -> 67.06 | AA8: =IF(Y8="","",SUM('PÚ CTIF'!H8:O8)) -> 5 | AB8: =IF(Y8="","",MIN(Z8:Z9)+MAX(Z8:Z9)/1000000000+INDEX(AA8:AA9,MATCH(MIN(Z8:Z9),Z8:Z9,0),1)/1000000000000000) -> 55.07 | AC8: =IF(Y8="","",RANK(AB8,AB$4:AB$83,1)) -> 2 | AE8: =IF('4x60'!B8:B9="","",'4x60'!B8:B9) -> Mniší | AF8: =IF(AE8="","",'4x60'!H8) -> 61.507 | AG8: =IF(AE8="","",MIN(AF8:AF9)+MAX(AF8:AF9)/1000000) -> 51.497062 | AH8: =IF(AE8="","",IF(SUM(AG8:AG87)=0,0,RANK(AG8,AG$4:AG$83,1))) -> 1 | AJ8: =IF('štafeta CTIF'!B8:B9="","",'štafeta CTIF'!B8:B9) -> Mniší | AK8: =IF(AJ8="","",'štafeta CTIF'!M8) -> 93.42 | AL8: =IF(AJ8="","",SUM('štafeta CTIF'!H8:K8)) -> 0 | AM8: =IF(AJ8="","",MIN(AK8:AK9)+MAX(AK8:AK9)/1000000000+INDEX(AL8:AL9,MATCH(MIN(AK8:AK9),AK8:AK9,0),1)/1000000000000000) -> 91.311 | AN8: =IF(AJ8="","",RANK(AM8,AM$4:AM$83,1)) -> 1 | AP8: =IF('štafeta dvojic'!B8:B9="","",'štafeta dvojic'!B8:B9) -> Mniší | AQ8: =IF(AP8="","",'štafeta dvojic'!T8) -> 71.35 | AR8: =IF(AP8="","",SUM('štafeta dvojic'!H8:R8)) -> 0 | AS8: =IF(AP8="","",MIN(AQ8:AQ9)+MAX(AQ8:AQ9)/1000000000+INDEX(AR8:AR9,MATCH(MIN(AQ8:AQ9),AQ8:AQ9,0),1)/1000000000000000) -> 67.95 | AT8: =IF(AP8="","",RANK(AS8,AS$4:AS$83,1)) -> 2
C9: =IF(B8="","",U9) -> 16.94 | E9: =IF(B8="","",Z9) -> 55.07 | F9: =IF(C8="","",AA9) -> 0 | H9: =IF($B8="","",AF9) -> 51.497 | J9: =IF($B8="","",AK9) -> 91.311 | K9: =IF($B8="","",AL9) -> 0 | M9: =IF($B8="","",AQ9) -> 67.95 | N9: =IF($B8="","",AR9) -> 0 | U9: =IF(T8="","",PÚ!H9) -> 16.94 | Z9: =IF(Y8="","",'PÚ CTIF'!Q9) -> 55.07 | AA9: =IF(Y8="","",SUM('PÚ CTIF'!H9:O9)) -> 0 | AF9: =IF(AE8="","",'4x60'!H9) -> 51.497 | AK9: =IF(AJ8="","",'štafeta CTIF'!M9) -> 91.311 | AL9: =IF(AJ8="","",SUM('štafeta CTIF'!H9:K9)) -> 0 | AQ9: =IF(AP8="","",'štafeta dvojic'!T9) -> 67.95 | AR9: =IF(AP8="","",SUM('štafeta dvojic'!H9:R9)) -> 0
A10: =IF(startovka!A10="","",startovka!A10) -> 4 | B10: =IF(startovka!B10="","",startovka!B10) -> Hájov | C10: =IF($B10="","",U10) -> 20.75 | D10: =IF(B10="","",W10) -> 2 | E10: =IF(B10="","",Z10) -> 52.43 | F10: =IF(C10="","",AA10) -> 0 | G10: =IF($B10="","",IF(ISNUMBER(AC10),AC10,0)) -> 1 | H10: =IF($B10="","",AF10) -> 998 | I10: =IF($B10="","",IF(ISNUMBER(AH10),AH10,0)) -> 2 | J10: =IF($B10="","",AK10) -> 99.218 | K10: =IF($B10="","",AL10) -> 0 | L10: =IF($B10="","",IF(ISNUMBER(AN10),AN10,0)) -> 2 | M10: =IF($B10="","",AQ10) -> 68.83 | N10: =IF($B10="","",AR10) -> 0 | O10: =IF(B10="","",IF(ISNUMBER(AT10),AT10,0)) -> 1 | P10: =IF(B10="","",D10*1.001+G10*1.00001+I10*1.0000001+L10*1.000000001+O10) -> 8.0020102 | Q10: =IF(B10="","",RANK(P10,P$4:P$83,1)) -> 2 | R10: =IF(Q10="","",Q10+A10/1000) -> 2.004 | S10: =IF($B10="","",RANK(R10,R$4:R$83,1)) -> 2 | T10: =IF(PÚ!B10="","",PÚ!B10) -> Hájov | U10: =IF(T10="","",PÚ!H10) -> 20.75 | V10: =IF(T10="","",MIN(U10:U11)+MAX(U10:U11)/1000000) -> 17.630021 | W10: =IF(T10="","",IF(SUM(V10:V89)=0,0,RANK(V10,V$4:V$83,1))) -> 2 | Y10: =IF('PÚ CTIF'!B10:B11="","",'PÚ CTIF'!B10:B11) -> Hájov | Z10: =IF(Y10="","",'PÚ CTIF'!Q10) -> 52.43 | AA10: =IF(Y10="","",SUM('PÚ CTIF'!H10:O10)) -> 0 | AB10: =IF(Y10="","",MIN(Z10:Z11)+MAX(Z10:Z11)/1000000000+INDEX(AA10:AA11,MATCH(MIN(Z10:Z11),Z10:Z11,0),1)/1000000000000000) -> 52.43 | AC10: =IF(Y10="","",RANK(AB10,AB$4:AB$83,1)) -> 1 | AE10: =IF('4x60'!B10:B11="","",'4x60'!B10:B11) -> Hájov | AF10: =IF(AE10="","",'4x60'!H10) -> 998 | AG10: =IF(AE10="","",MIN(AF10:AF11)+MAX(AF10:AF11)/1000000) -> 54.069998 | AH10: =IF(AE10="","",IF(SUM(AG10:AG89)=0,0,RANK(AG10,AG$4:AG$83,1))) -> 2 | AJ10: =IF('štafeta CTIF'!B10:B11="","",'štafeta CTIF'!B10:B11) -> Hájov | AK10: =IF(AJ10="","",'štafeta CTIF'!M10) -> 99.218 | AL10: =IF(AJ10="","",SUM('štafeta CTIF'!H10:K10)) -> 0 | AM10: =IF(AJ10="","",MIN(AK10:AK11)+MAX(AK10:AK11)/1000000000+INDEX(AL10:AL11,MATCH(MIN(AK10:AK11),AK10:AK11,0),1)/1000000000000000) -> 94.769 | AN10: =IF(AJ10="","",RANK(AM10,AM$4:AM$83,1)) -> 2 | AP10: =IF('štafeta dvojic'!B10:B11="","",'štafeta dvojic'!B10:B11) -> Hájov | AQ10: =IF(AP10="","",'štafeta dvojic'!T10) -> 68.83 | AR10: =IF(AP10="","",SUM('štafeta dvojic'!H10:R10)) -> 0 | AS10: =IF(AP10="","",MIN(AQ10:AQ11)+MAX(AQ10:AQ11)/1000000000+INDEX(AR10:AR11,MATCH(MIN(AQ10:AQ11),AQ10:AQ11,0),1)/1000000000000000) -> 66.66 | AT10: =IF(AP10="","",RANK(AS10,AS$4:AS$83,1)) -> 1
C11: =IF(B10="","",U11) -> 17.63 | E11: =IF(B10="","",Z11) -> 56.35 | F11: =IF(C10="","",AA11) -> 0 | H11: =IF($B10="","",AF11) -> 54.069 | J11: =IF($B10="","",AK11) -> 94.769 | K11: =IF($B10="","",AL11) -> 0 | M11: =IF($B10="","",AQ11) -> 66.66 | N11: =IF($B10="","",AR11) -> 0 | U11: =IF(T10="","",PÚ!H11) -> 17.63 | Z11: =IF(Y10="","",'PÚ CTIF'!Q11) -> 56.35 | AA11: =IF(Y10="","",SUM('PÚ CTIF'!H11:O11)) -> 0 | AF11: =IF(AE10="","",'4x60'!H11) -> 54.069 | AK11: =IF(AJ10="","",'štafeta CTIF'!M11) -> 94.769 | AL11: =IF(AJ10="","",SUM('štafeta CTIF'!H11:K11)) -> 0 | AQ11: =IF(AP10="","",'štafeta dvojic'!T11) -> 66.66 | AR11: =IF(AP10="","",SUM('štafeta dvojic'!H11:R11)) -> 0
A12: =IF(startovka!A12="","",startovka!A12) -> 5 | B12: =IF(startovka!B12="","",startovka!B12) -> Tísek "B" | C12: =IF($B12="","",U12) -> 110.33 | D12: =IF(B12="","",W12) -> 5 | E12: =IF(B12="","",Z12) -> 106.18 | F12: =IF(C12="","",AA12) -> 20 | G12: =IF($B12="","",IF(ISNUMBER(AC12),AC12,0)) -> 5 | H12: =IF($B12="","",AF12) -> 81.823 | I12: =IF($B12="","",IF(ISNUMBER(AH12),AH12,0)) -> 5 | J12: =IF($B12="","",AK12) -> 134.657 | K12: =IF($B12="","",AL12) -> 0 | L12: =IF($B12="","",IF(ISNUMBER(AN12),AN12,0)) -> 5 | M12: =IF($B12="","",AQ12) -> 131.28 | N12: =IF($B12="","",AR12) -> 10 | O12: =IF(B12="","",IF(ISNUMBER(AT12),AT12,0)) -> 5 | P12: =IF(B12="","",D12*1.001+G12*1.00001+I12*1.0000001+L12*1.000000001+O12) -> 25.005051 | Q12: =IF(B12="","",RANK(P12,P$4:P$83,1)) -> 5 | R12: =IF(Q12="","",Q12+A12/1000) -> 5.005 | S12: =IF($B12="","",RANK(R12,R$4:R$83,1)) -> 5 | T12: =IF(PÚ!B12="","",PÚ!B12) -> Tísek "B" | U12: =IF(T12="","",PÚ!H12) -> 110.33 | V12: =IF(T12="","",MIN(U12:U13)+MAX(U12:U13)/1000000) -> 60.36011 | W12: =IF(T12="","",IF(SUM(V12:V91)=0,0,RANK(V12,V$4:V$83,1))) -> 5 | Y12: =IF('PÚ CTIF'!B12:B13="","",'PÚ CTIF'!B12:B13) -> Tísek "B" | Z12: =IF(Y12="","",'PÚ CTIF'!Q12) -> 106.18 | AA12: =IF(Y12="","",SUM('PÚ CTIF'!H12:O12)) -> 20 | AB12: =IF(Y12="","",MIN(Z12:Z13)+MAX(Z12:Z13)/1000000000+INDEX(AA12:AA13,MATCH(MIN(Z12:Z13),Z12:Z13,0),1)/1000000000000000) -> 79.1 | AC12: =IF(Y12="","",RANK(AB12,AB$4:AB$83,1)) -> 5 | AE12: =IF('4x60'!B12:B13="","",'4x60'!B12:B13) -> Tísek "B" | AF12: =IF(AE12="","",'4x60'!H12) -> 81.823 | AG12: =IF(AE12="","",MIN(AF12:AF13)+MAX(AF12:AF13)/1000000) -> 81.823093 | AH12: =IF(AE12="","",IF(SUM(AG12:AG91)=0,0,RANK(AG12,AG$4:AG$83,1))) -> 5 | AJ12: =IF('štafeta CTIF'!B12:B13="","",'štafeta CTIF'!B12:B13) -> Tísek "B" | AK12: =IF(AJ12="","",'štafeta CTIF'!M12) -> 134.657 | AL12: =IF(AJ12="","",SUM('štafeta CTIF'!H12:K12)) -> 0 | AM12: =IF(AJ12="","",MIN(AK12:AK13)+MAX(AK12:AK13)/1000000000+INDEX(AL12:AL13,MATCH(MIN(AK12:AK13),AK12:AK13,0),1)/1000000000000000) -> 129.773 | AN12: =IF(AJ12="","",RANK(AM12,AM$4:AM$83,1)) -> 5 | AP12: =IF('štafeta dvojic'!B12:B13="","",'štafeta dvojic'!B12:B13) -> Tísek "B" | AQ12: =IF(AP12="","",'štafeta dvojic'!T12) -> 131.28 | AR12: =IF(AP12="","",SUM('štafeta dvojic'!H12:R12)) -> 10 | AS12: =IF(AP12="","",MIN(AQ12:AQ13)+MAX(AQ12:AQ13)/1000000000+INDEX(AR12:AR13,MATCH(MIN(AQ12:AQ13),AQ12:AQ13,0),1)/1000000000000000) -> 119.31 | AT12: =IF(AP12="","",RANK(AS12,AS$4:AS$83,1)) -> 5
C13: =IF(B12="","",U13) -> 60.36 | E13: =IF(B12="","",Z13) -> 79.1 | F13: =IF(C12="","",AA13) -> 0 | H13: =IF($B12="","",AF13) -> 92.627 | J13: =IF($B12="","",AK13) -> 129.773 | K13: =IF($B12="","",AL13) -> 0 | M13: =IF($B12="","",AQ13) -> 119.31 | N13: =IF($B12="","",AR13) -> 0 | U13: =IF(T12="","",PÚ!H13) -> 60.36 | Z13: =IF(Y12="","",'PÚ CTIF'!Q13) -> 79.1 | AA13: =IF(Y12="","",SUM('PÚ CTIF'!H13:O13)) -> 0 | AF13: =IF(AE12="","",'4x60'!H13) -> 92.627 | AK13: =IF(AJ12="","",'štafeta CTIF'!M13) -> 129.773 | AL13: =IF(AJ12="","",SUM('štafeta CTIF'!H13:K13)) -> 0 | AQ13: =IF(AP12="","",'štafeta dvojic'!T13) -> 119.31 | AR13: =IF(AP12="","",SUM('štafeta dvojic'!H13:R13)) -> 0
A14: =IF(startovka!A14="","",startovka!A14) | B14: =IF(startovka!B14="","",startovka!B14) | C14: =IF($B14="","",U14) | D14: =IF(B14="","",W14) | E14: =IF(B14="","",Z14) | F14: =IF(C14="","",AA14) | G14: =IF($B14="","",IF(ISNUMBER(AC14),AC14,0)) | H14: =IF($B14="","",AF14) | I14: =IF($B14="","",IF(ISNUMBER(AH14),AH14,0)) | J14: =IF($B14="","",AK14) | K14: =IF($B14="","",AL14) | L14: =IF($B14="","",IF(ISNUMBER(AN14),AN14,0)) | M14: =IF($B14="","",AQ14) | N14: =IF($B14="","",AR14) | O14: =IF(B14="","",IF(ISNUMBER(AT14),AT14,0)) | P14: =IF(B14="","",D14*1.001+G14*1.00001+I14*1.0000001+L14*1.000000001+O14) | Q14: =IF(B14="","",RANK(P14,P$4:P$83,1)) | R14: =IF(Q14="","",Q14+A14/1000) | S14: =IF($B14="","",RANK(R14,R$4:R$83,1)) | T14: =IF(PÚ!B14="","",PÚ!B14) | U14: =IF(T14="","",PÚ!H14) | V14: =IF(T14="","",MIN(U14:U15)+MAX(U14:U15)/1000000) | W14: =IF(T14="","",IF(SUM(V14:V93)=0,0,RANK(V14,V$4:V$83,1))) | Y14: =IF('PÚ CTIF'!B14:B15="","",'PÚ CTIF'!B14:B15) | Z14: =IF(Y14="","",'PÚ CTIF'!Q14) | AA14: =IF(Y14="","",SUM('PÚ CTIF'!H14:O14)) | AB14: =IF(Y14="","",MIN(Z14:Z15)+MAX(Z14:Z15)/1000000000+INDEX(AA14:AA15,MATCH(MIN(Z14:Z15),Z14:Z15,0),1)/1000000000000000) | AC14: =IF(Y14="","",RANK(AB14,AB$4:AB$83,1)) | AE14: =IF('4x60'!B14:B15="","",'4x60'!B14:B15) | AF14: =IF(AE14="","",'4x60'!H14) | AG14: =IF(AE14="","",MIN(AF14:AF15)+MAX(AF14:AF15)/1000000) | AH14: =IF(AE14="","",IF(SUM(AG14:AG93)=0,0,RANK(AG14,AG$4:AG$83,1))) | AJ14: =IF('štafeta CTIF'!B14:B15="","",'štafeta CTIF'!B14:B15) | AK14: =IF(AJ14="","",'štafeta CTIF'!M14) | AL14: =IF(AJ14="","",SUM('štafeta CTIF'!H14:K14)) | AM14: =IF(AJ14="","",MIN(AK14:AK15)+MAX(AK14:AK15)/1000000000+INDEX(AL14:AL15,MATCH(MIN(AK14:AK15),AK14:AK15,0),1)/1000000000000000) | AN14: =IF(AJ14="","",RANK(AM14,AM$4:AM$83,1)) | AP14: =IF('štafeta dvojic'!B14:B15="","",'štafeta dvojic'!B14:B15) | AQ14: =IF(AP14="","",'štafeta dvojic'!T14) | AR14: =IF(AP14="","",SUM('štafeta dvojic'!H14:R14)) | AS14: =IF(AP14="","",MIN(AQ14:AQ15)+MAX(AQ14:AQ15)/1000000000+INDEX(AR14:AR15,MATCH(MIN(AQ14:AQ15),AQ14:AQ15,0),1)/1000000000000000) | AT14: =IF(AP14="","",RANK(AS14,AS$4:AS$83,1))
C15: =IF(B14="","",U15) | E15: =IF(B14="","",Z15) | F15: =IF(C14="","",AA15) | H15: =IF($B14="","",AF15) | J15: =IF($B14="","",AK15) | K15: =IF($B14="","",AL15) | M15: =IF($B14="","",AQ15) | N15: =IF($B14="","",AR15) | U15: =IF(T14="","",PÚ!H15) | Z15: =IF(Y14="","",'PÚ CTIF'!Q15) | AA15: =IF(Y14="","",SUM('PÚ CTIF'!H15:O15)) | AF15: =IF(AE14="","",'4x60'!H15) | AK15: =IF(AJ14="","",'štafeta CTIF'!M15) | AL15: =IF(AJ14="","",SUM('štafeta CTIF'!H15:K15)) | AQ15: =IF(AP14="","",'štafeta dvojic'!T15) | AR15: =IF(AP14="","",SUM('štafeta dvojic'!H15:R15))
A16: =IF(startovka!A16="","",startovka!A16) | B16: =IF(startovka!B16="","",startovka!B16) | C16: =IF($B16="","",U16) | D16: =IF(B16="","",W16) | E16: =IF(B16="","",Z16) | F16: =IF(C16="","",AA16) | G16: =IF($B16="","",IF(ISNUMBER(AC16),AC16,0)) | H16: =IF($B16="","",AF16) | I16: =IF($B16="","",IF(ISNUMBER(AH16),AH16,0)) | J16: =IF($B16="","",AK16) | K16: =IF($B16="","",AL16) | L16: =IF($B16="","",IF(ISNUMBER(AN16),AN16,0)) | M16: =IF($B16="","",AQ16) | N16: =IF($B16="","",AR16) | O16: =IF(B16="","",IF(ISNUMBER(AT16),AT16,0)) | P16: =IF(B16="","",D16*1.001+G16*1.00001+I16*1.0000001+L16*1.000000001+O16) | Q16: =IF(B16="","",RANK(P16,P$4:P$83,1)) | R16: =IF(Q16="","",Q16+A16/1000) | S16: =IF($B16="","",RANK(R16,R$4:R$83,1)) | T16: =IF(PÚ!B16="","",PÚ!B16) | U16: =IF(T16="","",PÚ!H16) | V16: =IF(T16="","",MIN(U16:U17)+MAX(U16:U17)/1000000) | W16: =IF(T16="","",IF(SUM(V16:V95)=0,0,RANK(V16,V$4:V$83,1))) | Y16: =IF('PÚ CTIF'!B16:B17="","",'PÚ CTIF'!B16:B17) | Z16: =IF(Y16="","",'PÚ CTIF'!Q16) | AA16: =IF(Y16="","",SUM('PÚ CTIF'!H16:O16)) | AB16: =IF(Y16="","",MIN(Z16:Z17)+MAX(Z16:Z17)/1000000000+INDEX(AA16:AA17,MATCH(MIN(Z16:Z17),Z16:Z17,0),1)/1000000000000000) | AC16: =IF(Y16="","",RANK(AB16,AB$4:AB$83,1)) | AE16: =IF('4x60'!B16:B17="","",'4x60'!B16:B17) | AF16: =IF(AE16="","",'4x60'!H16) | AG16: =IF(AE16="","",MIN(AF16:AF17)+MAX(AF16:AF17)/1000000) | AH16: =IF(AE16="","",IF(SUM(AG16:AG95)=0,0,RANK(AG16,AG$4:AG$83,1))) | AJ16: =IF('štafeta CTIF'!B16:B17="","",'štafeta CTIF'!B16:B17) | AK16: =IF(AJ16="","",'štafeta CTIF'!M16) | AL16: =IF(AJ16="","",SUM('štafeta CTIF'!H16:K16)) | AM16: =IF(AJ16="","",MIN(AK16:AK17)+MAX(AK16:AK17)/1000000000+INDEX(AL16:AL17,MATCH(MIN(AK16:AK17),AK16:AK17,0),1)/1000000000000000) | AN16: =IF(AJ16="","",RANK(AM16,AM$4:AM$83,1)) | AP16: =IF('štafeta dvojic'!B16:B17="","",'štafeta dvojic'!B16:B17) | AQ16: =IF(AP16="","",'štafeta dvojic'!T16) | AR16: =IF(AP16="","",SUM('štafeta dvojic'!H16:R16)) | AS16: =IF(AP16="","",MIN(AQ16:AQ17)+MAX(AQ16:AQ17)/1000000000+INDEX(AR16:AR17,MATCH(MIN(AQ16:AQ17),AQ16:AQ17,0),1)/1000000000000000) | AT16: =IF(AP16="","",RANK(AS16,AS$4:AS$83,1))
C17: =IF(B16="","",U17) | E17: =IF(B16="","",Z17) | F17: =IF(C16="","",AA17) | H17: =IF($B16="","",AF17) | J17: =IF($B16="","",AK17) | K17: =IF($B16="","",AL17) | M17: =IF($B16="","",AQ17) | N17: =IF($B16="","",AR17) | U17: =IF(T16="","",PÚ!H17) | Z17: =IF(Y16="","",'PÚ CTIF'!Q17) | AA17: =IF(Y16="","",SUM('PÚ CTIF'!H17:O17)) | AF17: =IF(AE16="","",'4x60'!H17) | AK17: =IF(AJ16="","",'štafeta CTIF'!M17) | AL17: =IF(AJ16="","",SUM('štafeta CTIF'!H17:K17)) | AQ17: =IF(AP16="","",'štafeta dvojic'!T17) | AR17: =IF(AP16="","",SUM('štafeta dvojic'!H17:R17))
A18: =IF(startovka!A18="","",startovka!A18) | B18: =IF(startovka!B18="","",startovka!B18) | C18: =IF($B18="","",U18) | D18: =IF(B18="","",W18) | E18: =IF(B18="","",Z18) | F18: =IF(C18="","",AA18) | G18: =IF($B18="","",IF(ISNUMBER(AC18),AC18,0)) | H18: =IF($B18="","",AF18) | I18: =IF($B18="","",IF(ISNUMBER(AH18),AH18,0)) | J18: =IF($B18="","",AK18) | K18: =IF($B18="","",AL18) | L18: =IF($B18="","",IF(ISNUMBER(AN18),AN18,0)) | M18: =IF($B18="","",AQ18) | N18: =IF($B18="","",AR18) | O18: =IF(B18="","",IF(ISNUMBER(AT18),AT18,0)) | P18: =IF(B18="","",D18*1.001+G18*1.00001+I18*1.0000001+L18*1.000000001+O18) | Q18: =IF(B18="","",RANK(P18,P$4:P$83,1)) | R18: =IF(Q18="","",Q18+A18/1000) | S18: =IF($B18="","",RANK(R18,R$4:R$83,1)) | T18: =IF(PÚ!B18="","",PÚ!B18) | U18: =IF(T18="","",PÚ!H18) | V18: =IF(T18="","",MIN(U18:U19)+MAX(U18:U19)/1000000) | W18: =IF(T18="","",IF(SUM(V18:V97)=0,0,RANK(V18,V$4:V$83,1))) | Y18: =IF('PÚ CTIF'!B18:B19="","",'PÚ CTIF'!B18:B19) | Z18: =IF(Y18="","",'PÚ CTIF'!Q18) | AA18: =IF(Y18="","",SUM('PÚ CTIF'!H18:O18)) | AB18: =IF(Y18="","",MIN(Z18:Z19)+MAX(Z18:Z19)/1000000000+INDEX(AA18:AA19,MATCH(MIN(Z18:Z19),Z18:Z19,0),1)/1000000000000000) | AC18: =IF(Y18="","",RANK(AB18,AB$4:AB$83,1)) | AE18: =IF('4x60'!B18:B19="","",'4x60'!B18:B19) | AF18: =IF(AE18="","",'4x60'!H18) | AG18: =IF(AE18="","",MIN(AF18:AF19)+MAX(AF18:AF19)/1000000) | AH18: =IF(AE18="","",IF(SUM(AG18:AG97)=0,0,RANK(AG18,AG$4:AG$83,1))) | AJ18: =IF('štafeta CTIF'!B18:B19="","",'štafeta CTIF'!B18:B19) | AK18: =IF(AJ18="","",'štafeta CTIF'!M18) | AL18: =IF(AJ18="","",SUM('štafeta CTIF'!H18:K18)) | AM18: =IF(AJ18="","",MIN(AK18:AK19)+MAX(AK18:AK19)/1000000000+INDEX(AL18:AL19,MATCH(MIN(AK18:AK19),AK18:AK19,0),1)/1000000000000000) | AN18: =IF(AJ18="","",RANK(AM18,AM$4:AM$83,1)) | AP18: =IF('štafeta dvojic'!B18:B19="","",'štafeta dvojic'!B18:B19) | AQ18: =IF(AP18="","",'štafeta dvojic'!T18) | AR18: =IF(AP18="","",SUM('štafeta dvojic'!H18:R18)) | AS18: =IF(AP18="","",MIN(AQ18:AQ19)+MAX(AQ18:AQ19)/1000000000+INDEX(AR18:AR19,MATCH(MIN(AQ18:AQ19),AQ18:AQ19,0),1)/1000000000000000) | AT18: =IF(AP18="","",RANK(AS18,AS$4:AS$83,1))
C19: =IF(B18="","",U19) | E19: =IF(B18="","",Z19) | F19: =IF(C18="","",AA19) | H19: =IF($B18="","",AF19) | J19: =IF($B18="","",AK19) | K19: =IF($B18="","",AL19) | M19: =IF($B18="","",AQ19) | N19: =IF($B18="","",AR19) | U19: =IF(T18="","",PÚ!H19) | Z19: =IF(Y18="","",'PÚ CTIF'!Q19) | AA19: =IF(Y18="","",SUM('PÚ CTIF'!H19:O19)) | AF19: =IF(AE18="","",'4x60'!H19) | AK19: =IF(AJ18="","",'štafeta CTIF'!M19) | AL19: =IF(AJ18="","",SUM('štafeta CTIF'!H19:K19)) | AQ19: =IF(AP18="","",'štafeta dvojic'!T19) | AR19: =IF(AP18="","",SUM('štafeta dvojic'!H19:R19))
A20: =IF(startovka!A20="","",startovka!A20) | B20: =IF(startovka!B20="","",startovka!B20) | C20: =IF($B20="","",U20) | D20: =IF(B20="","",W20) | E20: =IF(B20="","",Z20) | F20: =IF(C20="","",AA20) | G20: =IF($B20="","",IF(ISNUMBER(AC20),AC20,0)) | H20: =IF($B20="","",AF20) | I20: =IF($B20="","",IF(ISNUMBER(AH20),AH20,0)) | J20: =IF($B20="","",AK20) | K20: =IF($B20="","",AL20) | L20: =IF($B20="","",IF(ISNUMBER(AN20),AN20,0)) | M20: =IF($B20="","",AQ20) | N20: =IF($B20="","",AR20) | O20: =IF(B20="","",IF(ISNUMBER(AT20),AT20,0)) | P20: =IF(B20="","",D20*1.001+G20*1.00001+I20*1.0000001+L20*1.000000001+O20) | Q20: =IF(B20="","",RANK(P20,P$4:P$83,1)) | R20: =IF(Q20="","",Q20+A20/1000) | S20: =IF($B20="","",RANK(R20,R$4:R$83,1)) | T20: =IF(PÚ!B20="","",PÚ!B20) | U20: =IF(T20="","",PÚ!H20) | V20: =IF(T20="","",MIN(U20:U21)+MAX(U20:U21)/1000000) | W20: =IF(T20="","",IF(SUM(V20:V99)=0,0,RANK(V20,V$4:V$83,1))) | Y20: =IF('PÚ CTIF'!B20:B21="","",'PÚ CTIF'!B20:B21) | Z20: =IF(Y20="","",'PÚ CTIF'!Q20) | AA20: =IF(Y20="","",SUM('PÚ CTIF'!H20:O20)) | AB20: =IF(Y20="","",MIN(Z20:Z21)+MAX(Z20:Z21)/1000000000+INDEX(AA20:AA21,MATCH(MIN(Z20:Z21),Z20:Z21,0),1)/1000000000000000) | AC20: =IF(Y20="","",RANK(AB20,AB$4:AB$83,1)) | AE20: =IF('4x60'!B20:B21="","",'4x60'!B20:B21) | AF20: =IF(AE20="","",'4x60'!H20) | AG20: =IF(AE20="","",MIN(AF20:AF21)+MAX(AF20:AF21)/1000000) | AH20: =IF(AE20="","",IF(SUM(AG20:AG99)=0,0,RANK(AG20,AG$4:AG$83,1))) | AJ20: =IF('štafeta CTIF'!B20:B21="","",'štafeta CTIF'!B20:B21) | AK20: =IF(AJ20="","",'štafeta CTIF'!M20) | AL20: =IF(AJ20="","",SUM('štafeta CTIF'!H20:K20)) | AM20: =IF(AJ20="","",MIN(AK20:AK21)+MAX(AK20:AK21)/1000000000+INDEX(AL20:AL21,MATCH(MIN(AK20:AK21),AK20:AK21,0),1)/1000000000000000) | AN20: =IF(AJ20="","",RANK(AM20,AM$4:AM$83,1)) | AP20: =IF('štafeta dvojic'!B20:B21="","",'štafeta dvojic'!B20:B21) | AQ20: =IF(AP20="","",'štafeta dvojic'!T20) | AR20: =IF(AP20="","",SUM('štafeta dvojic'!H20:R20)) | AS20: =IF(AP20="","",MIN(AQ20:AQ21)+MAX(AQ20:AQ21)/1000000000+INDEX(AR20:AR21,MATCH(MIN(AQ20:AQ21),AQ20:AQ21,0),1)/1000000000000000) | AT20: =IF(AP20="","",RANK(AS20,AS$4:AS$83,1))
C21: =IF(B20="","",U21) | E21: =IF(B20="","",Z21) | F21: =IF(C20="","",AA21) | H21: =IF($B20="","",AF21) | J21: =IF($B20="","",AK21) | K21: =IF($B20="","",AL21) | M21: =IF($B20="","",AQ21) | N21: =IF($B20="","",AR21) | U21: =IF(T20="","",PÚ!H21) | Z21: =IF(Y20="","",'PÚ CTIF'!Q21) | AA21: =IF(Y20="","",SUM('PÚ CTIF'!H21:O21)) | AF21: =IF(AE20="","",'4x60'!H21) | AK21: =IF(AJ20="","",'štafeta CTIF'!M21) | AL21: =IF(AJ20="","",SUM('štafeta CTIF'!H21:K21)) | AQ21: =IF(AP20="","",'štafeta dvojic'!T21) | AR21: =IF(AP20="","",SUM('štafeta dvojic'!H21:R21))
A22: =IF(startovka!A22="","",startovka!A22) | B22: =IF(startovka!B22="","",startovka!B22) | C22: =IF($B22="","",U22) | D22: =IF(B22="","",W22) | E22: =IF(B22="","",Z22) | F22: =IF(C22="","",AA22) | G22: =IF($B22="","",IF(ISNUMBER(AC22),AC22,0)) | H22: =IF($B22="","",AF22) | I22: =IF($B22="","",IF(ISNUMBER(AH22),AH22,0)) | J22: =IF($B22="","",AK22) | K22: =IF($B22="","",AL22) | L22: =IF($B22="","",IF(ISNUMBER(AN22),AN22,0)) | M22: =IF($B22="","",AQ22) | N22: =IF($B22="","",AR22) | O22: =IF(B22="","",IF(ISNUMBER(AT22),AT22,0)) | P22: =IF(B22="","",D22*1.001+G22*1.00001+I22*1.0000001+L22*1.000000001+O22) | Q22: =IF(B22="","",RANK(P22,P$4:P$83,1)) | R22: =IF(Q22="","",Q22+A22/1000) | S22: =IF($B22="","",RANK(R22,R$4:R$83,1)) | T22: =IF(PÚ!B22="","",PÚ!B22) | U22: =IF(T22="","",PÚ!H22) | V22: =IF(T22="","",MIN(U22:U23)+MAX(U22:U23)/1000000) | W22: =IF(T22="","",IF(SUM(V22:V101)=0,0,RANK(V22,V$4:V$83,1))) | Y22: =IF('PÚ CTIF'!B22:B23="","",'PÚ CTIF'!B22:B23) | Z22: =IF(Y22="","",'PÚ CTIF'!Q22) | AA22: =IF(Y22="","",SUM('PÚ CTIF'!H22:O22)) | AB22: =IF(Y22="","",MIN(Z22:Z23)+MAX(Z22:Z23)/1000000000+INDEX(AA22:AA23,MATCH(MIN(Z22:Z23),Z22:Z23,0),1)/1000000000000000) | AC22: =IF(Y22="","",RANK(AB22,AB$4:AB$83,1)) | AE22: =IF('4x60'!B22:B23="","",'4x60'!B22:B23) | AF22: =IF(AE22="","",'4x60'!H22) | AG22: =IF(AE22="","",MIN(AF22:AF23)+MAX(AF22:AF23)/1000000) | AH22: =IF(AE22="","",IF(SUM(AG22:AG101)=0,0,RANK(AG22,AG$4:AG$83,1))) | AJ22: =IF('štafeta CTIF'!B22:B23="","",'štafeta CTIF'!B22:B23) | AK22: =IF(AJ22="","",'štafeta CTIF'!M22) | AL22: =IF(AJ22="","",SUM('štafeta CTIF'!H22:K22)) | AM22: =IF(AJ22="","",MIN(AK22:AK23)+MAX(AK22:AK23)/1000000000+INDEX(AL22:AL23,MATCH(MIN(AK22:AK23),AK22:AK23,0),1)/1000000000000000) | AN22: =IF(AJ22="","",RANK(AM22,AM$4:AM$83,1)) | AP22: =IF('štafeta dvojic'!B22:B23="","",'štafeta dvojic'!B22:B23) | AQ22: =IF(AP22="","",'štafeta dvojic'!T22) | AR22: =IF(AP22="","",SUM('štafeta dvojic'!H22:R22)) | AS22: =IF(AP22="","",MIN(AQ22:AQ23)+MAX(AQ22:AQ23)/1000000000+INDEX(AR22:AR23,MATCH(MIN(AQ22:AQ23),AQ22:AQ23,0),1)/1000000000000000) | AT22: =IF(AP22="","",RANK(AS22,AS$4:AS$83,1))
C23: =IF(B22="","",U23) | E23: =IF(B22="","",Z23) | F23: =IF(C22="","",AA23) | H23: =IF($B22="","",AF23) | J23: =IF($B22="","",AK23) | K23: =IF($B22="","",AL23) | M23: =IF($B22="","",AQ23) | N23: =IF($B22="","",AR23) | U23: =IF(T22="","",PÚ!H23) | Z23: =IF(Y22="","",'PÚ CTIF'!Q23) | AA23: =IF(Y22="","",SUM('PÚ CTIF'!H23:O23)) | AF23: =IF(AE22="","",'4x60'!H23) | AK23: =IF(AJ22="","",'štafeta CTIF'!M23) | AL23: =IF(AJ22="","",SUM('štafeta CTIF'!H23:K23)) | AQ23: =IF(AP22="","",'štafeta dvojic'!T23) | AR23: =IF(AP22="","",SUM('štafeta dvojic'!H23:R23))
A24: =IF(startovka!A24="","",startovka!A24) | B24: =IF(startovka!B24="","",startovka!B24) | C24: =IF($B24="","",U24) | D24: =IF(B24="","",W24) | E24: =IF(B24="","",Z24) | F24: =IF(C24="","",AA24) | G24: =IF($B24="","",IF(ISNUMBER(AC24),AC24,0)) | H24: =IF($B24="","",AF24) | I24: =IF($B24="","",IF(ISNUMBER(AH24),AH24,0)) | J24: =IF($B24="","",AK24) | K24: =IF($B24="","",AL24) | L24: =IF($B24="","",IF(ISNUMBER(AN24),AN24,0)) | M24: =IF($B24="","",AQ24) | N24: =IF($B24="","",AR24) | O24: =IF(B24="","",IF(ISNUMBER(AT24),AT24,0)) | P24: =IF(B24="","",D24*1.001+G24*1.00001+I24*1.0000001+L24*1.000000001+O24) | Q24: =IF(B24="","",RANK(P24,P$4:P$83,1)) | R24: =IF(Q24="","",Q24+A24/1000) | S24: =IF($B24="","",RANK(R24,R$4:R$83,1)) | T24: =IF(PÚ!B24="","",PÚ!B24) | U24: =IF(T24="","",PÚ!H24) | V24: =IF(T24="","",MIN(U24:U25)+MAX(U24:U25)/1000000) | W24: =IF(T24="","",IF(SUM(V24:V103)=0,0,RANK(V24,V$4:V$83,1))) | Y24: =IF('PÚ CTIF'!B24:B25="","",'PÚ CTIF'!B24:B25) | Z24: =IF(Y24="","",'PÚ CTIF'!Q24) | AA24: =IF(Y24="","",SUM('PÚ CTIF'!H24:O24)) | AB24: =IF(Y24="","",MIN(Z24:Z25)+MAX(Z24:Z25)/1000000000+INDEX(AA24:AA25,MATCH(MIN(Z24:Z25),Z24:Z25,0),1)/1000000000000000) | AC24: =IF(Y24="","",RANK(AB24,AB$4:AB$83,1)) | AE24: =IF('4x60'!B24:B25="","",'4x60'!B24:B25) | AF24: =IF(AE24="","",'4x60'!H24) | AG24: =IF(AE24="","",MIN(AF24:AF25)+MAX(AF24:AF25)/1000000) | AH24: =IF(AE24="","",IF(SUM(AG24:AG103)=0,0,RANK(AG24,AG$4:AG$83,1))) | AJ24: =IF('štafeta CTIF'!B24:B25="","",'štafeta CTIF'!B24:B25) | AK24: =IF(AJ24="","",'štafeta CTIF'!M24) | AL24: =IF(AJ24="","",SUM('štafeta CTIF'!H24:K24)) | AM24: =IF(AJ24="","",MIN(AK24:AK25)+MAX(AK24:AK25)/1000000000+INDEX(AL24:AL25,MATCH(MIN(AK24:AK25),AK24:AK25,0),1)/1000000000000000) | AN24: =IF(AJ24="","",RANK(AM24,AM$4:AM$83,1)) | AP24: =IF('štafeta dvojic'!B24:B25="","",'štafeta dvojic'!B24:B25) | AQ24: =IF(AP24="","",'štafeta dvojic'!T24) | AR24: =IF(AP24="","",SUM('štafeta dvojic'!H24:R24)) | AS24: =IF(AP24="","",MIN(AQ24:AQ25)+MAX(AQ24:AQ25)/1000000000+INDEX(AR24:AR25,MATCH(MIN(AQ24:AQ25),AQ24:AQ25,0),1)/1000000000000000) | AT24: =IF(AP24="","",RANK(AS24,AS$4:AS$83,1))
C25: =IF(B24="","",U25) | E25: =IF(B24="","",Z25) | F25: =IF(C24="","",AA25) | H25: =IF($B24="","",AF25) | J25: =IF($B24="","",AK25) | K25: =IF($B24="","",AL25) | M25: =IF($B24="","",AQ25) | N25: =IF($B24="","",AR25) | U25: =IF(T24="","",PÚ!H25) | Z25: =IF(Y24="","",'PÚ CTIF'!Q25) | AA25: =IF(Y24="","",SUM('PÚ CTIF'!H25:O25)) | AF25: =IF(AE24="","",'4x60'!H25) | AK25: =IF(AJ24="","",'štafeta CTIF'!M25) | AL25: =IF(AJ24="","",SUM('štafeta CTIF'!H25:K25)) | AQ25: =IF(AP24="","",'štafeta dvojic'!T25) | AR25: =IF(AP24="","",SUM('štafeta dvojic'!H25:R25))
A26: =IF(startovka!A26="","",startovka!A26) | B26: =IF(startovka!B26="","",startovka!B26) | C26: =IF($B26="","",U26) | D26: =IF(B26="","",W26) | E26: =IF(B26="","",Z26) | F26: =IF(C26="","",AA26) | G26: =IF($B26="","",IF(ISNUMBER(AC26),AC26,0)) | H26: =IF($B26="","",AF26) | I26: =IF($B26="","",IF(ISNUMBER(AH26),AH26,0)) | J26: =IF($B26="","",AK26) | K26: =IF($B26="","",AL26) | L26: =IF($B26="","",IF(ISNUMBER(AN26),AN26,0)) | M26: =IF($B26="","",AQ26) | N26: =IF($B26="","",AR26) | O26: =IF(B26="","",IF(ISNUMBER(AT26),AT26,0)) | P26: =IF(B26="","",D26*1.001+G26*1.00001+I26*1.0000001+L26*1.000000001+O26) | Q26: =IF(B26="","",RANK(P26,P$4:P$83,1)) | R26: =IF(Q26="","",Q26+A26/1000) | S26: =IF($B26="","",RANK(R26,R$4:R$83,1)) | T26: =IF(PÚ!B26="","",PÚ!B26) | U26: =IF(T26="","",PÚ!H26) | V26: =IF(T26="","",MIN(U26:U27)+MAX(U26:U27)/1000000) | W26: =IF(T26="","",IF(SUM(V26:V105)=0,0,RANK(V26,V$4:V$83,1))) | Y26: =IF('PÚ CTIF'!B26:B27="","",'PÚ CTIF'!B26:B27) | Z26: =IF(Y26="","",'PÚ CTIF'!Q26) | AA26: =IF(Y26="","",SUM('PÚ CTIF'!H26:O26)) | AB26: =IF(Y26="","",MIN(Z26:Z27)+MAX(Z26:Z27)/1000000000+INDEX(AA26:AA27,MATCH(MIN(Z26:Z27),Z26:Z27,0),1)/1000000000000000) | AC26: =IF(Y26="","",RANK(AB26,AB$4:AB$83,1)) | AE26: =IF('4x60'!B26:B27="","",'4x60'!B26:B27) | AF26: =IF(AE26="","",'4x60'!H26) | AG26: =IF(AE26="","",MIN(AF26:AF27)+MAX(AF26:AF27)/1000000) | AH26: =IF(AE26="","",IF(SUM(AG26:AG105)=0,0,RANK(AG26,AG$4:AG$83,1))) | AJ26: =IF('štafeta CTIF'!B26:B27="","",'štafeta CTIF'!B26:B27) | AK26: =IF(AJ26="","",'štafeta CTIF'!M26) | AL26: =IF(AJ26="","",SUM('štafeta CTIF'!H26:K26)) | AM26: =IF(AJ26="","",MIN(AK26:AK27)+MAX(AK26:AK27)/1000000000+INDEX(AL26:AL27,MATCH(MIN(AK26:AK27),AK26:AK27,0),1)/1000000000000000) | AN26: =IF(AJ26="","",RANK(AM26,AM$4:AM$83,1)) | AP26: =IF('štafeta dvojic'!B26:B27="","",'štafeta dvojic'!B26:B27) | AQ26: =IF(AP26="","",'štafeta dvojic'!T26) | AR26: =IF(AP26="","",SUM('štafeta dvojic'!H26:R26)) | AS26: =IF(AP26="","",MIN(AQ26:AQ27)+MAX(AQ26:AQ27)/1000000000+INDEX(AR26:AR27,MATCH(MIN(AQ26:AQ27),AQ26:AQ27,0),1)/1000000000000000) | AT26: =IF(AP26="","",RANK(AS26,AS$4:AS$83,1))
C27: =IF(B26="","",U27) | E27: =IF(B26="","",Z27) | F27: =IF(C26="","",AA27) | H27: =IF($B26="","",AF27) | J27: =IF($B26="","",AK27) | K27: =IF($B26="","",AL27) | M27: =IF($B26="","",AQ27) | N27: =IF($B26="","",AR27) | U27: =IF(T26="","",PÚ!H27) | Z27: =IF(Y26="","",'PÚ CTIF'!Q27) | AA27: =IF(Y26="","",SUM('PÚ CTIF'!H27:O27)) | AF27: =IF(AE26="","",'4x60'!H27) | AK27: =IF(AJ26="","",'štafeta CTIF'!M27) | AL27: =IF(AJ26="","",SUM('štafeta CTIF'!H27:K27)) | AQ27: =IF(AP26="","",'štafeta dvojic'!T27) | AR27: =IF(AP26="","",SUM('štafeta dvojic'!H27:R27))
A28: =IF(startovka!A28="","",startovka!A28) | B28: =IF(startovka!B28="","",startovka!B28) | C28: =IF($B28="","",U28) | D28: =IF(B28="","",W28) | E28: =IF(B28="","",Z28) | F28: =IF(C28="","",AA28) | G28: =IF($B28="","",IF(ISNUMBER(AC28),AC28,0)) | H28: =IF($B28="","",AF28) | I28: =IF($B28="","",IF(ISNUMBER(AH28),AH28,0)) | J28: =IF($B28="","",AK28) | K28: =IF($B28="","",AL28) | L28: =IF($B28="","",IF(ISNUMBER(AN28),AN28,0)) | M28: =IF($B28="","",AQ28) | N28: =IF($B28="","",AR28) | O28: =IF(B28="","",IF(ISNUMBER(AT28),AT28,0)) | P28: =IF(B28="","",D28*1.001+G28*1.00001+I28*1.0000001+L28*1.000000001+O28) | Q28: =IF(B28="","",RANK(P28,P$4:P$83,1)) | R28: =IF(Q28="","",Q28+A28/1000) | S28: =IF($B28="","",RANK(R28,R$4:R$83,1)) | T28: =IF(PÚ!B28="","",PÚ!B28) | U28: =IF(T28="","",PÚ!H28) | V28: =IF(T28="","",MIN(U28:U29)+MAX(U28:U29)/1000000) | W28: =IF(T28="","",IF(SUM(V28:V107)=0,0,RANK(V28,V$4:V$83,1))) | Y28: =IF('PÚ CTIF'!B28:B29="","",'PÚ CTIF'!B28:B29) | Z28: =IF(Y28="","",'PÚ CTIF'!Q28) | AA28: =IF(Y28="","",SUM('PÚ CTIF'!H28:O28)) | AB28: =IF(Y28="","",MIN(Z28:Z29)+MAX(Z28:Z29)/1000000000+INDEX(AA28:AA29,MATCH(MIN(Z28:Z29),Z28:Z29,0),1)/1000000000000000) | AC28: =IF(Y28="","",RANK(AB28,AB$4:AB$83,1)) | AE28: =IF('4x60'!B28:B29="","",'4x60'!B28:B29) | AF28: =IF(AE28="","",'4x60'!H28) | AG28: =IF(AE28="","",MIN(AF28:AF29)+MAX(AF28:AF29)/1000000) | AH28: =IF(AE28="","",IF(SUM(AG28:AG107)=0,0,RANK(AG28,AG$4:AG$83,1))) | AJ28: =IF('štafeta CTIF'!B28:B29="","",'štafeta CTIF'!B28:B29) | AK28: =IF(AJ28="","",'štafeta CTIF'!M28) | AL28: =IF(AJ28="","",SUM('štafeta CTIF'!H28:K28)) | AM28: =IF(AJ28="","",MIN(AK28:AK29)+MAX(AK28:AK29)/1000000000+INDEX(AL28:AL29,MATCH(MIN(AK28:AK29),AK28:AK29,0),1)/1000000000000000) | AN28: =IF(AJ28="","",RANK(AM28,AM$4:AM$83,1)) | AP28: =IF('štafeta dvojic'!B28:B29="","",'štafeta dvojic'!B28:B29) | AQ28: =IF(AP28="","",'štafeta dvojic'!T28) | AR28: =IF(AP28="","",SUM('štafeta dvojic'!H28:R28)) | AS28: =IF(AP28="","",MIN(AQ28:AQ29)+MAX(AQ28:AQ29)/1000000000+INDEX(AR28:AR29,MATCH(MIN(AQ28:AQ29),AQ28:AQ29,0),1)/1000000000000000) | AT28: =IF(AP28="","",RANK(AS28,AS$4:AS$83,1))
C29: =IF(B28="","",U29) | E29: =IF(B28="","",Z29) | F29: =IF(C28="","",AA29) | H29: =IF($B28="","",AF29) | J29: =IF($B28="","",AK29) | K29: =IF($B28="","",AL29) | M29: =IF($B28="","",AQ29) | N29: =IF($B28="","",AR29) | U29: =IF(T28="","",PÚ!H29) | Z29: =IF(Y28="","",'PÚ CTIF'!Q29) | AA29: =IF(Y28="","",SUM('PÚ CTIF'!H29:O29)) | AF29: =IF(AE28="","",'4x60'!H29) | AK29: =IF(AJ28="","",'štafeta CTIF'!M29) | AL29: =IF(AJ28="","",SUM('štafeta CTIF'!H29:K29)) | AQ29: =IF(AP28="","",'štafeta dvojic'!T29) | AR29: =IF(AP28="","",SUM('štafeta dvojic'!H29:R29))
A30: =IF(startovka!A30="","",startovka!A30) | B30: =IF(startovka!B30="","",startovka!B30) | C30: =IF($B30="","",U30) | D30: =IF(B30="","",W30) | E30: =IF(B30="","",Z30) | F30: =IF(C30="","",AA30) | G30: =IF($B30="","",IF(ISNUMBER(AC30),AC30,0)) | H30: =IF($B30="","",AF30) | I30: =IF($B30="","",IF(ISNUMBER(AH30),AH30,0)) | J30: =IF($B30="","",AK30) | K30: =IF($B30="","",AL30) | L30: =IF($B30="","",IF(ISNUMBER(AN30),AN30,0)) | M30: =IF($B30="","",AQ30) | N30: =IF($B30="","",AR30) | O30: =IF(B30="","",IF(ISNUMBER(AT30),AT30,0)) | P30: =IF(B30="","",D30*1.001+G30*1.00001+I30*1.0000001+L30*1.000000001+O30) | Q30: =IF(B30="","",RANK(P30,P$4:P$83,1)) | R30: =IF(Q30="","",Q30+A30/1000) | S30: =IF($B30="","",RANK(R30,R$4:R$83,1)) | T30: =IF(PÚ!B30="","",PÚ!B30) | U30: =IF(T30="","",PÚ!H30) | V30: =IF(T30="","",MIN(U30:U31)+MAX(U30:U31)/1000000) | W30: =IF(T30="","",IF(SUM(V30:V109)=0,0,RANK(V30,V$4:V$83,1))) | Y30: =IF('PÚ CTIF'!B30:B31="","",'PÚ CTIF'!B30:B31) | Z30: =IF(Y30="","",'PÚ CTIF'!Q30) | AA30: =IF(Y30="","",SUM('PÚ CTIF'!H30:O30)) | AB30: =IF(Y30="","",MIN(Z30:Z31)+MAX(Z30:Z31)/1000000000+INDEX(AA30:AA31,MATCH(MIN(Z30:Z31),Z30:Z31,0),1)/1000000000000000) | AC30: =IF(Y30="","",RANK(AB30,AB$4:AB$83,1)) | AE30: =IF('4x60'!B30:B31="","",'4x60'!B30:B31) | AF30: =IF(AE30="","",'4x60'!H30) | AG30: =IF(AE30="","",MIN(AF30:AF31)+MAX(AF30:AF31)/1000000) | AH30: =IF(AE30="","",IF(SUM(AG30:AG109)=0,0,RANK(AG30,AG$4:AG$83,1))) | AJ30: =IF('štafeta CTIF'!B30:B31="","",'štafeta CTIF'!B30:B31) | AK30: =IF(AJ30="","",'štafeta CTIF'!M30) | AL30: =IF(AJ30="","",SUM('štafeta CTIF'!H30:K30)) | AM30: =IF(AJ30="","",MIN(AK30:AK31)+MAX(AK30:AK31)/1000000000+INDEX(AL30:AL31,MATCH(MIN(AK30:AK31),AK30:AK31,0),1)/1000000000000000) | AN30: =IF(AJ30="","",RANK(AM30,AM$4:AM$83,1)) | AP30: =IF('štafeta dvojic'!B30:B31="","",'štafeta dvojic'!B30:B31) | AQ30: =IF(AP30="","",'štafeta dvojic'!T30) | AR30: =IF(AP30="","",SUM('štafeta dvojic'!H30:R30)) | AS30: =IF(AP30="","",MIN(AQ30:AQ31)+MAX(AQ30:AQ31)/1000000000+INDEX(AR30:AR31,MATCH(MIN(AQ30:AQ31),AQ30:AQ31,0),1)/1000000000000000) | AT30: =IF(AP30="","",RANK(AS30,AS$4:AS$83,1))
C31: =IF(B30="","",U31) | E31: =IF(B30="","",Z31) | F31: =IF(C30="","",AA31) | H31: =IF($B30="","",AF31) | J31: =IF($B30="","",AK31) | K31: =IF($B30="","",AL31) | M31: =IF($B30="","",AQ31) | N31: =IF($B30="","",AR31) | U31: =IF(T30="","",PÚ!H31) | Z31: =IF(Y30="","",'PÚ CTIF'!Q31) | AA31: =IF(Y30="","",SUM('PÚ CTIF'!H31:O31)) | AF31: =IF(AE30="","",'4x60'!H31) | AK31: =IF(AJ30="","",'štafeta CTIF'!M31) | AL31: =IF(AJ30="","",SUM('štafeta CTIF'!H31:K31)) | AQ31: =IF(AP30="","",'štafeta dvojic'!T31) | AR31: =IF(AP30="","",SUM('štafeta dvojic'!H31:R31))
A32: =IF(startovka!A32="","",startovka!A32) | B32: =IF(startovka!B32="","",startovka!B32) | C32: =IF($B32="","",U32) | D32: =IF(B32="","",W32) | E32: =IF(B32="","",Z32) | F32: =IF(C32="","",AA32) | G32: =IF($B32="","",IF(ISNUMBER(AC32),AC32,0)) | H32: =IF($B32="","",AF32) | I32: =IF($B32="","",IF(ISNUMBER(AH32),AH32,0)) | J32: =IF($B32="","",AK32) | K32: =IF($B32="","",AL32) | L32: =IF($B32="","",IF(ISNUMBER(AN32),AN32,0)) | M32: =IF($B32="","",AQ32) | N32: =IF($B32="","",AR32) | O32: =IF(B32="","",IF(ISNUMBER(AT32),AT32,0)) | P32: =IF(B32="","",D32*1.001+G32*1.00001+I32*1.0000001+L32*1.000000001+O32) | Q32: =IF(B32="","",RANK(P32,P$4:P$83,1)) | R32: =IF(Q32="","",Q32+A32/1000) | S32: =IF($B32="","",RANK(R32,R$4:R$83,1)) | T32: =IF(PÚ!B32="","",PÚ!B32) | U32: =IF(T32="","",PÚ!H32) | V32: =IF(T32="","",MIN(U32:U33)+MAX(U32:U33)/1000000) | W32: =IF(T32="","",IF(SUM(V32:V111)=0,0,RANK(V32,V$4:V$83,1))) | Y32: =IF('PÚ CTIF'!B32:B33="","",'PÚ CTIF'!B32:B33) | Z32: =IF(Y32="","",'PÚ CTIF'!Q32) | AA32: =IF(Y32="","",SUM('PÚ CTIF'!H32:O32)) | AB32: =IF(Y32="","",MIN(Z32:Z33)+MAX(Z32:Z33)/1000000000+INDEX(AA32:AA33,MATCH(MIN(Z32:Z33),Z32:Z33,0),1)/1000000000000000) | AC32: =IF(Y32="","",RANK(AB32,AB$4:AB$83,1)) | AE32: =IF('4x60'!B32:B33="","",'4x60'!B32:B33) | AF32: =IF(AE32="","",'4x60'!H32) | AG32: =IF(AE32="","",MIN(AF32:AF33)+MAX(AF32:AF33)/1000000) | AH32: =IF(AE32="","",IF(SUM(AG32:AG111)=0,0,RANK(AG32,AG$4:AG$83,1))) | AJ32: =IF('štafeta CTIF'!B32:B33="","",'štafeta CTIF'!B32:B33) | AK32: =IF(AJ32="","",'štafeta CTIF'!M32) | AL32: =IF(AJ32="","",SUM('štafeta CTIF'!H32:K32)) | AM32: =IF(AJ32="","",MIN(AK32:AK33)+MAX(AK32:AK33)/1000000000+INDEX(AL32:AL33,MATCH(MIN(AK32:AK33),AK32:AK33,0),1)/1000000000000000) | AN32: =IF(AJ32="","",RANK(AM32,AM$4:AM$83,1)) | AP32: =IF('štafeta dvojic'!B32:B33="","",'štafeta dvojic'!B32:B33) | AQ32: =IF(AP32="","",'štafeta dvojic'!T32) | AR32: =IF(AP32="","",SUM('štafeta dvojic'!H32:R32)) | AS32: =IF(AP32="","",MIN(AQ32:AQ33)+MAX(AQ32:AQ33)/1000000000+INDEX(AR32:AR33,MATCH(MIN(AQ32:AQ33),AQ32:AQ33,0),1)/1000000000000000) | AT32: =IF(AP32="","",RANK(AS32,AS$4:AS$83,1))
C33: =IF(B32="","",U33) | E33: =IF(B32="","",Z33) | F33: =IF(C32="","",AA33) | H33: =IF($B32="","",AF33) | J33: =IF($B32="","",AK33) | K33: =IF($B32="","",AL33) | M33: =IF($B32="","",AQ33) | N33: =IF($B32="","",AR33) | U33: =IF(T32="","",PÚ!H33) | Z33: =IF(Y32="","",'PÚ CTIF'!Q33) | AA33: =IF(Y32="","",SUM('PÚ CTIF'!H33:O33)) | AF33: =IF(AE32="","",'4x60'!H33) | AK33: =IF(AJ32="","",'štafeta CTIF'!M33) | AL33: =IF(AJ32="","",SUM('štafeta CTIF'!H33:K33)) | AQ33: =IF(AP32="","",'štafeta dvojic'!T33) | AR33: =IF(AP32="","",SUM('štafeta dvojic'!H33:R33))
A34: =IF(startovka!A34="","",startovka!A34) | B34: =IF(startovka!B34="","",startovka!B34) | C34: =IF($B34="","",U34) | D34: =IF(B34="","",W34) | E34: =IF(B34="","",Z34) | F34: =IF(C34="","",AA34) | G34: =IF($B34="","",IF(ISNUMBER(AC34),AC34,0)) | H34: =IF($B34="","",AF34) | I34: =IF($B34="","",IF(ISNUMBER(AH34),AH34,0)) | J34: =IF($B34="","",AK34) | K34: =IF($B34="","",AL34) | L34: =IF($B34="","",IF(ISNUMBER(AN34),AN34,0)) | M34: =IF($B34="","",AQ34) | N34: =IF($B34="","",AR34) | O34: =IF(B34="","",IF(ISNUMBER(AT34),AT34,0)) | P34: =IF(B34="","",D34*1.001+G34*1.00001+I34*1.0000001+L34*1.000000001+O34) | Q34: =IF(B34="","",RANK(P34,P$4:P$83,1)) | R34: =IF(Q34="","",Q34+A34/1000) | S34: =IF($B34="","",RANK(R34,R$4:R$83,1)) | T34: =IF(PÚ!B34="","",PÚ!B34) | U34: =IF(T34="","",PÚ!H34) | V34: =IF(T34="","",MIN(U34:U35)+MAX(U34:U35)/1000000) | W34: =IF(T34="","",IF(SUM(V34:V113)=0,0,RANK(V34,V$4:V$83,1))) | Y34: =IF('PÚ CTIF'!B34:B35="","",'PÚ CTIF'!B34:B35) | Z34: =IF(Y34="","",'PÚ CTIF'!Q34) | AA34: =IF(Y34="","",SUM('PÚ CTIF'!H34:O34)) | AB34: =IF(Y34="","",MIN(Z34:Z35)+MAX(Z34:Z35)/1000000000+INDEX(AA34:AA35,MATCH(MIN(Z34:Z35),Z34:Z35,0),1)/1000000000000000) | AC34: =IF(Y34="","",RANK(AB34,AB$4:AB$83,1)) | AE34: =IF('4x60'!B34:B35="","",'4x60'!B34:B35) | AF34: =IF(AE34="","",'4x60'!H34) | AG34: =IF(AE34="","",MIN(AF34:AF35)+MAX(AF34:AF35)/1000000) | AH34: =IF(AE34="","",IF(SUM(AG34:AG113)=0,0,RANK(AG34,AG$4:AG$83,1))) | AJ34: =IF('štafeta CTIF'!B34:B35="","",'štafeta CTIF'!B34:B35) | AK34: =IF(AJ34="","",'štafeta CTIF'!M34) | AL34: =IF(AJ34="","",SUM('štafeta CTIF'!H34:K34)) | AM34: =IF(AJ34="","",MIN(AK34:AK35)+MAX(AK34:AK35)/1000000000+INDEX(AL34:AL35,MATCH(MIN(AK34:AK35),AK34:AK35,0),1)/1000000000000000) | AN34: =IF(AJ34="","",RANK(AM34,AM$4:AM$83,1)) | AP34: =IF('štafeta dvojic'!B34:B35="","",'štafeta dvojic'!B34:B35) | AQ34: =IF(AP34="","",'štafeta dvojic'!T34) | AR34: =IF(AP34="","",SUM('štafeta dvojic'!H34:R34)) | AS34: =IF(AP34="","",MIN(AQ34:AQ35)+MAX(AQ34:AQ35)/1000000000+INDEX(AR34:AR35,MATCH(MIN(AQ34:AQ35),AQ34:AQ35,0),1)/1000000000000000) | AT34: =IF(AP34="","",RANK(AS34,AS$4:AS$83,1))
C35: =IF(B34="","",U35) | E35: =IF(B34="","",Z35) | F35: =IF(C34="","",AA35) | H35: =IF($B34="","",AF35) | J35: =IF($B34="","",AK35) | K35: =IF($B34="","",AL35) | M35: =IF($B34="","",AQ35) | N35: =IF($B34="","",AR35) | U35: =IF(T34="","",PÚ!H35) | Z35: =IF(Y34="","",'PÚ CTIF'!Q35) | AA35: =IF(Y34="","",SUM('PÚ CTIF'!H35:O35)) | AF35: =IF(AE34="","",'4x60'!H35) | AK35: =IF(AJ34="","",'štafeta CTIF'!M35) | AL35: =IF(AJ34="","",SUM('štafeta CTIF'!H35:K35)) | AQ35: =IF(AP34="","",'štafeta dvojic'!T35) | AR35: =IF(AP34="","",SUM('štafeta dvojic'!H35:R35))
A36: =IF(startovka!A36="","",startovka!A36) | B36: =IF(startovka!B36="","",startovka!B36) | C36: =IF($B36="","",U36) | D36: =IF(B36="","",W36) | E36: =IF(B36="","",Z36) | F36: =IF(C36="","",AA36) | G36: =IF($B36="","",IF(ISNUMBER(AC36),AC36,0)) | H36: =IF($B36="","",AF36) | I36: =IF($B36="","",IF(ISNUMBER(AH36),AH36,0)) | J36: =IF($B36="","",AK36) | K36: =IF($B36="","",AL36) | L36: =IF($B36="","",IF(ISNUMBER(AN36),AN36,0)) | M36: =IF($B36="","",AQ36) | N36: =IF($B36="","",AR36) | O36: =IF(B36="","",IF(ISNUMBER(AT36),AT36,0)) | P36: =IF(B36="","",D36*1.001+G36*1.00001+I36*1.0000001+L36*1.000000001+O36) | Q36: =IF(B36="","",RANK(P36,P$4:P$83,1)) | R36: =IF(Q36="","",Q36+A36/1000) | S36: =IF($B36="","",RANK(R36,R$4:R$83,1)) | T36: =IF(PÚ!B36="","",PÚ!B36) | U36: =IF(T36="","",PÚ!H36) | V36: =IF(T36="","",MIN(U36:U37)+MAX(U36:U37)/1000000) | W36: =IF(T36="","",IF(SUM(V36:V115)=0,0,RANK(V36,V$4:V$83,1))) | Y36: =IF('PÚ CTIF'!B36:B37="","",'PÚ CTIF'!B36:B37) | Z36: =IF(Y36="","",'PÚ CTIF'!Q36) | AA36: =IF(Y36="","",SUM('PÚ CTIF'!H36:O36)) | AB36: =IF(Y36="","",MIN(Z36:Z37)+MAX(Z36:Z37)/1000000000+INDEX(AA36:AA37,MATCH(MIN(Z36:Z37),Z36:Z37,0),1)/1000000000000000) | AC36: =IF(Y36="","",RANK(AB36,AB$4:AB$83,1)) | AE36: =IF('4x60'!B36:B37="","",'4x60'!B36:B37) | AF36: =IF(AE36="","",'4x60'!H36) | AG36: =IF(AE36="","",MIN(AF36:AF37)+MAX(AF36:AF37)/1000000) | AH36: =IF(AE36="","",IF(SUM(AG36:AG115)=0,0,RANK(AG36,AG$4:AG$83,1))) | AJ36: =IF('štafeta CTIF'!B36:B37="","",'štafeta CTIF'!B36:B37) | AK36: =IF(AJ36="","",'štafeta CTIF'!M36) | AL36: =IF(AJ36="","",SUM('štafeta CTIF'!H36:K36)) | AM36: =IF(AJ36="","",MIN(AK36:AK37)+MAX(AK36:AK37)/1000000000+INDEX(AL36:AL37,MATCH(MIN(AK36:AK37),AK36:AK37,0),1)/1000000000000000) | AN36: =IF(AJ36="","",RANK(AM36,AM$4:AM$83,1)) | AP36: =IF('štafeta dvojic'!B36:B37="","",'štafeta dvojic'!B36:B37) | AQ36: =IF(AP36="","",'štafeta dvojic'!T36) | AR36: =IF(AP36="","",SUM('štafeta dvojic'!H36:R36)) | AS36: =IF(AP36="","",MIN(AQ36:AQ37)+MAX(AQ36:AQ37)/1000000000+INDEX(AR36:AR37,MATCH(MIN(AQ36:AQ37),AQ36:AQ37,0),1)/1000000000000000) | AT36: =IF(AP36="","",RANK(AS36,AS$4:AS$83,1))
C37: =IF(B36="","",U37) | E37: =IF(B36="","",Z37) | F37: =IF(C36="","",AA37) | H37: =IF($B36="","",AF37) | J37: =IF($B36="","",AK37) | K37: =IF($B36="","",AL37) | M37: =IF($B36="","",AQ37) | N37: =IF($B36="","",AR37) | U37: =IF(T36="","",PÚ!H37) | Z37: =IF(Y36="","",'PÚ CTIF'!Q37) | AA37: =IF(Y36="","",SUM('PÚ CTIF'!H37:O37)) | AF37: =IF(AE36="","",'4x60'!H37) | AK37: =IF(AJ36="","",'štafeta CTIF'!M37) | AL37: =IF(AJ36="","",SUM('štafeta CTIF'!H37:K37)) | AQ37: =IF(AP36="","",'štafeta dvojic'!T37) | AR37: =IF(AP36="","",SUM('štafeta dvojic'!H37:R37))
A38: =IF(startovka!A38="","",startovka!A38) | B38: =IF(startovka!B38="","",startovka!B38) | C38: =IF($B38="","",U38) | D38: =IF(B38="","",W38) | E38: =IF(B38="","",Z38) | F38: =IF(C38="","",AA38) | G38: =IF($B38="","",IF(ISNUMBER(AC38),AC38,0)) | H38: =IF($B38="","",AF38) | I38: =IF($B38="","",IF(ISNUMBER(AH38),AH38,0)) | J38: =IF($B38="","",AK38) | K38: =IF($B38="","",AL38) | L38: =IF($B38="","",IF(ISNUMBER(AN38),AN38,0)) | M38: =IF($B38="","",AQ38) | N38: =IF($B38="","",AR38) | O38: =IF(B38="","",IF(ISNUMBER(AT38),AT38,0)) | P38: =IF(B38="","",D38*1.001+G38*1.00001+I38*1.0000001+L38*1.000000001+O38) | Q38: =IF(B38="","",RANK(P38,P$4:P$83,1)) | R38: =IF(Q38="","",Q38+A38/1000) | S38: =IF($B38="","",RANK(R38,R$4:R$83,1)) | T38: =IF(PÚ!B38="","",PÚ!B38) | U38: =IF(T38="","",PÚ!H38) | V38: =IF(T38="","",MIN(U38:U39)+MAX(U38:U39)/1000000) | W38: =IF(T38="","",IF(SUM(V38:V117)=0,0,RANK(V38,V$4:V$83,1))) | Y38: =IF('PÚ CTIF'!B38:B39="","",'PÚ CTIF'!B38:B39) | Z38: =IF(Y38="","",'PÚ CTIF'!Q38) | AA38: =IF(Y38="","",SUM('PÚ CTIF'!H38:O38)) | AB38: =IF(Y38="","",MIN(Z38:Z39)+MAX(Z38:Z39)/1000000000+INDEX(AA38:AA39,MATCH(MIN(Z38:Z39),Z38:Z39,0),1)/1000000000000000) | AC38: =IF(Y38="","",RANK(AB38,AB$4:AB$83,1)) | AE38: =IF('4x60'!B38:B39="","",'4x60'!B38:B39) | AF38: =IF(AE38="","",'4x60'!H38) | AG38: =IF(AE38="","",MIN(AF38:AF39)+MAX(AF38:AF39)/1000000) | AH38: =IF(AE38="","",IF(SUM(AG38:AG117)=0,0,RANK(AG38,AG$4:AG$83,1))) | AJ38: =IF('štafeta CTIF'!B38:B39="","",'štafeta CTIF'!B38:B39) | AK38: =IF(AJ38="","",'štafeta CTIF'!M38) | AL38: =IF(AJ38="","",SUM('štafeta CTIF'!H38:K38)) | AM38: =IF(AJ38="","",MIN(AK38:AK39)+MAX(AK38:AK39)/1000000000+INDEX(AL38:AL39,MATCH(MIN(AK38:AK39),AK38:AK39,0),1)/1000000000000000) | AN38: =IF(AJ38="","",RANK(AM38,AM$4:AM$83,1)) | AP38: =IF('štafeta dvojic'!B38:B39="","",'štafeta dvojic'!B38:B39) | AQ38: =IF(AP38="","",'štafeta dvojic'!T38) | AR38: =IF(AP38="","",SUM('štafeta dvojic'!H38:R38)) | AS38: =IF(AP38="","",MIN(AQ38:AQ39)+MAX(AQ38:AQ39)/1000000000+INDEX(AR38:AR39,MATCH(MIN(AQ38:AQ39),AQ38:AQ39,0),1)/1000000000000000) | AT38: =IF(AP38="","",RANK(AS38,AS$4:AS$83,1))
C39: =IF(B38="","",U39) | E39: =IF(B38="","",Z39) | F39: =IF(C38="","",AA39) | H39: =IF($B38="","",AF39) | J39: =IF($B38="","",AK39) | K39: =IF($B38="","",AL39) | M39: =IF($B38="","",AQ39) | N39: =IF($B38="","",AR39) | U39: =IF(T38="","",PÚ!H39) | Z39: =IF(Y38="","",'PÚ CTIF'!Q39) | AA39: =IF(Y38="","",SUM('PÚ CTIF'!H39:O39)) | AF39: =IF(AE38="","",'4x60'!H39) | AK39: =IF(AJ38="","",'štafeta CTIF'!M39) | AL39: =IF(AJ38="","",SUM('štafeta CTIF'!H39:K39)) | AQ39: =IF(AP38="","",'štafeta dvojic'!T39) | AR39: =IF(AP38="","",SUM('štafeta dvojic'!H39:R39))
A40: =IF(startovka!A40="","",startovka!A40) | B40: =IF(startovka!B40="","",startovka!B40) | C40: =IF($B40="","",U40) | D40: =IF(B40="","",W40) | E40: =IF(B40="","",Z40) | F40: =IF(C40="","",AA40) | G40: =IF($B40="","",IF(ISNUMBER(AC40),AC40,0)) | H40: =IF($B40="","",AF40) | I40: =IF($B40="","",IF(ISNUMBER(AH40),AH40,0)) | J40: =IF($B40="","",AK40) | K40: =IF($B40="","",AL40) | L40: =IF($B40="","",IF(ISNUMBER(AN40),AN40,0)) | M40: =IF($B40="","",AQ40) | N40: =IF($B40="","",AR40) | O40: =IF(B40="","",IF(ISNUMBER(AT40),AT40,0)) | P40: =IF(B40="","",D40*1.001+G40*1.00001+I40*1.0000001+L40*1.000000001+O40) | Q40: =IF(B40="","",RANK(P40,P$4:P$83,1)) | R40: =IF(Q40="","",Q40+A40/1000) | S40: =IF($B40="","",RANK(R40,R$4:R$83,1)) | T40: =IF(PÚ!B40="","",PÚ!B40) | U40: =IF(T40="","",PÚ!H40) | V40: =IF(T40="","",MIN(U40:U41)+MAX(U40:U41)/1000000) | W40: =IF(T40="","",IF(SUM(V40:V119)=0,0,RANK(V40,V$4:V$83,1))) | Y40: =IF('PÚ CTIF'!B40:B41="","",'PÚ CTIF'!B40:B41) | Z40: =IF(Y40="","",'PÚ CTIF'!Q40) | AA40: =IF(Y40="","",SUM('PÚ CTIF'!H40:O40)) | AB40: =IF(Y40="","",MIN(Z40:Z41)+MAX(Z40:Z41)/1000000000+INDEX(AA40:AA41,MATCH(MIN(Z40:Z41),Z40:Z41,0),1)/1000000000000000) | AC40: =IF(Y40="","",RANK(AB40,AB$4:AB$83,1)) | AE40: =IF('4x60'!B40:B41="","",'4x60'!B40:B41) | AF40: =IF(AE40="","",'4x60'!H40) | AG40: =IF(AE40="","",MIN(AF40:AF41)+MAX(AF40:AF41)/1000000) | AH40: =IF(AE40="","",IF(SUM(AG40:AG119)=0,0,RANK(AG40,AG$4:AG$83,1))) | AJ40: =IF('štafeta CTIF'!B40:B41="","",'štafeta CTIF'!B40:B41) | AK40: =IF(AJ40="","",'štafeta CTIF'!M40) | AL40: =IF(AJ40="","",SUM('štafeta CTIF'!H40:K40)) | AM40: =IF(AJ40="","",MIN(AK40:AK41)+MAX(AK40:AK41)/1000000000+INDEX(AL40:AL41,MATCH(MIN(AK40:AK41),AK40:AK41,0),1)/1000000000000000) | AN40: =IF(AJ40="","",RANK(AM40,AM$4:AM$83,1)) | AP40: =IF('štafeta dvojic'!B40:B41="","",'štafeta dvojic'!B40:B41) | AQ40: =IF(AP40="","",'štafeta dvojic'!T40) | AR40: =IF(AP40="","",SUM('štafeta dvojic'!H40:R40)) | AS40: =IF(AP40="","",MIN(AQ40:AQ41)+MAX(AQ40:AQ41)/1000000000+INDEX(AR40:AR41,MATCH(MIN(AQ40:AQ41),AQ40:AQ41,0),1)/1000000000000000) | AT40: =IF(AP40="","",RANK(AS40,AS$4:AS$83,1))
C41: =IF(B40="","",U41) | E41: =IF(B40="","",Z41) | F41: =IF(C40="","",AA41) | H41: =IF($B40="","",AF41) | J41: =IF($B40="","",AK41) | K41: =IF($B40="","",AL41) | M41: =IF($B40="","",AQ41) | N41: =IF($B40="","",AR41) | U41: =IF(T40="","",PÚ!H41) | Z41: =IF(Y40="","",'PÚ CTIF'!Q41) | AA41: =IF(Y40="","",SUM('PÚ CTIF'!H41:O41)) | AF41: =IF(AE40="","",'4x60'!H41) | AK41: =IF(AJ40="","",'štafeta CTIF'!M41) | AL41: =IF(AJ40="","",SUM('štafeta CTIF'!H41:K41)) | AQ41: =IF(AP40="","",'štafeta dvojic'!T41) | AR41: =IF(AP40="","",SUM('štafeta dvojic'!H41:R41))
A42: =IF(startovka!A42="","",startovka!A42) | B42: =IF(startovka!B42="","",startovka!B42) | C42: =IF($B42="","",U42) | D42: =IF(B42="","",W42) | E42: =IF(B42="","",Z42) | F42: =IF(C42="","",AA42) | G42: =IF($B42="","",IF(ISNUMBER(AC42),AC42,0)) | H42: =IF($B42="","",AF42) | I42: =IF($B42="","",IF(ISNUMBER(AH42),AH42,0)) | J42: =IF($B42="","",AK42) | K42: =IF($B42="","",AL42) | L42: =IF($B42="","",IF(ISNUMBER(AN42),AN42,0)) | M42: =IF($B42="","",AQ42) | N42: =IF($B42="","",AR42) | O42: =IF(B42="","",IF(ISNUMBER(AT42),AT42,0)) | P42: =IF(B42="","",D42*1.001+G42*1.00001+I42*1.0000001+L42*1.000000001+O42) | Q42: =IF(B42="","",RANK(P42,P$4:P$83,1)) | R42: =IF(Q42="","",Q42+A42/1000) | S42: =IF($B42="","",RANK(R42,R$4:R$83,1)) | T42: =IF(PÚ!B42="","",PÚ!B42) | U42: =IF(T42="","",PÚ!H42) | V42: =IF(T42="","",MIN(U42:U43)+MAX(U42:U43)/1000000) | W42: =IF(T42="","",IF(SUM(V42:V121)=0,0,RANK(V42,V$4:V$83,1))) | Y42: =IF('PÚ CTIF'!B42:B43="","",'PÚ CTIF'!B42:B43) | Z42: =IF(Y42="","",'PÚ CTIF'!Q42) | AA42: =IF(Y42="","",SUM('PÚ CTIF'!H42:O42)) | AB42: =IF(Y42="","",MIN(Z42:Z43)+MAX(Z42:Z43)/1000000000+INDEX(AA42:AA43,MATCH(MIN(Z42:Z43),Z42:Z43,0),1)/1000000000000000) | AC42: =IF(Y42="","",RANK(AB42,AB$4:AB$83,1)) | AE42: =IF('4x60'!B42:B43="","",'4x60'!B42:B43) | AF42: =IF(AE42="","",'4x60'!H42) | AG42: =IF(AE42="","",MIN(AF42:AF43)+MAX(AF42:AF43)/1000000) | AH42: =IF(AE42="","",IF(SUM(AG42:AG121)=0,0,RANK(AG42,AG$4:AG$83,1))) | AJ42: =IF('štafeta CTIF'!B42:B43="","",'štafeta CTIF'!B42:B43) | AK42: =IF(AJ42="","",'štafeta CTIF'!M42) | AL42: =IF(AJ42="","",SUM('štafeta CTIF'!H42:K42)) | AM42: =IF(AJ42="","",MIN(AK42:AK43)+MAX(AK42:AK43)/1000000000+INDEX(AL42:AL43,MATCH(MIN(AK42:AK43),AK42:AK43,0),1)/1000000000000000) | AN42: =IF(AJ42="","",RANK(AM42,AM$4:AM$83,1)) | AP42: =IF('štafeta dvojic'!B42:B43="","",'štafeta dvojic'!B42:B43) | AQ42: =IF(AP42="","",'štafeta dvojic'!T42) | AR42: =IF(AP42="","",SUM('štafeta dvojic'!H42:R42)) | AS42: =IF(AP42="","",MIN(AQ42:AQ43)+MAX(AQ42:AQ43)/1000000000+INDEX(AR42:AR43,MATCH(MIN(AQ42:AQ43),AQ42:AQ43,0),1)/1000000000000000) | AT42: =IF(AP42="","",RANK(AS42,AS$4:AS$83,1))
C43: =IF(B42="","",U43) | E43: =IF(B42="","",Z43) | F43: =IF(C42="","",AA43) | H43: =IF($B42="","",AF43) | J43: =IF($B42="","",AK43) | K43: =IF($B42="","",AL43) | M43: =IF($B42="","",AQ43) | N43: =IF($B42="","",AR43) | U43: =IF(T42="","",PÚ!H43) | Z43: =IF(Y42="","",'PÚ CTIF'!Q43) | AA43: =IF(Y42="","",SUM('PÚ CTIF'!H43:O43)) | AF43: =IF(AE42="","",'4x60'!H43) | AK43: =IF(AJ42="","",'štafeta CTIF'!M43) | AL43: =IF(AJ42="","",SUM('štafeta CTIF'!H43:K43)) | AQ43: =IF(AP42="","",'štafeta dvojic'!T43) | AR43: =IF(AP42="","",SUM('štafeta dvojic'!H43:R43))
A44: =IF(startovka!A44="","",startovka!A44) | B44: =IF(startovka!B44="","",startovka!B44) | C44: =IF($B44="","",U44) | D44: =IF(B44="","",W44) | E44: =IF(B44="","",Z44) | F44: =IF(C44="","",AA44) | G44: =IF($B44="","",IF(ISNUMBER(AC44),AC44,0)) | H44: =IF($B44="","",AF44) | I44: =IF($B44="","",IF(ISNUMBER(AH44),AH44,0)) | J44: =IF($B44="","",AK44) | K44: =IF($B44="","",AL44) | L44: =IF($B44="","",IF(ISNUMBER(AN44),AN44,0)) | M44: =IF($B44="","",AQ44) | N44: =IF($B44="","",AR44) | O44: =IF(B44="","",IF(ISNUMBER(AT44),AT44,0)) | P44: =IF(B44="","",D44*1.001+G44*1.00001+I44*1.0000001+L44*1.000000001+O44) | Q44: =IF(B44="","",RANK(P44,P$4:P$83,1)) | R44: =IF(Q44="","",Q44+A44/1000) | S44: =IF($B44="","",RANK(R44,R$4:R$83,1)) | T44: =IF(PÚ!B44="","",PÚ!B44) | U44: =IF(T44="","",PÚ!H44) | V44: =IF(T44="","",MIN(U44:U45)+MAX(U44:U45)/1000000) | W44: =IF(T44="","",IF(SUM(V44:V123)=0,0,RANK(V44,V$4:V$83,1))) | Y44: =IF('PÚ CTIF'!B44:B45="","",'PÚ CTIF'!B44:B45) | Z44: =IF(Y44="","",'PÚ CTIF'!Q44) | AA44: =IF(Y44="","",SUM('PÚ CTIF'!H44:O44)) | AB44: =IF(Y44="","",MIN(Z44:Z45)+MAX(Z44:Z45)/1000000000+INDEX(AA44:AA45,MATCH(MIN(Z44:Z45),Z44:Z45,0),1)/1000000000000000) | AC44: =IF(Y44="","",RANK(AB44,AB$4:AB$83,1)) | AE44: =IF('4x60'!B44:B45="","",'4x60'!B44:B45) | AF44: =IF(AE44="","",'4x60'!H44) | AG44: =IF(AE44="","",MIN(AF44:AF45)+MAX(AF44:AF45)/1000000) | AH44: =IF(AE44="","",IF(SUM(AG44:AG123)=0,0,RANK(AG44,AG$4:AG$83,1))) | AJ44: =IF('štafeta CTIF'!B44:B45="","",'štafeta CTIF'!B44:B45) | AK44: =IF(AJ44="","",'štafeta CTIF'!M44) | AL44: =IF(AJ44="","",SUM('štafeta CTIF'!H44:K44)) | AM44: =IF(AJ44="","",MIN(AK44:AK45)+MAX(AK44:AK45)/1000000000+INDEX(AL44:AL45,MATCH(MIN(AK44:AK45),AK44:AK45,0),1)/1000000000000000) | AN44: =IF(AJ44="","",RANK(AM44,AM$4:AM$83,1)) | AP44: =IF('štafeta dvojic'!B44:B45="","",'štafeta dvojic'!B44:B45) | AQ44: =IF(AP44="","",'štafeta dvojic'!T44) | AR44: =IF(AP44="","",SUM('štafeta dvojic'!H44:R44)) | AS44: =IF(AP44="","",MIN(AQ44:AQ45)+MAX(AQ44:AQ45)/1000000000+INDEX(AR44:AR45,MATCH(MIN(AQ44:AQ45),AQ44:AQ45,0),1)/1000000000000000) | AT44: =IF(AP44="","",RANK(AS44,AS$4:AS$83,1))
C45: =IF(B44="","",U45) | E45: =IF(B44="","",Z45) | F45: =IF(C44="","",AA45) | H45: =IF($B44="","",AF45) | J45: =IF($B44="","",AK45) | K45: =IF($B44="","",AL45) | M45: =IF($B44="","",AQ45) | N45: =IF($B44="","",AR45) | U45: =IF(T44="","",PÚ!H45) | Z45: =IF(Y44="","",'PÚ CTIF'!Q45) | AA45: =IF(Y44="","",SUM('PÚ CTIF'!H45:O45)) | AF45: =IF(AE44="","",'4x60'!H45) | AK45: =IF(AJ44="","",'štafeta CTIF'!M45) | AL45: =IF(AJ44="","",SUM('štafeta CTIF'!H45:K45)) | AQ45: =IF(AP44="","",'štafeta dvojic'!T45) | AR45: =IF(AP44="","",SUM('štafeta dvojic'!H45:R45))
A46: =IF(startovka!A46="","",startovka!A46) | B46: =IF(startovka!B46="","",startovka!B46) | C46: =IF($B46="","",U46) | D46: =IF(B46="","",W46) | E46: =IF(B46="","",Z46) | F46: =IF(C46="","",AA46) | G46: =IF($B46="","",IF(ISNUMBER(AC46),AC46,0)) | H46: =IF($B46="","",AF46) | I46: =IF($B46="","",IF(ISNUMBER(AH46),AH46,0)) | J46: =IF($B46="","",AK46) | K46: =IF($B46="","",AL46) | L46: =IF($B46="","",IF(ISNUMBER(AN46),AN46,0)) | M46: =IF($B46="","",AQ46) | N46: =IF($B46="","",AR46) | O46: =IF(B46="","",IF(ISNUMBER(AT46),AT46,0)) | P46: =IF(B46="","",D46*1.001+G46*1.00001+I46*1.0000001+L46*1.000000001+O46) | Q46: =IF(B46="","",RANK(P46,P$4:P$83,1)) | R46: =IF(Q46="","",Q46+A46/1000) | S46: =IF($B46="","",RANK(R46,R$4:R$83,1)) | T46: =IF(PÚ!B46="","",PÚ!B46) | U46: =IF(T46="","",PÚ!H46) | V46: =IF(T46="","",MIN(U46:U47)+MAX(U46:U47)/1000000) | W46: =IF(T46="","",IF(SUM(V46:V125)=0,0,RANK(V46,V$4:V$83,1))) | Y46: =IF('PÚ CTIF'!B46:B47="","",'PÚ CTIF'!B46:B47) | Z46: =IF(Y46="","",'PÚ CTIF'!Q46) | AA46: =IF(Y46="","",SUM('PÚ CTIF'!H46:O46)) | AB46: =IF(Y46="","",MIN(Z46:Z47)+MAX(Z46:Z47)/1000000000+INDEX(AA46:AA47,MATCH(MIN(Z46:Z47),Z46:Z47,0),1)/1000000000000000) | AC46: =IF(Y46="","",RANK(AB46,AB$4:AB$83,1)) | AE46: =IF('4x60'!B46:B47="","",'4x60'!B46:B47) | AF46: =IF(AE46="","",'4x60'!H46) | AG46: =IF(AE46="","",MIN(AF46:AF47)+MAX(AF46:AF47)/1000000) | AH46: =IF(AE46="","",IF(SUM(AG46:AG125)=0,0,RANK(AG46,AG$4:AG$83,1))) | AJ46: =IF('štafeta CTIF'!B46:B47="","",'štafeta CTIF'!B46:B47) | AK46: =IF(AJ46="","",'štafeta CTIF'!M46) | AL46: =IF(AJ46="","",SUM('štafeta CTIF'!H46:K46)) | AM46: =IF(AJ46="","",MIN(AK46:AK47)+MAX(AK46:AK47)/1000000000+INDEX(AL46:AL47,MATCH(MIN(AK46:AK47),AK46:AK47,0),1)/1000000000000000) | AN46: =IF(AJ46="","",RANK(AM46,AM$4:AM$83,1)) | AP46: =IF('štafeta dvojic'!B46:B47="","",'štafeta dvojic'!B46:B47) | AQ46: =IF(AP46="","",'štafeta dvojic'!T46) | AR46: =IF(AP46="","",SUM('štafeta dvojic'!H46:R46)) | AS46: =IF(AP46="","",MIN(AQ46:AQ47)+MAX(AQ46:AQ47)/1000000000+INDEX(AR46:AR47,MATCH(MIN(AQ46:AQ47),AQ46:AQ47,0),1)/1000000000000000) | AT46: =IF(AP46="","",RANK(AS46,AS$4:AS$83,1))
C47: =IF(B46="","",U47) | E47: =IF(B46="","",Z47) | F47: =IF(C46="","",AA47) | H47: =IF($B46="","",AF47) | J47: =IF($B46="","",AK47) | K47: =IF($B46="","",AL47) | M47: =IF($B46="","",AQ47) | N47: =IF($B46="","",AR47) | U47: =IF(T46="","",PÚ!H47) | Z47: =IF(Y46="","",'PÚ CTIF'!Q47) | AA47: =IF(Y46="","",SUM('PÚ CTIF'!H47:O47)) | AF47: =IF(AE46="","",'4x60'!H47) | AK47: =IF(AJ46="","",'štafeta CTIF'!M47) | AL47: =IF(AJ46="","",SUM('štafeta CTIF'!H47:K47)) | AQ47: =IF(AP46="","",'štafeta dvojic'!T47) | AR47: =IF(AP46="","",SUM('štafeta dvojic'!H47:R47))
A48: =IF(startovka!A48="","",startovka!A48) | B48: =IF(startovka!B48="","",startovka!B48) | C48: =IF($B48="","",U48) | D48: =IF(B48="","",W48) | E48: =IF(B48="","",Z48) | F48: =IF(C48="","",AA48) | G48: =IF($B48="","",IF(ISNUMBER(AC48),AC48,0)) | H48: =IF($B48="","",AF48) | I48: =IF($B48="","",IF(ISNUMBER(AH48),AH48,0)) | J48: =IF($B48="","",AK48) | K48: =IF($B48="","",AL48) | L48: =IF($B48="","",IF(ISNUMBER(AN48),AN48,0)) | M48: =IF($B48="","",AQ48) | N48: =IF($B48="","",AR48) | O48: =IF(B48="","",IF(ISNUMBER(AT48),AT48,0)) | P48: =IF(B48="","",D48*1.001+G48*1.00001+I48*1.0000001+L48*1.000000001+O48) | Q48: =IF(B48="","",RANK(P48,P$4:P$83,1)) | R48: =IF(Q48="","",Q48+A48/1000) | S48: =IF($B48="","",RANK(R48,R$4:R$83,1)) | T48: =IF(PÚ!B48="","",PÚ!B48) | U48: =IF(T48="","",PÚ!H48) | V48: =IF(T48="","",MIN(U48:U49)+MAX(U48:U49)/1000000) | W48: =IF(T48="","",IF(SUM(V48:V127)=0,0,RANK(V48,V$4:V$83,1))) | Y48: =IF('PÚ CTIF'!B48:B49="","",'PÚ CTIF'!B48:B49) | Z48: =IF(Y48="","",'PÚ CTIF'!Q48) | AA48: =IF(Y48="","",SUM('PÚ CTIF'!H48:O48)) | AB48: =IF(Y48="","",MIN(Z48:Z49)+MAX(Z48:Z49)/1000000000+INDEX(AA48:AA49,MATCH(MIN(Z48:Z49),Z48:Z49,0),1)/1000000000000000) | AC48: =IF(Y48="","",RANK(AB48,AB$4:AB$83,1)) | AE48: =IF('4x60'!B48:B49="","",'4x60'!B48:B49) | AF48: =IF(AE48="","",'4x60'!H48) | AG48: =IF(AE48="","",MIN(AF48:AF49)+MAX(AF48:AF49)/1000000) | AH48: =IF(AE48="","",IF(SUM(AG48:AG127)=0,0,RANK(AG48,AG$4:AG$83,1))) | AJ48: =IF('štafeta CTIF'!B48:B49="","",'štafeta CTIF'!B48:B49) | AK48: =IF(AJ48="","",'štafeta CTIF'!M48) | AL48: =IF(AJ48="","",SUM('štafeta CTIF'!H48:K48)) | AM48: =IF(AJ48="","",MIN(AK48:AK49)+MAX(AK48:AK49)/1000000000+INDEX(AL48:AL49,MATCH(MIN(AK48:AK49),AK48:AK49,0),1)/1000000000000000) | AN48: =IF(AJ48="","",RANK(AM48,AM$4:AM$83,1)) | AP48: =IF('štafeta dvojic'!B48:B49="","",'štafeta dvojic'!B48:B49) | AQ48: =IF(AP48="","",'štafeta dvojic'!T48) | AR48: =IF(AP48="","",SUM('štafeta dvojic'!H48:R48)) | AS48: =IF(AP48="","",MIN(AQ48:AQ49)+MAX(AQ48:AQ49)/1000000000+INDEX(AR48:AR49,MATCH(MIN(AQ48:AQ49),AQ48:AQ49,0),1)/1000000000000000) | AT48: =IF(AP48="","",RANK(AS48,AS$4:AS$83,1))
C49: =IF(B48="","",U49) | E49: =IF(B48="","",Z49) | F49: =IF(C48="","",AA49) | H49: =IF($B48="","",AF49) | J49: =IF($B48="","",AK49) | K49: =IF($B48="","",AL49) | M49: =IF($B48="","",AQ49) | N49: =IF($B48="","",AR49) | U49: =IF(T48="","",PÚ!H49) | Z49: =IF(Y48="","",'PÚ CTIF'!Q49) | AA49: =IF(Y48="","",SUM('PÚ CTIF'!H49:O49)) | AF49: =IF(AE48="","",'4x60'!H49) | AK49: =IF(AJ48="","",'štafeta CTIF'!M49) | AL49: =IF(AJ48="","",SUM('štafeta CTIF'!H49:K49)) | AQ49: =IF(AP48="","",'štafeta dvojic'!T49) | AR49: =IF(AP48="","",SUM('štafeta dvojic'!H49:R49))
A50: =IF(startovka!A50="","",startovka!A50) | B50: =IF(startovka!B50="","",startovka!B50) | C50: =IF($B50="","",U50) | D50: =IF(B50="","",W50) | E50: =IF(B50="","",Z50) | F50: =IF(C50="","",AA50) | G50: =IF($B50="","",IF(ISNUMBER(AC50),AC50,0)) | H50: =IF($B50="","",AF50) | I50: =IF($B50="","",IF(ISNUMBER(AH50),AH50,0)) | J50: =IF($B50="","",AK50) | K50: =IF($B50="","",AL50) | L50: =IF($B50="","",IF(ISNUMBER(AN50),AN50,0)) | M50: =IF($B50="","",AQ50) | N50: =IF($B50="","",AR50) | O50: =IF(B50="","",IF(ISNUMBER(AT50),AT50,0)) | P50: =IF(B50="","",D50*1.001+G50*1.00001+I50*1.0000001+L50*1.000000001+O50) | Q50: =IF(B50="","",RANK(P50,P$4:P$83,1)) | R50: =IF(Q50="","",Q50+A50/1000) | S50: =IF($B50="","",RANK(R50,R$4:R$83,1)) | T50: =IF(PÚ!B50="","",PÚ!B50) | U50: =IF(T50="","",PÚ!H50) | V50: =IF(T50="","",MIN(U50:U51)+MAX(U50:U51)/1000000) | W50: =IF(T50="","",IF(SUM(V50:V129)=0,0,RANK(V50,V$4:V$83,1))) | Y50: =IF('PÚ CTIF'!B50:B51="","",'PÚ CTIF'!B50:B51) | Z50: =IF(Y50="","",'PÚ CTIF'!Q50) | AA50: =IF(Y50="","",SUM('PÚ CTIF'!H50:O50)) | AB50: =IF(Y50="","",MIN(Z50:Z51)+MAX(Z50:Z51)/1000000000+INDEX(AA50:AA51,MATCH(MIN(Z50:Z51),Z50:Z51,0),1)/1000000000000000) | AC50: =IF(Y50="","",RANK(AB50,AB$4:AB$83,1)) | AE50: =IF('4x60'!B50:B51="","",'4x60'!B50:B51) | AF50: =IF(AE50="","",'4x60'!H50) | AG50: =IF(AE50="","",MIN(AF50:AF51)+MAX(AF50:AF51)/1000000) | AH50: =IF(AE50="","",IF(SUM(AG50:AG129)=0,0,RANK(AG50,AG$4:AG$83,1))) | AJ50: =IF('štafeta CTIF'!B50:B51="","",'štafeta CTIF'!B50:B51) | AK50: =IF(AJ50="","",'štafeta CTIF'!M50) | AL50: =IF(AJ50="","",SUM('štafeta CTIF'!H50:K50)) | AM50: =IF(AJ50="","",MIN(AK50:AK51)+MAX(AK50:AK51)/1000000000+INDEX(AL50:AL51,MATCH(MIN(AK50:AK51),AK50:AK51,0),1)/1000000000000000) | AN50: =IF(AJ50="","",RANK(AM50,AM$4:AM$83,1)) | AP50: =IF('štafeta dvojic'!B50:B51="","",'štafeta dvojic'!B50:B51) | AQ50: =IF(AP50="","",'štafeta dvojic'!T50) | AR50: =IF(AP50="","",SUM('štafeta dvojic'!H50:R50)) | AS50: =IF(AP50="","",MIN(AQ50:AQ51)+MAX(AQ50:AQ51)/1000000000+INDEX(AR50:AR51,MATCH(MIN(AQ50:AQ51),AQ50:AQ51,0),1)/1000000000000000) | AT50: =IF(AP50="","",RANK(AS50,AS$4:AS$83,1))
C51: =IF(B50="","",U51) | E51: =IF(B50="","",Z51) | F51: =IF(C50="","",AA51) | H51: =IF($B50="","",AF51) | J51: =IF($B50="","",AK51) | K51: =IF($B50="","",AL51) | M51: =IF($B50="","",AQ51) | N51: =IF($B50="","",AR51) | U51: =IF(T50="","",PÚ!H51) | Z51: =IF(Y50="","",'PÚ CTIF'!Q51) | AA51: =IF(Y50="","",SUM('PÚ CTIF'!H51:O51)) | AF51: =IF(AE50="","",'4x60'!H51) | AK51: =IF(AJ50="","",'štafeta CTIF'!M51) | AL51: =IF(AJ50="","",SUM('štafeta CTIF'!H51:K51)) | AQ51: =IF(AP50="","",'štafeta dvojic'!T51) | AR51: =IF(AP50="","",SUM('štafeta dvojic'!H51:R51))
