Workbook

Sheet startovka
A1: Plamen
A2: startovní číslo | B2: Kategorie: mladší
B3: Družstvo
A4: =IF(B4="","",1) -> 1 | B4: Frenštát p. R.
A6: =IF(B6="","",MAX(A$4:A4)+1) -> 2 | B6: Tísek "A"
A8: =IF(B8="","",MAX(A$4:A6)+1) -> 3 | B8: Mniší
A10: =IF(B10="","",MAX(A$4:A8)+1) -> 4 | B10: Hájov
A12: =IF(B12="","",MAX(A$4:A10)+1) -> 5 | B12: Tísek "B"
A14: =IF(B14="","",MAX(A$4:A12)+1)
A16: =IF(B16="","",MAX(A$4:A14)+1)
A18: =IF(B18="","",MAX(A$4:A16)+1)
A20: =IF(B20="","",MAX(A$4:A18)+1)
A22: =IF(B22="","",MAX(A$4:A20)+1)
A24: =IF(B24="","",MAX(A$4:A22)+1)
A26: =IF(B26="","",MAX(A$4:A24)+1)
A28: =IF(B28="","",MAX(A$4:A26)+1)
A30: =IF(B30="","",MAX(A$4:A28)+1)
A32: =IF(B32="","",MAX(A$4:A30)+1)
A34: =IF(B34="","",MAX(A$4:A32)+1)
A36: =IF(B36="","",MAX(A$4:A34)+1)
... A82: =IF(B82="","",MAX(A$4:A80)+1)

Sheet PÚ
A1: Požární útok | D1: Dosažené časy | G1: Příčina neplatnosti pokusu (pokud není uveden je pokus platný nebo se předpokládá že družstvo k pokusu nenastoupilo) | H1: Výsledek
A2: =startovka!B2 -> Kategorie: mladší | D2: 1. časoměřič nebo levý terč | E2: 2. časoměřič nebo pravý terč | F2: 3. časoměřič | H2: =IF(SUM(D4:F83)=0,"čas ukončení pokusu", "Výsledný čas pokusu") -> Výsledný čas pokusu | I2: pořadí
A3: start. číslo | B3: Soutěžní družstvo
A4: =IF(startovka!A4="","",startovka!A4) -> 1 | B4: =IF(startovka!B4="","",startovka!B4) -> Frenštát p. R. | C4: 1pokus | D4: 20.77 | E4: 19.84 | H4: =IF(B4="","",IF(G4="",IF(SUM(D$4:F$583)=0,"",IF(SUM(D4:F4)=0,999,IF(F4="",MAX(D4:E4),LARGE(D4:F4,2)))),998)) -> 20.77 | I4: =IF(B4="","",výpočty!D4) -> 3
C5: 2pokus | D5: 21.13 | E5: 21.27 | H5: =IF(B4="","",IF(G5="",IF(SUM(D$4:F$83)=0,"",IF(SUM(D5:F5)=0,999,IF(F5="",MAX(D5:E5),LARGE(D5:F5,2)))),998)) -> 21.27
A6: =IF(startovka!A6="","",startovka!A6) -> 2 | B6: =IF(startovka!B6="","",startovka!B6) -> Tísek "A" | C6: 1pokus | D6: 33.11 | E6: 33.32 | H6: =IF(B6="","",IF(G6="",IF(SUM(D$4:F$583)=0,"",IF(SUM(D6:F6)=0,999,IF(F6="",MAX(D6:E6),LARGE(D6:F6,2)))),998)) -> 33.32 | I6: =IF(B6="","",výpočty!D6) -> 4
C7: 2pokus | G7: přešlap | H7: =IF(B6="","",IF(G7="",IF(SUM(D$4:F$83)=0,"",IF(SUM(D7:F7)=0,999,IF(F7="",MAX(D7:E7),LARGE(D7:F7,2)))),998)) -> 998
A8: =IF(startovka!A8="","",startovka!A8) -> 3 | B8: =IF(startovka!B8="","",startovka!B8) -> Mniší | C8: 1pokus | D8: 18.06 | E8: 17.26 | H8: =IF(B8="","",IF(G8="",IF(SUM(D$4:F$583)=0,"",IF(SUM(D8:F8)=0,999,IF(F8="",MAX(D8:E8),LARGE(D8:F8,2)))),998)) -> 18.06 | I8: =IF(B8="","",výpočty!D8) -> 1
C9: 2pokus | D9: 16.94 | E9: 16.8 | H9: =IF(B8="","",IF(G9="",IF(SUM(D$4:F$83)=0,"",IF(SUM(D9:F9)=0,999,IF(F9="",MAX(D9:E9),LARGE(D9:F9,2)))),998)) -> 16.94
A10: =IF(startovka!A10="","",startovka!A10) -> 4 | B10: =IF(startovka!B10="","",startovka!B10) -> Hájov | C10: 1pokus | D10: 16.26 | E10: 20.75 | H10: =IF(B10="","",IF(G10="",IF(SUM(D$4:F$583)=0,"",IF(SUM(D10:F10)=0,999,IF(F10="",MAX(D10:E10),LARGE(D10:F10,2)))),998)) -> 20.75 | I10: =IF(B10="","",výpočty!D10) -> 2
C11: 2pokus | D11: 17.63 | E11: 16.73 | H11: =IF(B10="","",IF(G11="",IF(SUM(D$4:F$83)=0,"",IF(SUM(D11:F11)=0,999,IF(F11="",MAX(D11:E11),LARGE(D11:F11,2)))),998)) -> 17.63
A12: =IF(startovka!A12="","",startovka!A12) -> 5 | B12: =IF(startovka!B12="","",startovka!B12) -> Tísek "B" | C12: 1pokus | D12: 110.33 | E12: 55.72 | H12: =IF(B12="","",IF(G12="",IF(SUM(D$4:F$583)=0,"",IF(SUM(D12:F12)=0,999,IF(F12="",MAX(D12:E12),LARGE(D12:F12,2)))),998)) -> 110.33 | I12: =IF(B12="","",výpočty!D12) -> 5
C13: 2pokus | D13: 60.36 | E13: 39.65 | H13: =IF(B12="","",IF(G13="",IF(SUM(D$4:F$83)=0,"",IF(SUM(D13:F13)=0,999,IF(F13="",MAX(D13:E13),LARGE(D13:F13,2)))),998)) -> 60.36
A14: =IF(startovka!A14="","",startovka!A14) | B14: =IF(startovka!B14="","",startovka!B14) | C14: 1pokus | H14: =IF(B14="","",IF(G14="",IF(SUM(D$4:F$583)=0,"",IF(SUM(D14:F14)=0,999,IF(F14="",MAX(D14:E14),LARGE(D14:F14,2)))),998)) | I14: =IF(B14="","",výpočty!D14)
C15: 2pokus | H15: =IF(B14="","",IF(G15="",IF(SUM(D$4:F$83)=0,"",IF(SUM(D15:F15)=0,999,IF(F15="",MAX(D15:E15),LARGE(D15:F15,2)))),998))
A16: =IF(startovka!A16="","",startovka!A16) | B16: =IF(startovka!B16="","",startovka!B16) | C16: 1pokus | H16: =IF(B16="","",IF(G16="",IF(SUM(D$4:F$583)=0,"",IF(SUM(D16:F16)=0,999,IF(F16="",MAX(D16:E16),LARGE(D16:F16,2)))),998)) | I16: =IF(B16="","",výpočty!D16)
C17: 2pokus | H17: =IF(B16="","",IF(G17="",IF(SUM(D$4:F$83)=0,"",IF(SUM(D17:F17)=0,999,IF(F17="",MAX(D17:E17),LARGE(D17:F17,2)))),998))
A18: =IF(startovka!A18="","",startovka!A18) | B18: =IF(startovka!B18="","",startovka!B18) | C18: 1pokus | H18: =IF(B18="","",IF(G18="",IF(SUM(D$4:F$583)=0,"",IF(SUM(D18:F18)=0,999,IF(F18="",MAX(D18:E18),LARGE(D18:F18,2)))),998)) | I18: =IF(B18="","",výpočty!D18)
C19: 2pokus | H19: =IF(B18="","",IF(G19="",IF(SUM(D$4:F$83)=0,"",IF(SUM(D19:F19)=0,999,IF(F19="",MAX(D19:E19),LARGE(D19:F19,2)))),998))
A20: =IF(startovka!A20="","",startovka!A20) | B20: =IF(startovka!B20="","",startovka!B20) | C20: 1pokus | H20: =IF(B20="","",IF(G20="",IF(SUM(D$4:F$583)=0,"",IF(SUM(D20:F20)=0,999,IF(F20="",MAX(D20:E20),LARGE(D20:F20,2)))),998)) | I20: =IF(B20="","",výpočty!D20)
C21: 2pokus | H21: =IF(B20="","",IF(G21="",IF(SUM(D$4:F$83)=0,"",IF(SUM(D21:F21)=0,999,IF(F21="",MAX(D21:E21),LARGE(D21:F21,2)))),998))
A22: =IF(startovka!A22="","",startovka!A22) | B22: =IF(startovka!B22="","",startovka!B22) | C22: 1pokus | H22: =IF(B22="","",IF(G22="",IF(SUM(D$4:F$583)=0,"",IF(SUM(D22:F22)=0,999,IF(F22="",MAX(D22:E22),LARGE(D22:F22,2)))),998)) | I22: =IF(B22="","",výpočty!D22)
C23: 2pokus | H23: =IF(B22="","",IF(G23="",IF(SUM(D$4:F$83)=0,"",IF(SUM(D23:F23)=0,999,IF(F23="",MAX(D23:E23),LARGE(D23:F23,2)))),998))
A24: =IF(startovka!A24="","",startovka!A24) | B24: =IF(startovka!B24="","",startovka!B24) | C24: 1pokus | H24: =IF(B24="","",IF(G24="",IF(SUM(D$4:F$583)=0,"",IF(SUM(D24:F24)=0,999,IF(F24="",MAX(D24:E24),LARGE(D24:F24,2)))),998)) | I24: =IF(B24="","",výpočty!D24)
C25: 2pokus | H25: =IF(B24="","",IF(G25="",IF(SUM(D$4:F$83)=0,"",IF(SUM(D25:F25)=0,999,IF(F25="",MAX(D25:E25),LARGE(D25:F25,2)))),998))
A26: =IF(startovka!A26="","",startovka!A26) | B26: =IF(startovka!B26="","",startovka!B26) | C26: 1pokus | H26: =IF(B26="","",IF(G26="",IF(SUM(D$4:F$583)=0,"",IF(SUM(D26:F26)=0,999,IF(F26="",MAX(D26:E26),LARGE(D26:F26,2)))),998)) | I26: =IF(B26="","",výpočty!D26)
C27: 2pokus | H27: =IF(B26="","",IF(G27="",IF(SUM(D$4:F$83)=0,"",IF(SUM(D27:F27)=0,999,IF(F27="",MAX(D27:E27),LARGE(D27:F27,2)))),998))
A28: =IF(startovka!A28="","",startovka!A28) | B28: =IF(startovka!B28="","",startovka!B28) | C28: 1pokus | H28: =IF(B28="","",IF(G28="",IF(SUM(D$4:F$583)=0,"",IF(SUM(D28:F28)=0,999,IF(F28="",MAX(D28:E28),LARGE(D28:F28,2)))),998)) | I28: =IF(B28="","",výpočty!D28)
C29: 2pokus | H29: =IF(B28="","",IF(G29="",IF(SUM(D$4:F$83)=0,"",IF(SUM(D29:F29)=0,999,IF(F29="",MAX(D29:E29),LARGE(D29:F29,2)))),998))
A30: =IF(startovka!A30="","",startovka!A30) | B30: =IF(startovka!B30="","",startovka!B30) | C30: 1pokus | H30: =IF(B30="","",IF(G30="",IF(SUM(D$4:F$583)=0,"",IF(SUM(D30:F30)=0,999,IF(F30="",MAX(D30:E30),LARGE(D30:F30,2)))),998)) | I30: =IF(B30="","",výpočty!D30)
C31: 2pokus | H31: =IF(B30="","",IF(G31="",IF(SUM(D$4:F$83)=0,"",IF(SUM(D31:F31)=0,999,IF(F31="",MAX(D31:E31),LARGE(D31:F31,2)))),998))
A32: =IF(startovka!A32="","",startovka!A32) | B32: =IF(startovka!B32="","",startovka!B32) | C32: 1pokus | H32: =IF(B32="","",IF(G32="",IF(SUM(D$4:F$583)=0,"",IF(SUM(D32:F32)=0,999,IF(F32="",MAX(D32:E32),LARGE(D32:F32,2)))),998)) | I32: =IF(B32="","",výpočty!D32)
C33: 2pokus | H33: =IF(B32="","",IF(G33="",IF(SUM(D$4:F$83)=0,"",IF(SUM(D33:F33)=0,999,IF(F33="",MAX(D33:E33),LARGE(D33:F33,2)))),998))
A34: =IF(startovka!A34="","",startovka!A34) | B34: =IF(startovka!B34="","",startovka!B34) | C34: 1pokus | H34: =IF(B34="","",IF(G34="",IF(SUM(D$4:F$583)=0,"",IF(SUM(D34:F34)=0,999,IF(F34="",MAX(D34:E34),LARGE(D34:F34,2)))),998)) | I34: =IF(B34="","",výpočty!D34)
C35: 2pokus | H35: =IF(B34="","",IF(G35="",IF(SUM(D$4:F$83)=0,"",IF(SUM(D35:F35)=0,999,IF(F35="",MAX(D35:E35),LARGE(D35:F35,2)))),998))
A36: =IF(startovka!A36="","",startovka!A36) | B36: =IF(startovka!B36="","",startovka!B36) | C36: 1pokus | H36: =IF(B36="","",IF(G36="",IF(SUM(D$4:F$583)=0,"",IF(SUM(D36:F36)=0,999,IF(F36="",MAX(D36:E36),LARGE(D36:F36,2)))),998)) | I36: =IF(B36="","",výpočty!D36)
C37: 2pokus | H37: =IF(B36="","",IF(G37="",IF(SUM(D$4:F$83)=0,"",IF(SUM(D37:F37)=0,999,IF(F37="",MAX(D37:E37),LARGE(D37:F37,2)))),998))
A38: =IF(startovka!A38="","",startovka!A38) | B38: =IF(startovka!B38="","",startovka!B38) | C38: 1pokus | H38: =IF(B38="","",IF(G38="",IF(SUM(D$4:F$583)=0,"",IF(SUM(D38:F38)=0,999,IF(F38="",MAX(D38:E38),LARGE(D38:F38,2)))),998)) | I38: =IF(B38="","",výpočty!D38)
C39: 2pokus | H39: =IF(B38="","",IF(G39="",IF(SUM(D$4:F$83)=0,"",IF(SUM(D39:F39)=0,999,IF(F39="",MAX(D39:E39),LARGE(D39:F39,2)))),998))
A40: =IF(startovka!A40="","",startovka!A40) | B40: =IF(startovka!B40="","",startovka!B40) | C40: 1pokus | H40: =IF(B40="","",IF(G40="",IF(SUM(D$4:F$583)=0,"",IF(SUM(D40:F40)=0,999,IF(F40="",MAX(D40:E40),LARGE(D40:F40,2)))),998)) | I40: =IF(B40="","",výpočty!D40)
...

Sheet PÚ CTIF
A1: útok CTIF | D1: Základem je čas naměřeny od startu po signál velitele | H1: K úřednímu času se připočítavají trest. sekundy | P1: Výsledek soutěže
A2: =startovka!B2 -> Kategorie: mladší | D2: I. časoměřič | E2: II. časoměřič | F2: III. časoměřič | G2: úřední čas | H2: Nespravné překonání překážky 10TB | I2: Celé přetočení hadice 5TB | J2: Nespojené spojky 20TB | K2: Nesprávné rozložení hadic 10TB | L2: Ztracené nebo špatně odložené náčiní 5TB | M2: Nesprávné zařazení TP 10TB | N2: Nesprávné uvázaný uzel 10TB | O2: Nesprávná práce 10TB každý případ | P2: Důvod neplatnosti pokusu | Q2: =IF(SUM(D4:F83)=0,"čas ukončení pokusu", "Výsledný čas pokusu") -> Výsledný čas pokusu | R2: počet bodů za umístění
A3: Start. číslo | B3: Soutěžní družstvo | C3: pokus
A4: =IF(startovka!A4="","",startovka!A4) -> 1 | B4: =IF(startovka!B4="","",startovka!B4) -> Frenštát p. R. | C4: 1pokus | D4: 86.24 | E4: 86.63 | F4: 89.19 | G4: =IF(B4="","",IF(SUM(D$4:F$583)=0,"",IF(D4="",999,IF(F4="",MAX(D4:E4),LARGE(D4:F4,2))))) -> 86.63 | Q4: =IF(G4="","",IF(P4="",IF(G4=999,999,SUM(G4:O4)),998)) -> 86.63 | R4: =IF(B4="","",výpočty!G4) -> 4
C5: 2pokus | D5: 76.51 | E5: 76.77 | F5: 76.22 | G5: =IF(B4="","",IF(SUM(D$4:F$583)=0,"",IF(D5="",999,IF(F5="",MAX(D5:E5),LARGE(D5:F5,2))))) -> 76.51 | Q5: =IF(G5="","",IF(P5="",IF(G5=999,999,SUM(G5:O5)),998)) -> 76.51
A6: =IF(startovka!A6="","",startovka!A6) -> 2 | B6: =IF(startovka!B6="","",startovka!B6) -> Tísek "A" | C6: 1pokus | D6: 57.98 | E6: 58.41 | F6: 58.16 | G6: =IF(B6="","",IF(SUM(D$4:F$583)=0,"",IF(D6="",999,IF(F6="",MAX(D6:E6),LARGE(D6:F6,2))))) -> 58.16 | H6: 10 | O6: 10 | Q6: =IF(G6="","",IF(P6="",IF(G6=999,999,SUM(G6:O6)),998)) -> 78.16 | R6: =IF(B6="","",výpočty!G6) -> 3
C7: 2pokus | D7: 61.77 | E7: 61.51 | F7: 61.92 | G7: =IF(B6="","",IF(SUM(D$4:F$583)=0,"",IF(D7="",999,IF(F7="",MAX(D7:E7),LARGE(D7:F7,2))))) -> 61.77 | O7: 10 | Q7: =IF(G7="","",IF(P7="",IF(G7=999,999,SUM(G7:O7)),998)) -> 71.77
A8: =IF(startovka!A8="","",startovka!A8) -> 3 | B8: =IF(startovka!B8="","",startovka!B8) -> Mniší | C8: 1pokus | D8: 62.11 | E8: 62.06 | F8: 61.33 | G8: =IF(B8="","",IF(SUM(D$4:F$583)=0,"",IF(D8="",999,IF(F8="",MAX(D8:E8),LARGE(D8:F8,2))))) -> 62.06 | I8: 5 | Q8: =IF(G8="","",IF(P8="",IF(G8=999,999,SUM(G8:O8)),998)) -> 67.06 | R8: =IF(B8="","",výpočty!G8) -> 2
C9: 2pokus | D9: 55.05 | E9: 55.07 | F9: 55.13 | G9: =IF(B8="","",IF(SUM(D$4:F$583)=0,"",IF(D9="",999,IF(F9="",MAX(D9:E9),LARGE(D9:F9,2))))) -> 55.07 | Q9: =IF(G9="","",IF(P9="",IF(G9=999,999,SUM(G9:O9)),998)) -> 55.07
A10: =IF(startovka!A10="","",startovka!A10) -> 4 | B10: =IF(startovka!B10="","",startovka!B10) -> Hájov | C10: 1pokus | D10: 52.54 | E10: 52.43 | F10: 51.85 | G10: =IF(B10="","",IF(SUM(D$4:F$583)=0,"",IF(D10="",999,IF(F10="",MAX(D10:E10),LARGE(D10:F10,2))))) -> 52.43 | Q10: =IF(G10="","",IF(P10="",IF(G10=999,999,SUM(G10:O10)),998)) -> 52.43 | R10: =IF(B10="","",výpočty!G10) -> 1
C11: 2pokus | D11: 56.35 | E11: 56.14 | F11: 56.4 | G11: =IF(B10="","",IF(SUM(D$4:F$583)=0,"",IF(D11="",999,IF(F11="",MAX(D11:E11),LARGE(D11:F11,2))))) -> 56.35 | Q11: =IF(G11="","",IF(P11="",IF(G11=999,999,SUM(G11:O11)),998)) -> 56.35
A12: =IF(startovka!A12="","",startovka!A12) -> 5 | B12: =IF(startovka!B12="","",startovka!B12) -> Tísek "B" | C12: 1pokus | D12: 86.18 | E12: 86.74 | F12: 85.47 | G12: =IF(B12="","",IF(SUM(D$4:F$583)=0,"",IF(D12="",999,IF(F12="",MAX(D12:E12),LARGE(D12:F12,2))))) -> 86.18 | H12: 10 | O12: 10 | Q12: =IF(G12="","",IF(P12="",IF(G12=999,999,SUM(G12:O12)),998)) -> 106.18 | R12: =IF(B12="","",výpočty!G12) -> 5
C13: 2pokus | D13: 79.87 | E13: 79.1 | F13: 79.02 | G13: =IF(B12="","",IF(SUM(D$4:F$583)=0,"",IF(D13="",999,IF(F13="",MAX(D13:E13),LARGE(D13:F13,2))))) -> 79.1 | Q13: =IF(G13="","",IF(P13="",IF(G13=999,999,SUM(G13:O13)),998)) -> 79.1
A14: =IF(startovka!A14="","",startovka!A14) | B14: =IF(startovka!B14="","",startovka!B14) | C14: 1pokus | G14: =IF(B14="","",IF(SUM(D$4:F$583)=0,"",IF(D14="",999,IF(F14="",MAX(D14:E14),LARGE(D14:F14,2))))) | Q14: =IF(G14="","",IF(P14="",IF(G14=999,999,SUM(G14:O14)),998)) | R14: =IF(B14="","",výpočty!G14)
C15: 2pokus | G15: =IF(B14="","",IF(SUM(D$4:F$583)=0,"",IF(D15="",999,IF(F15="",MAX(D15:E15),LARGE(D15:F15,2))))) | Q15: =IF(G15="","",IF(P15="",IF(G15=999,999,SUM(G15:O15)),998))
A16: =IF(startovka!A16="","",startovka!A16) | B16: =IF(startovka!B16="","",startovka!B16) | C16: 1pokus | G16: =IF(B16="","",IF(SUM(D$4:F$583)=0,"",IF(D16="",999,IF(F16="",MAX(D16:E16),LARGE(D16:F16,2))))) | Q16: =IF(G16="","",IF(P16="",IF(G16=999,999,SUM(G16:O16)),998)) | R16: =IF(B16="","",výpočty!G16)
C17: 2pokus | G17: =IF(B16="","",IF(SUM(D$4:F$583)=0,"",IF(D17="",999,IF(F17="",MAX(D17:E17),LARGE(D17:F17,2))))) | Q17: =IF(G17="","",IF(P17="",IF(G17=999,999,SUM(G17:O17)),998))
A18: =IF(startovka!A18="","",startovka!A18) | B18: =IF(startovka!B18="","",startovka!B18) | C18: 1pokus | G18: =IF(B18="","",IF(SUM(D$4:F$583)=0,"",IF(D18="",999,IF(F18="",MAX(D18:E18),LARGE(D18:F18,2))))) | Q18: =IF(G18="","",IF(P18="",IF(G18=999,999,SUM(G18:O18)),998)) | R18: =IF(B18="","",výpočty!G18)
C19: 2pokus | G19: =IF(B18="","",IF(SUM(D$4:F$583)=0,"",IF(D19="",999,IF(F19="",MAX(D19:E19),LARGE(D19:F19,2))))) | Q19: =IF(G19="","",IF(P19="",IF(G19=999,999,SUM(G19:O19)),998))
A20: =IF(startovka!A20="","",startovka!A20) | B20: =IF(startovka!B20="","",startovka!B20) | C20: 1pokus | G20: =IF(B20="","",IF(SUM(D$4:F$583)=0,"",IF(D20="",999,IF(F20="",MAX(D20:E20),LARGE(D20:F20,2))))) | Q20: =IF(G20="","",IF(P20="",IF(G20=999,999,SUM(G20:O20)),998)) | R20: =IF(B20="","",výpočty!G20)
C21: 2pokus | G21: =IF(B20="","",IF(SUM(D$4:F$583)=0,"",IF(D21="",999,IF(F21="",MAX(D21:E21),LARGE(D21:F21,2))))) | Q21: =IF(G21="","",IF(P21="",IF(G21=999,999,SUM(G21:O21)),998))
A22: =IF(startovka!A22="","",startovka!A22) | B22: =IF(startovka!B22="","",startovka!B22) | C22: 1pokus | G22: =IF(B22="","",IF(SUM(D$4:F$583)=0,"",IF(D22="",999,IF(F22="",MAX(D22:E22),LARGE(D22:F22,2))))) | Q22: =IF(G22="","",IF(P22="",IF(G22=999,999,SUM(G22:O22)),998)) | R22: =IF(B22="","",výpočty!G22)
C23: 2pokus | G23: =IF(B22="","",IF(SUM(D$4:F$583)=0,"",IF(D23="",999,IF(F23="",MAX(D23:E23),LARGE(D23:F23,2))))) | Q23: =IF(G23="","",IF(P23="",IF(G23=999,999,SUM(G23:O23)),998))
A24: =IF(startovka!A24="","",startovka!A24) | B24: =IF(startovka!B24="","",startovka!B24) | C24: 1pokus | G24: =IF(B24="","",IF(SUM(D$4:F$583)=0,"",IF(D24="",999,IF(F24="",MAX(D24:E24),LARGE(D24:F24,2))))) | Q24: =IF(G24="","",IF(P24="",IF(G24=999,999,SUM(G24:O24)),998)) | R24: =IF(B24="","",výpočty!G24)
C25: 2pokus | G25: =IF(B24="","",IF(SUM(D$4:F$583)=0,"",IF(D25="",999,IF(F25="",MAX(D25:E25),LARGE(D25:F25,2))))) | Q25: =IF(G25="","",IF(P25="",IF(G25=999,999,SUM(G25:O25)),998))
A26: =IF(startovka!A26="","",startovka!A26) | B26: =IF(startovka!B26="","",startovka!B26) | C26: 1pokus | G26: =IF(B26="","",IF(SUM(D$4:F$583)=0,"",IF(D26="",999,IF(F26="",MAX(D26:E26),LARGE(D26:F26,2))))) | Q26: =IF(G26="","",IF(P26="",IF(G26=999,999,SUM(G26:O26)),998)) | R26: =IF(B26="","",výpočty!G26)
C27: 2pokus | G27: =IF(B26="","",IF(SUM(D$4:F$583)=0,"",IF(D27="",999,IF(F27="",MAX(D27:E27),LARGE(D27:F27,2))))) | Q27: =IF(G27="","",IF(P27="",IF(G27=999,999,SUM(G27:O27)),998))
A28: =IF(startovka!A28="","",startovka!A28) | B28: =IF(startovka!B28="","",startovka!B28) | C28: 1pokus | G28: =IF(B28="","",IF(SUM(D$4:F$583)=0,"",IF(D28="",999,IF(F28="",MAX(D28:E28),LARGE(D28:F28,2))))) | Q28: =IF(G28="","",IF(P28="",IF(G28=999,999,SUM(G28:O28)),998)) | R28: =IF(B28="","",výpočty!G28)
C29: 2pokus | G29: =IF(B28="","",IF(SUM(D$4:F$583)=0,"",IF(D29="",999,IF(F29="",MAX(D29:E29),LARGE(D29:F29,2))))) | Q29: =IF(G29="","",IF(P29="",IF(G29=999,999,SUM(G29:O29)),998))
A30: =IF(startovka!A30="","",startovka!A30) | B30: =IF(startovka!B30="","",startovka!B30) | C30: 1pokus | G30: =IF(B30="","",IF(SUM(D$4:F$583)=0,"",IF(D30="",999,IF(F30="",MAX(D30:E30),LARGE(D30:F30,2))))) | Q30: =IF(G30="","",IF(P30="",IF(G30=999,999,SUM(G30:O30)),998)) | R30: =IF(B30="","",výpočty!G30)
C31: 2pokus | G31: =IF(B30="","",IF(SUM(D$4:F$583)=0,"",IF(D31="",999,IF(F31="",MAX(D31:E31),LARGE(D31:F31,2))))) | Q31: =IF(G31="","",IF(P31="",IF(G31=999,999,SUM(G31:O31)),998))
A32: =IF(startovka!A32="","",startovka!A32) | B32: =IF(startovka!B32="","",startovka!B32) | C32: 1pokus | G32: =IF(B32="","",IF(SUM(D$4:F$583)=0,"",IF(D32="",999,IF(F32="",MAX(D32:E32),LARGE(D32:F32,2))))) | Q32: =IF(G32="","",IF(P32="",IF(G32=999,999,SUM(G32:O32)),998)) | R32: =IF(B32="","",výpočty!G32)
C33: 2pokus | G33: =IF(B32="","",IF(SUM(D$4:F$583)=0,"",IF(D33="",999,IF(F33="",MAX(D33:E33),LARGE(D33:F33,2))))) | Q33: =IF(G33="","",IF(P33="",IF(G33=999,999,SUM(G33:O33)),998))
A34: =IF(startovka!A34="","",startovka!A34) | B34: =IF(startovka!B34="","",startovka!B34) | C34: 1pokus | G34: =IF(B34="","",IF(SUM(D$4:F$583)=0,"",IF(D34="",999,IF(F34="",MAX(D34:E34),LARGE(D34:F34,2))))) | Q34: =IF(G34="","",IF(P34="",IF(G34=999,999,SUM(G34:O34)),998)) | R34: =IF(B34="","",výpočty!G34)
C35: 2pokus | G35: =IF(B34="","",IF(SUM(D$4:F$583)=0,"",IF(D35="",999,IF(F35="",MAX(D35:E35),LARGE(D35:F35,2))))) | Q35: =IF(G35="","",IF(P35="",IF(G35=999,999,SUM(G35:O35)),998))
A36: =IF(startovka!A36="","",startovka!A36) | B36: =IF(startovka!B36="","",startovka!B36) | C36: 1pokus | G36: =IF(B36="","",IF(SUM(D$4:F$583)=0,"",IF(D36="",999,IF(F36="",MAX(D36:E36),LARGE(D36:F36,2))))) | Q36: =IF(G36="","",IF(P36="",IF(G36=999,999,SUM(G36:O36)),998)) | R36: =IF(B36="","",výpočty!G36)
C37: 2pokus | G37: =IF(B36="","",IF(SUM(D$4:F$583)=0,"",IF(D37="",999,IF(F37="",MAX(D37:E37),LARGE(D37:F37,2))))) | Q37: =IF(G37="","",IF(P37="",IF(G37=999,999,SUM(G37:O37)),998))
A38: =IF(startovka!A38="","",startovka!A38) | B38: =IF(startovka!B38="","",startovka!B38) | C38: 1pokus | G38: =IF(B38="","",IF(SUM(D$4:F$583)=0,"",IF(D38="",999,IF(F38="",MAX(D38:E38),LARGE(D38:F38,2))))) | Q38: =IF(G38="","",IF(P38="",IF(G38=999,999,SUM(G38:O38)),998)) | R38: =IF(B38="","",výpočty!G38)
C39: 2pokus | G39: =IF(B38="","",IF(SUM(D$4:F$583)=0,"",IF(D39="",999,IF(F39="",MAX(D39:E39),LARGE(D39:F39,2))))) | Q39: =IF(G39="","",IF(P39="",IF(G39=999,999,SUM(G39:O39)),998))
A40: =IF(startovka!A40="","",startovka!A40) | B40: =IF(startovka!B40="","",startovka!B40) | C40: 1pokus | G40: =IF(B40="","",IF(SUM(D$4:F$583)=0,"",IF(D40="",999,IF(F40="",MAX(D40:E40),LARGE(D40:F40,2))))) | Q40: =IF(G40="","",IF(P40="",IF(G40=999,999,SUM(G40:O40)),998)) | R40: =IF(B40="","",výpočty!G40)
...

Sheet 4x60
A1: ŠTAFETA 4x60 | D1: Dosažené časy | G1: Příčina neplatnosti pokusu (pokud není uvedena je pokus platný, nebo se předpokládá, že družstvo k pokusu nenastoupilo) | H1: =IF(SUM(D4:F583)=0,"čas ukončení pokusu", "Výsledný čas pokusu") -> Výsledný čas pokusu | I1: Pořadí
A2: startovní číslo | B2: =startovka!B2 -> Kategorie: mladší | D2: Elektronická časomíra nebo 1 časoměřič | E2: 2 časoměřič | F2: 3 časoměřič
B3: Družstvo
A4: =IF(startovka!A4="","",startovka!A4) -> 1 | B4: =IF(startovka!B4="","",startovka!B4) -> Frenštát p. R. | C4: 1pokus | D4: 72.769 | H4: =IF(B4="","",IF(G4="",IF(SUM(D$4:F$583)=0,"",IF(SUM(D4:F4)=0,999,IF(F4="",MAX(D4:E4),LARGE(D4:F4,2)))),998)) -> 72.769 | I4: =IF(B4="","",výpočty!I4) -> 4
C5: 2pokus | G5: pokus nehodnocen | H5: =IF(B4="","",IF(G5="",IF(SUM(D$4:F$83)=0,"",IF(SUM(D5:F5)=0,999,IF(F5="",MAX(D5:E5),LARGE(D5:F5,2)))),998)) -> 998
A6: =IF(startovka!A6="","",startovka!A6) -> 2 | B6: =IF(startovka!B6="","",startovka!B6) -> Tísek "A" | C6: 1pokus | G6: pokus nehodnocen | H6: =IF(B6="","",IF(G6="",IF(SUM(D$4:F$583)=0,"",IF(SUM(D6:F6)=0,999,IF(F6="",MAX(D6:E6),LARGE(D6:F6,2)))),998)) -> 998 | I6: =IF(B6="","",výpočty!I6) -> 3
C7: 2pokus | D7: 63.696 | H7: =IF(B6="","",IF(G7="",IF(SUM(D$4:F$83)=0,"",IF(SUM(D7:F7)=0,999,IF(F7="",MAX(D7:E7),LARGE(D7:F7,2)))),998)) -> 63.696
A8: =IF(startovka!A8="","",startovka!A8) -> 3 | B8: =IF(startovka!B8="","",startovka!B8) -> Mniší | C8: 1pokus | D8: 61.507 | H8: =IF(B8="","",IF(G8="",IF(SUM(D$4:F$583)=0,"",IF(SUM(D8:F8)=0,999,IF(F8="",MAX(D8:E8),LARGE(D8:F8,2)))),998)) -> 61.507 | I8: =IF(B8="","",výpočty!I8) -> 1
C9: 2pokus | D9: 51.497 | H9: =IF(B8="","",IF(G9="",IF(SUM(D$4:F$83)=0,"",IF(SUM(D9:F9)=0,999,IF(F9="",MAX(D9:E9),LARGE(D9:F9,2)))),998)) -> 51.497
A10: =IF(startovka!A10="","",startovka!A10) -> 4 | B10: =IF(startovka!B10="","",startovka!B10) -> Hájov | C10: 1pokus | G10: pokus nehodnocen | H10: =IF(B10="","",IF(G10="",IF(SUM(D$4:F$583)=0,"",IF(SUM(D10:F10)=0,999,IF(F10="",MAX(D10:E10),LARGE(D10:F10,2)))),998)) -> 998 | I10: =IF(B10="","",výpočty!I10) -> 2
C11: 2pokus | D11: 54.069 | H11: =IF(B10="","",IF(G11="",IF(SUM(D$4:F$83)=0,"",IF(SUM(D11:F11)=0,999,IF(F11="",MAX(D11:E11),LARGE(D11:F11,2)))),998)) -> 54.069
A12: =IF(startovka!A12="","",startovka!A12) -> 5 | B12: =IF(startovka!B12="","",startovka!B12) -> Tísek "B" | C12: 1pokus | D12: 81.823 | H12: =IF(B12="","",IF(G12="",IF(SUM(D$4:F$583)=0,"",IF(SUM(D12:F12)=0,999,IF(F12="",MAX(D12:E12),LARGE(D12:F12,2)))),998)) -> 81.823 | I12: =IF(B12="","",výpočty!I12) -> 5
C13: 2pokus | D13: 92.627 | H13: =IF(B12="","",IF(G13="",IF(SUM(D$4:F$83)=0,"",IF(SUM(D13:F13)=0,999,IF(F13="",MAX(D13:E13),LARGE(D13:F13,2)))),998)) -> 92.627
A14: =IF(startovka!A14="","",startovka!A14) | B14: =IF(startovka!B14="","",startovka!B14) | C14: 1pokus | H14: =IF(B14="","",IF(G14="",IF(SUM(D$4:F$583)=0,"",IF(SUM(D14:F14)=0,999,IF(F14="",MAX(D14:E14),LARGE(D14:F14,2)))),998)) | I14: =IF(B14="","",výpočty!I14)
C15: 2pokus | H15: =IF(B14="","",IF(G15="",IF(SUM(D$4:F$83)=0,"",IF(SUM(D15:F15)=0,999,IF(F15="",MAX(D15:E15),LARGE(D15:F15,2)))),998))
A16: =IF(startovka!A16="","",startovka!A16) | B16: =IF(startovka!B16="","",startovka!B16) | C16: 1pokus | H16: =IF(B16="","",IF(G16="",IF(SUM(D$4:F$583)=0,"",IF(SUM(D16:F16)=0,999,IF(F16="",MAX(D16:E16),LARGE(D16:F16,2)))),998)) | I16: =IF(B16="","",výpočty!I16)
C17: 2pokus | H17: =IF(B16="","",IF(G17="",IF(SUM(D$4:F$83)=0,"",IF(SUM(D17:F17)=0,999,IF(F17="",MAX(D17:E17),LARGE(D17:F17,2)))),998))
A18: =IF(startovka!A18="","",startovka!A18) | B18: =IF(startovka!B18="","",startovka!B18) | C18: 1pokus | H18: =IF(B18="","",IF(G18="",IF(SUM(D$4:F$583)=0,"",IF(SUM(D18:F18)=0,999,IF(F18="",MAX(D18:E18),LARGE(D18:F18,2)))),998)) | I18: =IF(B18="","",výpočty!I18)
C19: 2pokus | H19: =IF(B18="","",IF(G19="",IF(SUM(D$4:F$83)=0,"",IF(SUM(D19:F19)=0,999,IF(F19="",MAX(D19:E19),LARGE(D19:F19,2)))),998))
A20: =IF(startovka!A20="","",startovka!A20) | B20: =IF(startovka!B20="","",startovka!B20) | C20: 1pokus | H20: =IF(B20="","",IF(G20="",IF(SUM(D$4:F$583)=0,"",IF(SUM(D20:F20)=0,999,IF(F20="",MAX(D20:E20),LARGE(D20:F20,2)))),998)) | I20: =IF(B20="","",výpočty!I20)
C21: 2pokus | H21: =IF(B20="","",IF(G21="",IF(SUM(D$4:F$83)=0,"",IF(SUM(D21:F21)=0,999,IF(F21="",MAX(D21:E21),LARGE(D21:F21,2)))),998))
A22: =IF(startovka!A22="","",startovka!A22) | B22: =IF(startovka!B22="","",startovka!B22) | C22: 1pokus | H22: =IF(B22="","",IF(G22="",IF(SUM(D$4:F$583)=0,"",IF(SUM(D22:F22)=0,999,IF(F22="",MAX(D22:E22),LARGE(D22:F22,2)))),998)) | I22: =IF(B22="","",výpočty!I22)
C23: 2pokus | H23: =IF(B22="","",IF(G23="",IF(SUM(D$4:F$83)=0,"",IF(SUM(D23:F23)=0,999,IF(F23="",MAX(D23:E23),LARGE(D23:F23,2)))),998))
A24: =IF(startovka!A24="","",startovka!A24) | B24: =IF(startovka!B24="","",startovka!B24) | C24: 1pokus | H24: =IF(B24="","",IF(G24="",IF(SUM(D$4:F$583)=0,"",IF(SUM(D24:F24)=0,999,IF(F24="",MAX(D24:E24),LARGE(D24:F24,2)))),998)) | I24: =IF(B24="","",výpočty!I24)
C25: 2pokus | H25: =IF(B24="","",IF(G25="",IF(SUM(D$4:F$83)=0,"",IF(SUM(D25:F25)=0,999,IF(F25="",MAX(D25:E25),LARGE(D25:F25,2)))),998))
A26: =IF(startovka!A26="","",startovka!A26) | B26: =IF(startovka!B26="","",startovka!B26) | C26: 1pokus | H26: =IF(B26="","",IF(G26="",IF(SUM(D$4:F$583)=0,"",IF(SUM(D26:F26)=0,999,IF(F26="",MAX(D26:E26),LARGE(D26:F26,2)))),998)) | I26: =IF(B26="","",výpočty!I26)
C27: 2pokus | H27: =IF(B26="","",IF(G27="",IF(SUM(D$4:F$83)=0,"",IF(SUM(D27:F27)=0,999,IF(F27="",MAX(D27:E27),LARGE(D27:F27,2)))),998))
A28: =IF(startovka!A28="","",startovka!A28) | B28: =IF(startovka!B28="","",startovka!B28) | C28: 1pokus | H28: =IF(B28="","",IF(G28="",IF(SUM(D$4:F$583)=0,"",IF(SUM(D28:F28)=0,999,IF(F28="",MAX(D28:E28),LARGE(D28:F28,2)))),998)) | I28: =IF(B28="","",výpočty!I28)
C29: 2pokus | H29: =IF(B28="","",IF(G29="",IF(SUM(D$4:F$83)=0,"",IF(SUM(D29:F29)=0,999,IF(F29="",MAX(D29:E29),LARGE(D29:F29,2)))),998))
A30: =IF(startovka!A30="","",startovka!A30) | B30: =IF(startovka!B30="","",startovka!B30) | C30: 1pokus | H30: =IF(B30="","",IF(G30="",IF(SUM(D$4:F$583)=0,"",IF(SUM(D30:F30)=0,999,IF(F30="",MAX(D30:E30),LARGE(D30:F30,2)))),998)) | I30: =IF(B30="","",výpočty!I30)
C31: 2pokus | H31: =IF(B30="","",IF(G31="",IF(SUM(D$4:F$83)=0,"",IF(SUM(D31:F31)=0,999,IF(F31="",MAX(D31:E31),LARGE(D31:F31,2)))),998))
A32: =IF(startovka!A32="","",startovka!A32) | B32: =IF(startovka!B32="","",startovka!B32) | C32: 1pokus | H32: =IF(B32="","",IF(G32="",IF(SUM(D$4:F$583)=0,"",IF(SUM(D32:F32)=0,999,IF(F32="",MAX(D32:E32),LARGE(D32:F32,2)))),998)) | I32: =IF(B32="","",výpočty!I32)
C33: 2pokus | H33: =IF(B32="","",IF(G33="",IF(SUM(D$4:F$83)=0,"",IF(SUM(D33:F33)=0,999,IF(F33="",MAX(D33:E33),LARGE(D33:F33,2)))),998))
A34: =IF(startovka!A34="","",startovka!A34) | B34: =IF(startovka!B34="","",startovka!B34) | C34: 1pokus | H34: =IF(B34="","",IF(G34="",IF(SUM(D$4:F$583)=0,"",IF(SUM(D34:F34)=0,999,IF(F34="",MAX(D34:E34),LARGE(D34:F34,2)))),998)) | I34: =IF(B34="","",výpočty!I34)
C35: 2pokus | H35: =IF(B34="","",IF(G35="",IF(SUM(D$4:F$83)=0,"",IF(SUM(D35:F35)=0,999,IF(F35="",MAX(D35:E35),LARGE(D35:F35,2)))),998))
A36: =IF(startovka!A36="","",startovka!A36) | B36: =IF(startovka!B36="","",startovka!B36) | C36: 1pokus | H36: =IF(B36="","",IF(G36="",IF(SUM(D$4:F$583)=0,"",IF(SUM(D36:F36)=0,999,IF(F36="",MAX(D36:E36),LARGE(D36:F36,2)))),998)) | I36: =IF(B36="","",výpočty!I36)
C37: 2pokus | H37: =IF(B36="","",IF(G37="",IF(SUM(D$4:F$83)=0,"",IF(SUM(D37:F37)=0,999,IF(F37="",MAX(D37:E37),LARGE(D37:F37,2)))),998))
A38: =IF(startovka!A38="","",startovka!A38) | B38: =IF(startovka!B38="","",startovka!B38) | C38: 1pokus | H38: =IF(B38="","",IF(G38="",IF(SUM(D$4:F$583)=0,"",IF(SUM(D38:F38)=0,999,IF(F38="",MAX(D38:E38),LARGE(D38:F38,2)))),998)) | I38: =IF(B38="","",výpočty!I38)
C39: 2pokus | H39: =IF(B38="","",IF(G39="",IF(SUM(D$4:F$83)=0,"",IF(SUM(D39:F39)=0,999,IF(F39="",MAX(D39:E39),LARGE(D39:F39,2)))),998))
A40: =IF(startovka!A40="","",startovka!A40) | B40: =IF(startovka!B40="","",startovka!B40) | C40: 1pokus | H40: =IF(B40="","",IF(G40="",IF(SUM(D$4:F$583)=0,"",IF(SUM(D40:F40)=0,999,IF(F40="",MAX(D40:E40),LARGE(D40:F40,2)))),998)) | I40: =IF(B40="","",výpočty!I40)
...

Sheet štafeta CTIF
A1: štafeta CTIF | D1: Časy na trati | H1: Trestné body | L1: Výsledek disciplíny
A2: =startovka!B2 -> Kategorie: mladší | D2: I. Časoměřič, nebo el. měření | E2: II. časoměřič | F2: III. časoměřič | G2: úřední čas | H2: Nespravné spojení koncovek 10TB | I2: Nesprávné překonání překážky, nesprávně provedený úkon 10TB | J2: Vyšlápnutí z dráhy oběma nohama 10TB | K2: Nepřenesení proudnice přes cíl 20TB | L2: Důvod neplatnosti pokusu | M2: =IF(SUM(E4:G83)=0,"čas ukončení pokusu", "Výsledný čas pokusu") -> Výsledný čas pokusu | N2: počet bodů za umístění
A3: Start. číslo | B3: Soutěžní družstvo | C3: pokus
A4: =IF(startovka!A4="","",startovka!A4) -> 1 | B4: =IF(startovka!B4="","",startovka!B4) -> Frenštát p. R. | C4: 1pokus | D4: 114.376 | G4: =IF(B4="","",IF(SUM(D$4:F$583)=0,"",IF(D4="",999,IF(F4="",MAX(D4:E4),LARGE(D4:F4,2))))) -> 114.376 | M4: =IF(G4="","",IF(L4="",IF(G4=999,999,SUM(G4:K4)),998)) -> 114.376 | N4: =IF(B4="","",výpočty!L4) -> 4
C5: 2pokus | D5: 113.767 | G5: =IF(B4="","",IF(SUM(D$4:F$583)=0,"",IF(D5="",999,IF(F5="",MAX(D5:E5),LARGE(D5:F5,2))))) -> 113.767 | M5: =IF(G5="","",IF(L5="",IF(G5=999,999,SUM(G5:K5)),998)) -> 113.767
A6: =IF(startovka!A6="","",startovka!A6) -> 2 | B6: =IF(startovka!B6="","",startovka!B6) -> Tísek "A" | C6: 1pokus | D6: 100.531 | G6: =IF(B6="","",IF(SUM(D$4:F$583)=0,"",IF(D6="",999,IF(F6="",MAX(D6:E6),LARGE(D6:F6,2))))) -> 100.531 | M6: =IF(G6="","",IF(L6="",IF(G6=999,999,SUM(G6:K6)),998)) -> 100.531 | N6: =IF(B6="","",výpočty!L6) -> 3
C7: 2pokus | D7: 100.112 | G7: =IF(B6="","",IF(SUM(D$4:F$583)=0,"",IF(D7="",999,IF(F7="",MAX(D7:E7),LARGE(D7:F7,2))))) -> 100.112 | M7: =IF(G7="","",IF(L7="",IF(G7=999,999,SUM(G7:K7)),998)) -> 100.112
A8: =IF(startovka!A8="","",startovka!A8) -> 3 | B8: =IF(startovka!B8="","",startovka!B8) -> Mniší | C8: 1pokus | D8: 93.42 | G8: =IF(B8="","",IF(SUM(D$4:F$583)=0,"",IF(D8="",999,IF(F8="",MAX(D8:E8),LARGE(D8:F8,2))))) -> 93.42 | M8: =IF(G8="","",IF(L8="",IF(G8=999,999,SUM(G8:K8)),998)) -> 93.42 | N8: =IF(B8="","",výpočty!L8) -> 1
C9: 2pokus | D9: 91.311 | G9: =IF(B8="","",IF(SUM(D$4:F$583)=0,"",IF(D9="",999,IF(F9="",MAX(D9:E9),LARGE(D9:F9,2))))) -> 91.311 | M9: =IF(G9="","",IF(L9="",IF(G9=999,999,SUM(G9:K9)),998)) -> 91.311
A10: =IF(startovka!A10="","",startovka!A10) -> 4 | B10: =IF(startovka!B10="","",startovka!B10) -> Hájov | C10: 1pokus | D10: 99.218 | G10: =IF(B10="","",IF(SUM(D$4:F$583)=0,"",IF(D10="",999,IF(F10="",MAX(D10:E10),LARGE(D10:F10,2))))) -> 99.218 | M10: =IF(G10="","",IF(L10="",IF(G10=999,999,SUM(G10:K10)),998)) -> 99.218 | N10: =IF(B10="","",výpočty!L10) -> 2
C11: 2pokus | D11: 94.769 | G11: =IF(B10="","",IF(SUM(D$4:F$583)=0,"",IF(D11="",999,IF(F11="",MAX(D11:E11),LARGE(D11:F11,2))))) -> 94.769 | M11: =IF(G11="","",IF(L11="",IF(G11=999,999,SUM(G11:K11)),998)) -> 94.769
A12: =IF(startovka!A12="","",startovka!A12) -> 5 | B12: =IF(startovka!B12="","",startovka!B12) -> Tísek "B" | C12: 1pokus | D12: 134.657 | G12: =IF(B12="","",IF(SUM(D$4:F$583)=0,"",IF(D12="",999,IF(F12="",MAX(D12:E12),LARGE(D12:F12,2))))) -> 134.657 | M12: =IF(G12="","",IF(L12="",IF(G12=999,999,SUM(G12:K12)),998)) -> 134.657 | N12: =IF(B12="","",výpočty!L12) -> 5
C13: 2pokus | D13: 129.773 | G13: =IF(B12="","",IF(SUM(D$4:F$583)=0,"",IF(D13="",999,IF(F13="",MAX(D13:E13),LARGE(D13:F13,2))))) -> 129.773 | M13: =IF(G13="","",IF(L13="",IF(G13=999,999,SUM(G13:K13)),998)) -> 129.773
A14: =IF(startovka!A14="","",startovka!A14) | B14: =IF(startovka!B14="","",startovka!B14) | C14: 1pokus | G14: =IF(B14="","",IF(SUM(D$4:F$583)=0,"",IF(D14="",999,IF(F14="",MAX(D14:E14),LARGE(D14:F14,2))))) | M14: =IF(G14="","",IF(L14="",IF(G14=999,999,SUM(G14:K14)),998)) | N14: =IF(B14="","",výpočty!L14)
C15: 2pokus | G15: =IF(B14="","",IF(SUM(D$4:F$583)=0,"",IF(D15="",999,IF(F15="",MAX(D15:E15),LARGE(D15:F15,2))))) | M15: =IF(G15="","",IF(L15="",IF(G15=999,999,SUM(G15:K15)),998))
A16: =IF(startovka!A16="","",startovka!A16) | B16: =IF(startovka!B16="","",startovka!B16) | C16: 1pokus | G16: =IF(B16="","",IF(SUM(D$4:F$583)=0,"",IF(D16="",999,IF(F16="",MAX(D16:E16),LARGE(D16:F16,2))))) | M16: =IF(G16="","",IF(L16="",IF(G16=999,999,SUM(G16:K16)),998)) | N16: =IF(B16="","",výpočty!L16)
C17: 2pokus | G17: =IF(B16="","",IF(SUM(D$4:F$583)=0,"",IF(D17="",999,IF(F17="",MAX(D17:E17),LARGE(D17:F17,2))))) | M17: =IF(G17="","",IF(L17="",IF(G17=999,999,SUM(G17:K17)),998))
A18: =IF(startovka!A18="","",startovka!A18) | B18: =IF(startovka!B18="","",startovka!B18) | C18: 1pokus | G18: =IF(B18="","",IF(SUM(D$4:F$583)=0,"",IF(D18="",999,IF(F18="",MAX(D18:E18),LARGE(D18:F18,2))))) | M18: =IF(G18="","",IF(L18="",IF(G18=999,999,SUM(G18:K18)),998)) | N18: =IF(B18="","",výpočty!L18)
C19: 2pokus | G19: =IF(B18="","",IF(SUM(D$4:F$583)=0,"",IF(D19="",999,IF(F19="",MAX(D19:E19),LARGE(D19:F19,2))))) | M19: =IF(G19="","",IF(L19="",IF(G19=999,999,SUM(G19:K19)),998))
A20: =IF(startovka!A20="","",startovka!A20) | B20: =IF(startovka!B20="","",startovka!B20) | C20: 1pokus | G20: =IF(B20="","",IF(SUM(D$4:F$583)=0,"",IF(D20="",999,IF(F20="",MAX(D20:E20),LARGE(D20:F20,2))))) | M20: =IF(G20="","",IF(L20="",IF(G20=999,999,SUM(G20:K20)),998)) | N20: =IF(B20="","",výpočty!L20)
C21: 2pokus | G21: =IF(B20="","",IF(SUM(D$4:F$583)=0,"",IF(D21="",999,IF(F21="",MAX(D21:E21),LARGE(D21:F21,2))))) | M21: =IF(G21="","",IF(L21="",IF(G21=999,999,SUM(G21:K21)),998))
A22: =IF(startovka!A22="","",startovka!A22) | B22: =IF(startovka!B22="","",startovka!B22) | C22: 1pokus | G22: =IF(B22="","",IF(SUM(D$4:F$583)=0,"",IF(D22="",999,IF(F22="",MAX(D22:E22),LARGE(D22:F22,2))))) | M22: =IF(G22="","",IF(L22="",IF(G22=999,999,SUM(G22:K22)),998)) | N22: =IF(B22="","",výpočty!L22)
C23: 2pokus | G23: =IF(B22="","",IF(SUM(D$4:F$583)=0,"",IF(D23="",999,IF(F23="",MAX(D23:E23),LARGE(D23:F23,2))))) | M23: =IF(G23="","",IF(L23="",IF(G23=999,999,SUM(G23:K23)),998))
A24: =IF(startovka!A24="","",startovka!A24) | B24: =IF(startovka!B24="","",startovka!B24) | C24: 1pokus | G24: =IF(B24="","",IF(SUM(D$4:F$583)=0,"",IF(D24="",999,IF(F24="",MAX(D24:E24),LARGE(D24:F24,2))))) | M24: =IF(G24="","",IF(L24="",IF(G24=999,999,SUM(G24:K24)),998)) | N24: =IF(B24="","",výpočty!L24)
C25: 2pokus | G25: =IF(B24="","",IF(SUM(D$4:F$583)=0,"",IF(D25="",999,IF(F25="",MAX(D25:E25),LARGE(D25:F25,2))))) | M25: =IF(G25="","",IF(L25="",IF(G25=999,999,SUM(G25:K25)),998))
A26: =IF(startovka!A26="","",startovka!A26) | B26: =IF(startovka!B26="","",startovka!B26) | C26: 1pokus | G26: =IF(B26="","",IF(SUM(D$4:F$583)=0,"",IF(D26="",999,IF(F26="",MAX(D26:E26),LARGE(D26:F26,2))))) | M26: =IF(G26="","",IF(L26="",IF(G26=999,999,SUM(G26:K26)),998)) | N26: =IF(B26="","",výpočty!L26)
C27: 2pokus | G27: =IF(B26="","",IF(SUM(D$4:F$583)=0,"",IF(D27="",999,IF(F27="",MAX(D27:E27),LARGE(D27:F27,2))))) | M27: =IF(G27="","",IF(L27="",IF(G27=999,999,SUM(G27:K27)),998))
A28: =IF(startovka!A28="","",startovka!A28) | B28: =IF(startovka!B28="","",startovka!B28) | C28: 1pokus | G28: =IF(B28="","",IF(SUM(D$4:F$583)=0,"",IF(D28="",999,IF(F28="",MAX(D28:E28),LARGE(D28:F28,2))))) | M28: =IF(G28="","",IF(L28="",IF(G28=999,999,SUM(G28:K28)),998)) | N28: =IF(B28="","",výpočty!L28)
C29: 2pokus | G29: =IF(B28="","",IF(SUM(D$4:F$583)=0,"",IF(D29="",999,IF(F29="",MAX(D29:E29),LARGE(D29:F29,2))))) | M29: =IF(G29="","",IF(L29="",IF(G29=999,999,SUM(G29:K29)),998))
A30: =IF(startovka!A30="","",startovka!A30) | B30: =IF(startovka!B30="","",startovka!B30) | C30: 1pokus | G30: =IF(B30="","",IF(SUM(D$4:F$583)=0,"",IF(D30="",999,IF(F30="",MAX(D30:E30),LARGE(D30:F30,2))))) | M30: =IF(G30="","",IF(L30="",IF(G30=999,999,SUM(G30:K30)),998)) | N30: =IF(B30="","",výpočty!L30)
C31: 2pokus | G31: =IF(B30="","",IF(SUM(D$4:F$583)=0,"",IF(D31="",999,IF(F31="",MAX(D31:E31),LARGE(D31:F31,2))))) | M31: =IF(G31="","",IF(L31="",IF(G31=999,999,SUM(G31:K31)),998))
A32: =IF(startovka!A32="","",startovka!A32) | B32: =IF(startovka!B32="","",startovka!B32) | C32: 1pokus | G32: =IF(B32="","",IF(SUM(D$4:F$583)=0,"",IF(D32="",999,IF(F32="",MAX(D32:E32),LARGE(D32:F32,2))))) | M32: =IF(G32="","",IF(L32="",IF(G32=999,999,SUM(G32:K32)),998)) | N32: =IF(B32="","",výpočty!L32)
C33: 2pokus | G33: =IF(B32="","",IF(SUM(D$4:F$583)=0,"",IF(D33="",999,IF(F33="",MAX(D33:E33),LARGE(D33:F33,2))))) | M33: =IF(G33="","",IF(L33="",IF(G33=999,999,SUM(G33:K33)),998))
A34: =IF(startovka!A34="","",startovka!A34) | B34: =IF(startovka!B34="","",startovka!B34) | C34: 1pokus | G34: =IF(B34="","",IF(SUM(D$4:F$583)=0,"",IF(D34="",999,IF(F34="",MAX(D34:E34),LARGE(D34:F34,2))))) | M34: =IF(G34="","",IF(L34="",IF(G34=999,999,SUM(G34:K34)),998)) | N34: =IF(B34="","",výpočty!L34)
C35: 2pokus | G35: =IF(B34="","",IF(SUM(D$4:F$583)=0,"",IF(D35="",999,IF(F35="",MAX(D35:E35),LARGE(D35:F35,2))))) | M35: =IF(G35="","",IF(L35="",IF(G35=999,999,SUM(G35:K35)),998))
A36: =IF(startovka!A36="","",startovka!A36) | B36: =IF(startovka!B36="","",startovka!B36) | C36: 1pokus | G36: =IF(B36="","",IF(SUM(D$4:F$583)=0,"",IF(D36="",999,IF(F36="",MAX(D36:E36),LARGE(D36:F36,2))))) | M36: =IF(G36="","",IF(L36="",IF(G36=999,999,SUM(G36:K36)),998)) | N36: =IF(B36="","",výpočty!L36)
C37: 2pokus | G37: =IF(B36="","",IF(SUM(D$4:F$583)=0,"",IF(D37="",999,IF(F37="",MAX(D37:E37),LARGE(D37:F37,2))))) | M37: =IF(G37="","",IF(L37="",IF(G37=999,999,SUM(G37:K37)),998))
A38: =IF(startovka!A38="","",startovka!A38) | B38: =IF(startovka!B38="","",startovka!B38) | C38: 1pokus | G38: =IF(B38="","",IF(SUM(D$4:F$583)=0,"",IF(D38="",999,IF(F38="",MAX(D38:E38),LARGE(D38:F38,2))))) | M38: =IF(G38="","",IF(L38="",IF(G38=999,999,SUM(G38:K38)),998)) | N38: =IF(B38="","",výpočty!L38)
C39: 2pokus | G39: =IF(B38="","",IF(SUM(D$4:F$583)=0,"",IF(D39="",999,IF(F39="",MAX(D39:E39),LARGE(D39:F39,2))))) | M39: =IF(G39="","",IF(L39="",IF(G39=999,999,SUM(G39:K39)),998))
A40: =IF(startovka!A40="","",startovka!A40) | B40: =IF(startovka!B40="","",startovka!B40) | C40: 1pokus | G40: =IF(B40="","",IF(SUM(D$4:F$583)=0,"",IF(D40="",999,IF(F40="",MAX(D40:E40),LARGE(D40:F40,2))))) | M40: =IF(G40="","",IF(L40="",IF(G40=999,999,SUM(G40:K40)),998)) | N40: =IF(B40="","",výpočty!L40)
...

Sheet štafeta dvojic
A1: ŠTAFETA POŽÁRNÍCH DVOJIC | D1: Základem je čas naměřeny od vydání signálu startéra do proběhnutí posledního člena cílem | H1: K úřednímu času se připočítavají trest. sekundy - za každý případ 10 sekund. | S1: Důvod neplatnosti pokusu (1-6 nebo slovně) | T1: Výsledek soutěže
A2: =startovka!B2 -> Kategorie: mladší | D2: I. časoměřič | E2: II. časoměřič | F2: III. časoměřič | G2: úřední čas | H2: Předčasné vyběhnutí | I2: Nesvinutí rozpadlého kotouče | J2: Nerozložení hadice (proudnice na čáru | K2: Nesprávné napojení hadice nebo proudnice | L2: Nesprávné rozvinutí hadice u hydrantu | M2: Nesprávné oběhnutí nebo neoběhnutí mety | N2: Neúplné svinutí hadice | O2: Hození hadice, koncovky nebo proudnice | P2: Chození po nesprávné straně | Q2: Nesprávné svinutí hadice | R2: Nesprávné odpojení hadice, proudnice | T2: =IF(SUM(D4:F83)=0,"čas ukončení pokusu", "Výsledný čas pokusu") -> Výsledný čas pokusu | U2: počet bodů za umístění
A3: Start. číslo | B3: Soutěžní družstvo | C3: pokus
A4: =IF(startovka!A4="","",startovka!A4) -> 1 | B4: =IF(startovka!B4="","",startovka!B4) -> Frenštát p. R. | C4: 1pokus | D4: 94.91 | E4: 94.09 | F4: 95 | G4: =IF(B4="","",IF(SUM(D$4:F$500)=0,"",IF(D4="",999,IF(F4="",MAX(D4:E4),LARGE(D4:F4,2))))) -> 94.91 | Q4: 10 | T4: =IF(G4="","",IF(S4="",SUM(G4:R4),998)) -> 104.91 | U4: =IF(B4="","",výpočty!O4) -> 4
C5: 2pokus | D5: 75.53 | E5: 75.55 | F5: 75.7 | G5: =IF(B4="","",IF(SUM(D$4:F$500)=0,"",IF(D5="",999,IF(F5="",MAX(D5:E5),LARGE(D5:F5,2))))) -> 75.55 | T5: =IF(G5="","",IF(S5="",SUM(G5:R5),998)) -> 75.55
A6: =IF(startovka!A6="","",startovka!A6) -> 2 | B6: =IF(startovka!B6="","",startovka!B6) -> Tísek "A" | C6: 1pokus | D6: 71.41 | E6: 71.73 | F6: 71.75 | G6: =IF(B6="","",IF(SUM(D$4:F$500)=0,"",IF(D6="",999,IF(F6="",MAX(D6:E6),LARGE(D6:F6,2))))) -> 71.73 | T6: =IF(G6="","",IF(S6="",SUM(G6:R6),998)) -> 71.73 | U6: =IF(B6="","",výpočty!O6) -> 3
C7: 2pokus | D7: 74.87 | E7: 74.95 | F7: 75.06 | G7: =IF(B6="","",IF(SUM(D$4:F$500)=0,"",IF(D7="",999,IF(F7="",MAX(D7:E7),LARGE(D7:F7,2))))) -> 74.95 | T7: =IF(G7="","",IF(S7="",SUM(G7:R7),998)) -> 74.95
A8: =IF(startovka!A8="","",startovka!A8) -> 3 | B8: =IF(startovka!B8="","",startovka!B8) -> Mniší | C8: 1pokus | D8: 71.29 | E8: 71.35 | F8: 71.35 | G8: =IF(B8="","",IF(SUM(D$4:F$500)=0,"",IF(D8="",999,IF(F8="",MAX(D8:E8),LARGE(D8:F8,2))))) -> 71.35 | T8: =IF(G8="","",IF(S8="",SUM(G8:R8),998)) -> 71.35 | U8: =IF(B8="","",výpočty!O8) -> 2
C9: 2pokus | D9: 67.69 | E9: 68.08 | F9: 67.95 | G9: =IF(B8="","",IF(SUM(D$4:F$500)=0,"",IF(D9="",999,IF(F9="",MAX(D9:E9),LARGE(D9:F9,2))))) -> 67.95 | T9: =IF(G9="","",IF(S9="",SUM(G9:R9),998)) -> 67.95
A10: =IF(startovka!A10="","",startovka!A10) -> 4 | B10: =IF(startovka!B10="","",startovka!B10) -> Hájov | C10: 1pokus | D10: 68.6 | E10: 68.83 | F10: 68.84 | G10: =IF(B10="","",IF(SUM(D$4:F$500)=0,"",IF(D10="",999,IF(F10="",MAX(D10:E10),LARGE(D10:F10,2))))) -> 68.83 | T10: =IF(G10="","",IF(S10="",SUM(G10:R10),998)) -> 68.83 | U10: =IF(B10="","",výpočty!O10) -> 1
C11: 2pokus | D11: 66.65 | E11: 66.7 | F11: 66.66 | G11: =IF(B10="","",IF(SUM(D$4:F$500)=0,"",IF(D11="",999,IF(F11="",MAX(D11:E11),LARGE(D11:F11,2))))) -> 66.66 | T11: =IF(G11="","",IF(S11="",SUM(G11:R11),998)) -> 66.66
A12: =IF(startovka!A12="","",startovka!A12) -> 5 | B12: =IF(startovka!B12="","",startovka!B12) -> Tísek "B" | C12: 1pokus | D12: 121.02 | E12: 121.46 | F12: 121.28 | G12: =IF(B12="","",IF(SUM(D$4:F$500)=0,"",IF(D12="",999,IF(F12="",MAX(D12:E12),LARGE(D12:F12,2))))) -> 121.28 | P12: 10 | T12: =IF(G12="","",IF(S12="",SUM(G12:R12),998)) -> 131.28 | U12: =IF(B12="","",výpočty!O12) -> 5
C13: 2pokus | D13: 119.31 | E13: 119.25 | F13: 119.37 | G13: =IF(B12="","",IF(SUM(D$4:F$500)=0,"",IF(D13="",999,IF(F13="",MAX(D13:E13),LARGE(D13:F13,2))))) -> 119.31 | T13: =IF(G13="","",IF(S13="",SUM(G13:R13),998)) -> 119.31
A14: =IF(startovka!A14="","",startovka!A14) | B14: =IF(startovka!B14="","",startovka!B14) | C14: 1pokus | G14: =IF(B14="","",IF(SUM(D$4:F$500)=0,"",IF(D14="",999,IF(F14="",MAX(D14:E14),LARGE(D14:F14,2))))) | T14: =IF(G14="","",IF(S14="",SUM(G14:R14),998)) | U14: =IF(B14="","",výpočty!O14)
C15: 2pokus | G15: =IF(B14="","",IF(SUM(D$4:F$500)=0,"",IF(D15="",999,IF(F15="",MAX(D15:E15),LARGE(D15:F15,2))))) | T15: =IF(G15="","",IF(S15="",SUM(G15:R15),998))
A16: =IF(startovka!A16="","",startovka!A16) | B16: =IF(startovka!B16="","",startovka!B16) | C16: 1pokus | G16: =IF(B16="","",IF(SUM(D$4:F$500)=0,"",IF(D16="",999,IF(F16="",MAX(D16:E16),LARGE(D16:F16,2))))) | T16: =IF(G16="","",IF(S16="",SUM(G16:R16),998)) | U16: =IF(B16="","",výpočty!O16)
C17: 2pokus | G17: =IF(B16="","",IF(SUM(D$4:F$500)=0,"",IF(D17="",999,IF(F17="",MAX(D17:E17),LARGE(D17:F17,2))))) | T17: =IF(G17="","",IF(S17="",SUM(G17:R17),998))
A18: =IF(startovka!A18="","",startovka!A18) | B18: =IF(startovka!B18="","",startovka!B18) | C18: 1pokus | G18: =IF(B18="","",IF(SUM(D$4:F$500)=0,"",IF(D18="",999,IF(F18="",MAX(D18:E18),LARGE(D18:F18,2))))) | T18: =IF(G18="","",IF(S18="",SUM(G18:R18),998)) | U18: =IF(B18="","",výpočty!O18)
C19: 2pokus | G19: =IF(B18="","",IF(SUM(D$4:F$500)=0,"",IF(D19="",999,IF(F19="",MAX(D19:E19),LARGE(D19:F19,2))))) | T19: =IF(G19="","",IF(S19="",SUM(G19:R19),998))
A20: =IF(startovka!A20="","",startovka!A20) | B20: =IF(startovka!B20="","",startovka!B20) | C20: 1pokus | G20: =IF(B20="","",IF(SUM(D$4:F$500)=0,"",IF(D20="",999,IF(F20="",MAX(D20:E20),LARGE(D20:F20,2))))) | T20: =IF(G20="","",IF(S20="",SUM(G20:R20),998)) | U20: =IF(B20="","",výpočty!O20)
C21: 2pokus | G21: =IF(B20="","",IF(SUM(D$4:F$500)=0,"",IF(D21="",999,IF(F21="",MAX(D21:E21),LARGE(D21:F21,2))))) | T21: =IF(G21="","",IF(S21="",SUM(G21:R21),998))
A22: =IF(startovka!A22="","",startovka!A22) | B22: =IF(startovka!B22="","",startovka!B22) | C22: 1pokus | G22: =IF(B22="","",IF(SUM(D$4:F$500)=0,"",IF(D22="",999,IF(F22="",MAX(D22:E22),LARGE(D22:F22,2))))) | T22: =IF(G22="","",IF(S22="",SUM(G22:R22),998)) | U22: =IF(B22="","",výpočty!O22)
C23: 2pokus | G23: =IF(B22="","",IF(SUM(D$4:F$500)=0,"",IF(D23="",999,IF(F23="",MAX(D23:E23),LARGE(D23:F23,2))))) | T23: =IF(G23="","",IF(S23="",SUM(G23:R23),998))
A24: =IF(startovka!A24="","",startovka!A24) | B24: =IF(startovka!B24="","",startovka!B24) | C24: 1pokus | G24: =IF(B24="","",IF(SUM(D$4:F$500)=0,"",IF(D24="",999,IF(F24="",MAX(D24:E24),LARGE(D24:F24,2))))) | T24: =IF(G24="","",IF(S24="",SUM(G24:R24),998)) | U24: =IF(B24="","",výpočty!O24)
C25: 2pokus | G25: =IF(B24="","",IF(SUM(D$4:F$500)=0,"",IF(D25="",999,IF(F25="",MAX(D25:E25),LARGE(D25:F25,2))))) | T25: =IF(G25="","",IF(S25="",SUM(G25:R25),998))
A26: =IF(startovka!A26="","",startovka!A26) | B26: =IF(startovka!B26="","",startovka!B26) | C26: 1pokus | G26: =IF(B26="","",IF(SUM(D$4:F$500)=0,"",IF(D26="",999,IF(F26="",MAX(D26:E26),LARGE(D26:F26,2))))) | T26: =IF(G26="","",IF(S26="",SUM(G26:R26),998)) | U26: =IF(B26="","",výpočty!O26)
C27: 2pokus | G27: =IF(B26="","",IF(SUM(D$4:F$500)=0,"",IF(D27="",999,IF(F27="",MAX(D27:E27),LARGE(D27:F27,2))))) | T27: =IF(G27="","",IF(S27="",SUM(G27:R27),998))
A28: =IF(startovka!A28="","",startovka!A28) | B28: =IF(startovka!B28="","",startovka!B28) | C28: 1pokus | G28: =IF(B28="","",IF(SUM(D$4:F$500)=0,"",IF(D28="",999,IF(F28="",MAX(D28:E28),LARGE(D28:F28,2))))) | T28: =IF(G28="","",IF(S28="",SUM(G28:R28),998)) | U28: =IF(B28="","",výpočty!O28)
C29: 2pokus | G29: =IF(B28="","",IF(SUM(D$4:F$500)=0,"",IF(D29="",999,IF(F29="",MAX(D29:E29),LARGE(D29:F29,2))))) | T29: =IF(G29="","",IF(S29="",SUM(G29:R29),998))
A30: =IF(startovka!A30="","",startovka!A30) | B30: =IF(startovka!B30="","",startovka!B30) | C30: 1pokus | G30: =IF(B30="","",IF(SUM(D$4:F$500)=0,"",IF(D30="",999,IF(F30="",MAX(D30:E30),LARGE(D30:F30,2))))) | T30: =IF(G30="","",IF(S30="",SUM(G30:R30),998)) | U30: =IF(B30="","",výpočty!O30)
C31: 2pokus | G31: =IF(B30="","",IF(SUM(D$4:F$500)=0,"",IF(D31="",999,IF(F31="",MAX(D31:E31),LARGE(D31:F31,2))))) | T31: =IF(G31="","",IF(S31="",SUM(G31:R31),998))
A32: =IF(startovka!A32="","",startovka!A32) | B32: =IF(startovka!B32="","",startovka!B32) | C32: 1pokus | G32: =IF(B32="","",IF(SUM(D$4:F$500)=0,"",IF(D32="",999,IF(F32="",MAX(D32:E32),LARGE(D32:F32,2))))) | T32: =IF(G32="","",IF(S32="",SUM(G32:R32),998)) | U32: =IF(B32="","",výpočty!O32)
C33: 2pokus | G33: =IF(B32="","",IF(SUM(D$4:F$500)=0,"",IF(D33="",999,IF(F33="",MAX(D33:E33),LARGE(D33:F33,2))))) | T33: =IF(G33="","",IF(S33="",SUM(G33:R33),998))
A34: =IF(startovka!A34="","",startovka!A34) | B34: =IF(startovka!B34="","",startovka!B34) | C34: 1pokus | G34: =IF(B34="","",IF(SUM(D$4:F$500)=0,"",IF(D34="",999,IF(F34="",MAX(D34:E34),LARGE(D34:F34,2))))) | T34: =IF(G34="","",IF(S34="",SUM(G34:R34),998)) | U34: =IF(B34="","",výpočty!O34)
C35: 2pokus | G35: =IF(B34="","",IF(SUM(D$4:F$500)=0,"",IF(D35="",999,IF(F35="",MAX(D35:E35),LARGE(D35:F35,2))))) | T35: =IF(G35="","",IF(S35="",SUM(G35:R35),998))
A36: =IF(startovka!A36="","",startovka!A36) | B36: =IF(startovka!B36="","",startovka!B36) | C36: 1pokus | G36: =IF(B36="","",IF(SUM(D$4:F$500)=0,"",IF(D36="",999,IF(F36="",MAX(D36:E36),LARGE(D36:F36,2))))) | T36: =IF(G36="","",IF(S36="",SUM(G36:R36),998)) | U36: =IF(B36="","",výpočty!O36)
C37: 2pokus | G37: =IF(B36="","",IF(SUM(D$4:F$500)=0,"",IF(D37="",999,IF(F37="",MAX(D37:E37),LARGE(D37:F37,2))))) | T37: =IF(G37="","",IF(S37="",SUM(G37:R37),998))
A38: =IF(startovka!A38="","",startovka!A38) | B38: =IF(startovka!B38="","",startovka!B38) | C38: 1pokus | G38: =IF(B38="","",IF(SUM(D$4:F$500)=0,"",IF(D38="",999,IF(F38="",MAX(D38:E38),LARGE(D38:F38,2))))) | T38: =IF(G38="","",IF(S38="",SUM(G38:R38),998)) | U38: =IF(B38="","",výpočty!O38)
C39: 2pokus | G39: =IF(B38="","",IF(SUM(D$4:F$500)=0,"",IF(D39="",999,IF(F39="",MAX(D39:E39),LARGE(D39:F39,2))))) | T39: =IF(G39="","",IF(S39="",SUM(G39:R39),998))
A40: =IF(startovka!A40="","",startovka!A40) | B40: =IF(startovka!B40="","",startovka!B40) | C40: 1pokus | G40: =IF(B40="","",IF(SUM(D$4:F$500)=0,"",IF(D40="",999,IF(F40="",MAX(D40:E40),LARGE(D40:F40,2))))) | T40: =IF(G40="","",IF(S40="",SUM(G40:R40),998)) | U40: =IF(B40="","",výpočty!O40)
...

Sheet výsledky
A1: =CONCATENATE("plamen"," ",YEAR(TODAY())) -> plamen 2026 | P1: Součet bodů | Q1: pořadí
A2: startovní číslo | B2: =startovka!B2 -> Kategorie: mladší | C2: PÚ plamen | E2: Útok CTIF | H2: Štafeta 4x60 | J2: Štafeta CTIF | M2: Štafeta dvojic
B3: Družstvo | C3: časy | D3: pořadí | E3: časy | F3: TB | G3: pořadí | H3: časy | I3: pořadí | J3: časy | K3: TB | L3: pořadí | M3: časy | N3: TB | O3: pořadí
A4: =IF(startovka!A4="","",startovka!A4) -> 1 | B4: =IF(startovka!B4="","",startovka!B4) -> Frenštát p. R. | C4: =IF($B4="","",výpočty!C4) -> 20.77 | D4: =IF($B4="","",výpočty!D4) -> 3 | E4: =IF($B4="","",výpočty!E4) -> 86.63 | F4: =IF($B4="","",výpočty!F4) -> 0 | G4: =IF($B4="","",výpočty!G4) -> 4 | H4: =IF($B4="","",výpočty!H4) -> 72.769 | I4: =IF($B4="","",výpočty!I4) -> 4 | J4: =IF($B4="","",výpočty!J4) -> 114.376 | ... Q4: =IF($B4="","",výpočty!Q4) -> 4
C5: =IF($B4="","",výpočty!C5) -> 21.27 | E5: =IF($B4="","",výpočty!E5) -> 76.51 | F5: =IF($B4="","",výpočty!F5) -> 0 | H5: =IF($B4="","",výpočty!H5) -> 998 | J5: =IF($B4="","",výpočty!J5) -> 113.767 | K5: =IF($B4="","",výpočty!K5) -> 0 | M5: =IF($B4="","",výpočty!M5) -> 75.55 | N5: =IF($B4="","",výpočty!N5) -> 0
A6: =IF(startovka!A6="","",startovka!A6) -> 2 | B6: =IF(startovka!B6="","",startovka!B6) -> Tísek "A" | C6: =IF($B6="","",výpočty!C6) -> 33.32 | D6: =IF($B6="","",výpočty!D6) -> 4 | E6: =IF($B6="","",výpočty!E6) -> 78.16 | F6: =IF($B6="","",výpočty!F6) -> 20 | G6: =IF($B6="","",výpočty!G6) -> 3 | H6: =IF($B6="","",výpočty!H6) -> 998 | I6: =IF($B6="","",výpočty!I6) -> 3 | J6: =IF($B6="","",výpočty!J6) -> 100.531 | ... Q6: =IF($B6="","",výpočty!Q6) -> 3
C7: =IF($B6="","",výpočty!C7) -> 998 | E7: =IF($B6="","",výpočty!E7) -> 71.77 | F7: =IF($B6="","",výpočty!F7) -> 10 | H7: =IF($B6="","",výpočty!H7) -> 63.696 | J7: =IF($B6="","",výpočty!J7) -> 100.112 | K7: =IF($B6="","",výpočty!K7) -> 0 | M7: =IF($B6="","",výpočty!M7) -> 74.95 | N7: =IF($B6="","",výpočty!N7) -> 0
A8: =IF(startovka!A8="","",startovka!A8) -> 3 | B8: =IF(startovka!B8="","",startovka!B8) -> Mniší | C8: =IF($B8="","",výpočty!C8) -> 18.06 | D8: =IF($B8="","",výpočty!D8) -> 1 | E8: =IF($B8="","",výpočty!E8) -> 67.06 | F8: =IF($B8="","",výpočty!F8) -> 5 | G8: =IF($B8="","",výpočty!G8) -> 2 | H8: =IF($B8="","",výpočty!H8) -> 61.507 | I8: =IF($B8="","",výpočty!I8) -> 1 | J8: =IF($B8="","",výpočty!J8) -> 93.42 | ... Q8: =IF($B8="","",výpočty!Q8) -> 1
C9: =IF($B8="","",výpočty!C9) -> 16.94 | E9: =IF($B8="","",výpočty!E9) -> 55.07 | F9: =IF($B8="","",výpočty!F9) -> 0 | H9: =IF($B8="","",výpočty!H9) -> 51.497 | J9: =IF($B8="","",výpočty!J9) -> 91.311 | K9: =IF($B8="","",výpočty!K9) -> 0 | M9: =IF($B8="","",výpočty!M9) -> 67.95 | N9: =IF($B8="","",výpočty!N9) -> 0
A10: =IF(startovka!A10="","",startovka!A10) -> 4 | B10: =IF(startovka!B10="","",startovka!B10) -> Hájov | C10: =IF($B10="","",výpočty!C10) -> 20.75 | D10: =IF($B10="","",výpočty!D10) -> 2 | E10: =IF($B10="","",výpočty!E10) -> 52.43 | F10: =IF($B10="","",výpočty!F10) -> 0 | G10: =IF($B10="","",výpočty!G10) -> 1 | H10: =IF($B10="","",výpočty!H10) -> 998 | I10: =IF($B10="","",výpočty!I10) -> 2 | J10: =IF($B10="","",výpočty!J10) -> 99.218 | ... Q10: =IF($B10="","",výpočty!Q10) -> 2
C11: =IF($B10="","",výpočty!C11) -> 17.63 | E11: =IF($B10="","",výpočty!E11) -> 56.35 | F11: =IF($B10="","",výpočty!F11) -> 0 | H11: =IF($B10="","",výpočty!H11) -> 54.069 | J11: =IF($B10="","",výpočty!J11) -> 94.769 | K11: =IF($B10="","",výpočty!K11) -> 0 | M11: =IF($B10="","",výpočty!M11) -> 66.66 | N11: =IF($B10="","",výpočty!N11) -> 0
A12: =IF(startovka!A12="","",startovka!A12) -> 5 | B12: =IF(startovka!B12="","",startovka!B12) -> Tísek "B" | C12: =IF($B12="","",výpočty!C12) -> 110.33 | D12: =IF($B12="","",výpočty!D12) -> 5 | E12: =IF($B12="","",výpočty!E12) -> 106.18 | F12: =IF($B12="","",výpočty!F12) -> 20 | G12: =IF($B12="","",výpočty!G12) -> 5 | H12: =IF($B12="","",výpočty!H12) -> 81.823 | I12: =IF($B12="","",výpočty!I12) -> 5 | J12: =IF($B12="","",výpočty!J12) -> 134.657 | ... Q12: =IF($B12="","",výpočty!Q12) -> 5
C13: =IF($B12="","",výpočty!C13) -> 60.36 | E13: =IF($B12="","",výpočty!E13) -> 79.1 | F13: =IF($B12="","",výpočty!F13) -> 0 | H13: =IF($B12="","",výpočty!H13) -> 92.627 | J13: =IF($B12="","",výpočty!J13) -> 129.773 | K13: =IF($B12="","",výpočty!K13) -> 0 | M13: =IF($B12="","",výpočty!M13) -> 119.31 | N13: =IF($B12="","",výpočty!N13) -> 0
A14: =IF(startovka!A14="","",startovka!A14) | B14: =IF(startovka!B14="","",startovka!B14) | C14: =IF($B14="","",výpočty!C14) | D14: =IF($B14="","",výpočty!D14) | E14: =IF($B14="","",výpočty!E14) | F14: =IF($B14="","",výpočty!F14) | G14: =IF($B14="","",výpočty!G14) | H14: =IF($B14="","",výpočty!H14) | I14: =IF($B14="","",výpočty!I14) | J14: =IF($B14="","",výpočty!J14) | ... Q14: =IF($B14="","",výpočty!Q14)
C15: =IF($B14="","",výpočty!C15) | E15: =IF($B14="","",výpočty!E15) | F15: =IF($B14="","",výpočty!F15) | H15: =IF($B14="","",výpočty!H15) | J15: =IF($B14="","",výpočty!J15) | K15: =IF($B14="","",výpočty!K15) | M15: =IF($B14="","",výpočty!M15) | N15: =IF($B14="","",výpočty!N15)
A16: =IF(startovka!A16="","",startovka!A16) | B16: =IF(startovka!B16="","",startovka!B16) | C16: =IF($B16="","",výpočty!C16) | D16: =IF($B16="","",výpočty!D16) | E16: =IF($B16="","",výpočty!E16) | F16: =IF($B16="","",výpočty!F16) | G16: =IF($B16="","",výpočty!G16) | H16: =IF($B16="","",výpočty!H16) | I16: =IF($B16="","",výpočty!I16) | J16: =IF($B16="","",výpočty!J16) | ... Q16: =IF($B16="","",výpočty!Q16)
C17: =IF($B16="","",výpočty!C17) | E17: =IF($B16="","",výpočty!E17) | F17: =IF($B16="","",výpočty!F17) | H17: =IF($B16="","",výpočty!H17) | J17: =IF($B16="","",výpočty!J17) | K17: =IF($B16="","",výpočty!K17) | M17: =IF($B16="","",výpočty!M17) | N17: =IF($B16="","",výpočty!N17)
A18: =IF(startovka!A18="","",startovka!A18) | B18: =IF(startovka!B18="","",startovka!B18) | C18: =IF($B18="","",výpočty!C18) | D18: =IF($B18="","",výpočty!D18) | E18: =IF($B18="","",výpočty!E18) | F18: =IF($B18="","",výpočty!F18) | G18: =IF($B18="","",výpočty!G18) | H18: =IF($B18="","",výpočty!H18) | I18: =IF($B18="","",výpočty!I18) | J18: =IF($B18="","",výpočty!J18) | ... Q18: =IF($B18="","",výpočty!Q18)
C19: =IF($B18="","",výpočty!C19) | E19: =IF($B18="","",výpočty!E19) | F19: =IF($B18="","",výpočty!F19) | H19: =IF($B18="","",výpočty!H19) | J19: =IF($B18="","",výpočty!J19) | K19: =IF($B18="","",výpočty!K19) | M19: =IF($B18="","",výpočty!M19) | N19: =IF($B18="","",výpočty!N19)
A20: =IF(startovka!A20="","",startovka!A20) | B20: =IF(startovka!B20="","",startovka!B20) | C20: =IF($B20="","",výpočty!C20) | D20: =IF($B20="","",výpočty!D20) | E20: =IF($B20="","",výpočty!E20) | F20: =IF($B20="","",výpočty!F20) | G20: =IF($B20="","",výpočty!G20) | H20: =IF($B20="","",výpočty!H20) | I20: =IF($B20="","",výpočty!I20) | J20: =IF($B20="","",výpočty!J20) | ... Q20: =IF($B20="","",výpočty!Q20)
C21: =IF($B20="","",výpočty!C21) | E21: =IF($B20="","",výpočty!E21) | F21: =IF($B20="","",výpočty!F21) | H21: =IF($B20="","",výpočty!H21) | J21: =IF($B20="","",výpočty!J21) | K21: =IF($B20="","",výpočty!K21) | M21: =IF($B20="","",výpočty!M21) | N21: =IF($B20="","",výpočty!N21)
A22: =IF(startovka!A22="","",startovka!A22) | B22: =IF(startovka!B22="","",startovka!B22) | C22: =IF($B22="","",výpočty!C22) | D22: =IF($B22="","",výpočty!D22) | E22: =IF($B22="","",výpočty!E22) | F22: =IF($B22="","",výpočty!F22) | G22: =IF($B22="","",výpočty!G22) | H22: =IF($B22="","",výpočty!H22) | I22: =IF($B22="","",výpočty!I22) | J22: =IF($B22="","",výpočty!J22) | ... Q22: =IF($B22="","",výpočty!Q22)
C23: =IF($B22="","",výpočty!C23) | E23: =IF($B22="","",výpočty!E23) | F23: =IF($B22="","",výpočty!F23) | H23: =IF($B22="","",výpočty!H23) | J23: =IF($B22="","",výpočty!J23) | K23: =IF($B22="","",výpočty!K23) | M23: =IF($B22="","",výpočty!M23) | N23: =IF($B22="","",výpočty!N23)
A24: =IF(startovka!A24="","",startovka!A24) | B24: =IF(startovka!B24="","",startovka!B24) | C24: =IF($B24="","",výpočty!C24) | D24: =IF($B24="","",výpočty!D24) | E24: =IF($B24="","",výpočty!E24) | F24: =IF($B24="","",výpočty!F24) | G24: =IF($B24="","",výpočty!G24) | H24: =IF($B24="","",výpočty!H24) | I24: =IF($B24="","",výpočty!I24) | J24: =IF($B24="","",výpočty!J24) | ... Q24: =IF($B24="","",výpočty!Q24)
C25: =IF($B24="","",výpočty!C25) | E25: =IF($B24="","",výpočty!E25) | F25: =IF($B24="","",výpočty!F25) | H25: =IF($B24="","",výpočty!H25) | J25: =IF($B24="","",výpočty!J25) | K25: =IF($B24="","",výpočty!K25) | M25: =IF($B24="","",výpočty!M25) | N25: =IF($B24="","",výpočty!N25)
A26: =IF(startovka!A26="","",startovka!A26) | B26: =IF(startovka!B26="","",startovka!B26) | C26: =IF($B26="","",výpočty!C26) | D26: =IF($B26="","",výpočty!D26) | E26: =IF($B26="","",výpočty!E26) | F26: =IF($B26="","",výpočty!F26) | G26: =IF($B26="","",výpočty!G26) | H26: =IF($B26="","",výpočty!H26) | I26: =IF($B26="","",výpočty!I26) | J26: =IF($B26="","",výpočty!J26) | ... Q26: =IF($B26="","",výpočty!Q26)
C27: =IF($B26="","",výpočty!C27) | E27: =IF($B26="","",výpočty!E27) | F27: =IF($B26="","",výpočty!F27) | H27: =IF($B26="","",výpočty!H27) | J27: =IF($B26="","",výpočty!J27) | K27: =IF($B26="","",výpočty!K27) | M27: =IF($B26="","",výpočty!M27) | N27: =IF($B26="","",výpočty!N27)
A28: =IF(startovka!A28="","",startovka!A28) | B28: =IF(startovka!B28="","",startovka!B28) | C28: =IF($B28="","",výpočty!C28) | D28: =IF($B28="","",výpočty!D28) | E28: =IF($B28="","",výpočty!E28) | F28: =IF($B28="","",výpočty!F28) | G28: =IF($B28="","",výpočty!G28) | H28: =IF($B28="","",výpočty!H28) | I28: =IF($B28="","",výpočty!I28) | J28: =IF($B28="","",výpočty!J28) | ... Q28: =IF($B28="","",výpočty!Q28)
C29: =IF($B28="","",výpočty!C29) | E29: =IF($B28="","",výpočty!E29) | F29: =IF($B28="","",výpočty!F29) | H29: =IF($B28="","",výpočty!H29) | J29: =IF($B28="","",výpočty!J29) | K29: =IF($B28="","",výpočty!K29) | M29: =IF($B28="","",výpočty!M29) | N29: =IF($B28="","",výpočty!N29)
A30: =IF(startovka!A30="","",startovka!A30) | B30: =IF(startovka!B30="","",startovka!B30) | C30: =IF($B30="","",výpočty!C30) | D30: =IF($B30="","",výpočty!D30) | E30: =IF($B30="","",výpočty!E30) | F30: =IF($B30="","",výpočty!F30) | G30: =IF($B30="","",výpočty!G30) | H30: =IF($B30="","",výpočty!H30) | I30: =IF($B30="","",výpočty!I30) | J30: =IF($B30="","",výpočty!J30) | ... Q30: =IF($B30="","",výpočty!Q30)
C31: =IF($B30="","",výpočty!C31) | E31: =IF($B30="","",výpočty!E31) | F31: =IF($B30="","",výpočty!F31) | H31: =IF($B30="","",výpočty!H31) | J31: =IF($B30="","",výpočty!J31) | K31: =IF($B30="","",výpočty!K31) | M31: =IF($B30="","",výpočty!M31) | N31: =IF($B30="","",výpočty!N31)
A32: =IF(startovka!A32="","",startovka!A32) | B32: =IF(startovka!B32="","",startovka!B32) | C32: =IF($B32="","",výpočty!C32) | D32: =IF($B32="","",výpočty!D32) | E32: =IF($B32="","",výpočty!E32) | F32: =IF($B32="","",výpočty!F32) | G32: =IF($B32="","",výpočty!G32) | H32: =IF($B32="","",výpočty!H32) | I32: =IF($B32="","",výpočty!I32) | J32: =IF($B32="","",výpočty!J32) | ... Q32: =IF($B32="","",výpočty!Q32)
C33: =IF($B32="","",výpočty!C33) | E33: =IF($B32="","",výpočty!E33) | F33: =IF($B32="","",výpočty!F33) | H33: =IF($B32="","",výpočty!H33) | J33: =IF($B32="","",výpočty!J33) | K33: =IF($B32="","",výpočty!K33) | M33: =IF($B32="","",výpočty!M33) | N33: =IF($B32="","",výpočty!N33)
A34: =IF(startovka!A34="","",startovka!A34) | B34: =IF(startovka!B34="","",startovka!B34) | C34: =IF($B34="","",výpočty!C34) | D34: =IF($B34="","",výpočty!D34) | E34: =IF($B34="","",výpočty!E34) | F34: =IF($B34="","",výpočty!F34) | G34: =IF($B34="","",výpočty!G34) | H34: =IF($B34="","",výpočty!H34) | I34: =IF($B34="","",výpočty!I34) | J34: =IF($B34="","",výpočty!J34) | ... Q34: =IF($B34="","",výpočty!Q34)
C35: =IF($B34="","",výpočty!C35) | E35: =IF($B34="","",výpočty!E35) | F35: =IF($B34="","",výpočty!F35) | H35: =IF($B34="","",výpočty!H35) | J35: =IF($B34="","",výpočty!J35) | K35: =IF($B34="","",výpočty!K35) | M35: =IF($B34="","",výpočty!M35) | N35: =IF($B34="","",výpočty!N35)
